BEGIN:VCALENDAR
VERSION:2.0
PRODID:-//PsalmFM - ECPv6.15.20//NONSGML v1.0//EN
CALSCALE:GREGORIAN
METHOD:PUBLISH
X-WR-CALNAME:PsalmFM
X-ORIGINAL-URL:https://psalmfm.org
X-WR-CALDESC:Events for PsalmFM
REFRESH-INTERVAL;VALUE=DURATION:PT1H
X-Robots-Tag:noindex
X-PUBLISHED-TTL:PT1H
BEGIN:VTIMEZONE
TZID:UTC
BEGIN:STANDARD
TZOFFSETFROM:+0000
TZOFFSETTO:+0000
TZNAME:UTC
DTSTART:20240101T000000
END:STANDARD
END:VTIMEZONE
BEGIN:VEVENT
DTSTART;TZID=UTC:20251021T180000
DTEND;TZID=UTC:20251021T200000
DTSTAMP:20260424T001608
CREATED:20251003T215738Z
LAST-MODIFIED:20251021T165702Z
UID:12108-1761069600-1761076800@psalmfm.org
SUMMARY:Bearing Witness: Holocaust Education & Survivor Testimony
DESCRIPTION:You are invited to hear from Nate Leipciger\, a 97 year old survivor of Auschitz-Birkenau and a lifelong advocate for Holocaust education. His powerful personal testimony is a rare opportunity to bear witness to these dark days and together declare\, “Never again.” \nBefore Nate’s testimony\, Friends of Simon Wiesenthal Center will present their powerful workshop-Lessons and Legacies of the Holocaust\, exploring the history and ongoing relevance of the Holocaust in today’s world. \nTuesday\, October 21st 6-8pm at the Townshend Theatre on Fort Frances Ontario \nFor more information\, please contact 807-274-7891 or museum@fortfrances.ca
URL:https://psalmfm.org/event/bearing-witness-holocaust-education-survivor-testimony/
END:VEVENT
END:VCALENDAR