BEGIN:VCALENDAR
VERSION:2.0
PRODID:-//PsalmFM - ECPv6.15.20//NONSGML v1.0//EN
CALSCALE:GREGORIAN
METHOD:PUBLISH
X-ORIGINAL-URL:https://psalmfm.org
X-WR-CALDESC:Events for PsalmFM
REFRESH-INTERVAL;VALUE=DURATION:PT1H
X-Robots-Tag:noindex
X-PUBLISHED-TTL:PT1H
BEGIN:VTIMEZONE
TZID:UTC
BEGIN:STANDARD
TZOFFSETFROM:+0000
TZOFFSETTO:+0000
TZNAME:UTC
DTSTART:20240101T000000
END:STANDARD
END:VTIMEZONE
BEGIN:VEVENT
DTSTART;TZID=UTC:20251024T190000
DTEND;TZID=UTC:20251024T210000
DTSTAMP:20260424T001736
CREATED:20250911T183008Z
LAST-MODIFIED:20250911T183008Z
UID:11562-1761332400-1761339600@psalmfm.org
SUMMARY:Jason Crabb & Presence Music Concert- Grace Bible Chapel
DESCRIPTION:Join Grammy-winning gospel artist Jason Crabb for an unforgettable night of music and ministry on Friday October 24\, 2025\, at 7pm at Grace Bible Chapel in Grand Rapids\, MN. Known for his powerful voice and heartfelt performances\, Jason brings an evening of inspiration and soul-stirring worship you won’t want to miss. The evening will kick off with Minnesota favorite Presence Music Band. Tickets are $20 and are available at jasoncrabb.com and Sonshine Detail Center.
URL:https://psalmfm.org/event/jason-crabb-presence-music-concert-grace-bible-chapel/
END:VEVENT
END:VCALENDAR