BEGIN:VCALENDAR
VERSION:2.0
PRODID:-//PsalmFM - ECPv6.15.20//NONSGML v1.0//EN
CALSCALE:GREGORIAN
METHOD:PUBLISH
X-WR-CALNAME:PsalmFM
X-ORIGINAL-URL:https://psalmfm.org
X-WR-CALDESC:Events for PsalmFM
REFRESH-INTERVAL;VALUE=DURATION:PT1H
X-Robots-Tag:noindex
X-PUBLISHED-TTL:PT1H
BEGIN:VTIMEZONE
TZID:UTC
BEGIN:STANDARD
TZOFFSETFROM:+0000
TZOFFSETTO:+0000
TZNAME:UTC
DTSTART:20240101T000000
END:STANDARD
END:VTIMEZONE
BEGIN:VEVENT
DTSTART;TZID=UTC:20251104T090000
DTEND;TZID=UTC:20251104T150000
DTSTAMP:20260423T225403
CREATED:20251029T164119Z
LAST-MODIFIED:20251029T164836Z
UID:12157-1762246800-1762268400@psalmfm.org
SUMMARY:Bloodmobile- Mt Iron
DESCRIPTION:Tuesday\, November 04\, 2025 \n09:00 am – 03:00 pm \nMountain Iron Buhl High School \n5529 Emerald Ave. \nMountain Iron\, MN 55768 \n\nPrimary Blood Drive Coordinator:\nMaddy Johnson\nEmail: 26JohMad@isd712.org\nPhone: 218-735-8216 \nGo to mbc.org for more information
URL:https://psalmfm.org/event/bloodmobile-mt-iron-2/
END:VEVENT
END:VCALENDAR