BEGIN:VCALENDAR
VERSION:2.0
PRODID:-//PsalmFM - ECPv6.15.20//NONSGML v1.0//EN
CALSCALE:GREGORIAN
METHOD:PUBLISH
X-WR-CALNAME:PsalmFM
X-ORIGINAL-URL:https://psalmfm.org
X-WR-CALDESC:Events for PsalmFM
REFRESH-INTERVAL;VALUE=DURATION:PT1H
X-Robots-Tag:noindex
X-PUBLISHED-TTL:PT1H
BEGIN:VTIMEZONE
TZID:UTC
BEGIN:STANDARD
TZOFFSETFROM:+0000
TZOFFSETTO:+0000
TZNAME:UTC
DTSTART:20240101T000000
END:STANDARD
END:VTIMEZONE
BEGIN:VEVENT
DTSTART;TZID=UTC:20251106T090000
DTEND;TZID=UTC:20251106T130000
DTSTAMP:20260423T225342
CREATED:20241104T173253Z
LAST-MODIFIED:20251028T170007Z
UID:10196-1762419600-1762434000@psalmfm.org
SUMMARY:Rainy Lake Medical Center Auxiliary Bake and Craft Sale
DESCRIPTION:The Rainy Lake Medical Center Auxiliary Annual Bake and Craft Sale will be Thursday\, November 6th from 9-1 in the Riverbend Room\, located at the end of the clinic hallway. If you would like to donate baked goods or make a monetary donation\, please call the Auxiliary Gift Shop at 218-283-5403.
URL:https://psalmfm.org/event/rainy-lake-medical-center-auxiliary-bake-and-craft-sale/
END:VEVENT
BEGIN:VEVENT
DTSTART;TZID=UTC:20251106T090000
DTEND;TZID=UTC:20251106T170000
DTSTAMP:20260423T225342
CREATED:20251029T171150Z
LAST-MODIFIED:20251029T171150Z
UID:12175-1762419600-1762448400@psalmfm.org
SUMMARY:Bloodmobile- Grand Rapids
DESCRIPTION:Thursday\, November 06\, 2025 \n09:00 am – 05:00 pm \nYMCA \n400 River Rd\nGrand Rapids\, MN 55744 \nPrimary Blood Drive Coordinator: \nLori Whitted\nEmail: lori@eldercircle.org\nPhone: 218-999-9233 ext 278 \nGo to mbc.org for more information
URL:https://psalmfm.org/event/bloodmobile-grand-rapids-44/
END:VEVENT
END:VCALENDAR