BEGIN:VCALENDAR
VERSION:2.0
PRODID:-//PsalmFM - ECPv6.15.20//NONSGML v1.0//EN
CALSCALE:GREGORIAN
METHOD:PUBLISH
X-ORIGINAL-URL:https://psalmfm.org
X-WR-CALDESC:Events for PsalmFM
REFRESH-INTERVAL;VALUE=DURATION:PT1H
X-Robots-Tag:noindex
X-PUBLISHED-TTL:PT1H
BEGIN:VTIMEZONE
TZID:UTC
BEGIN:STANDARD
TZOFFSETFROM:+0000
TZOFFSETTO:+0000
TZNAME:UTC
DTSTART:20240101T000000
END:STANDARD
END:VTIMEZONE
BEGIN:VEVENT
DTSTART;TZID=UTC:20251117T113000
DTEND;TZID=UTC:20251117T180000
DTSTAMP:20260423T225557
CREATED:20251029T170955Z
LAST-MODIFIED:20251029T170955Z
UID:12173-1763379000-1763402400@psalmfm.org
SUMMARY:Bloodmobile- Grand Rapids
DESCRIPTION:Monday\, November 17\, 2025 \n11:30 am – 06:00 pm \nGrand Rapids Essentia Clinic \n1542 Golf Course Road\nSuite 203\nParking Lot\nGrand Rapids\, MN 55744 \nPrimary Blood Drive Coordinator: \nKarrin Krall\nEmail: karrin.krall@essentiahealth.org\nPhone: 218-246-4518 \nGo to mbc.org for more information
URL:https://psalmfm.org/event/bloodmobile-grand-rapids-43/
END:VEVENT
END:VCALENDAR