BEGIN:VCALENDAR
VERSION:2.0
PRODID:-//PsalmFM - ECPv6.15.20//NONSGML v1.0//EN
CALSCALE:GREGORIAN
METHOD:PUBLISH
X-ORIGINAL-URL:https://psalmfm.org
X-WR-CALDESC:Events for PsalmFM
REFRESH-INTERVAL;VALUE=DURATION:PT1H
X-Robots-Tag:noindex
X-PUBLISHED-TTL:PT1H
BEGIN:VTIMEZONE
TZID:UTC
BEGIN:STANDARD
TZOFFSETFROM:+0000
TZOFFSETTO:+0000
TZNAME:UTC
DTSTART:20240101T000000
END:STANDARD
END:VTIMEZONE
BEGIN:VEVENT
DTSTART;TZID=UTC:20251120T100000
DTEND;TZID=UTC:20251120T140000
DTSTAMP:20260423T225627
CREATED:20251029T171402Z
LAST-MODIFIED:20251029T171402Z
UID:12179-1763632800-1763647200@psalmfm.org
SUMMARY:Bloodmobile- Cohasset
DESCRIPTION:Thursday\, November 20\, 2025 \n10:00 am – 02:00 pm \nBoswell Energy Center \n1210 NW 3rd St\nCohasset\, MN 55721 \nPrimary Blood Drive Coordinator: \nMelissa Adams\nEmail: madams@mnpower.com\nPhone: 218-313-4276 \nGo to mbc.org for more information
URL:https://psalmfm.org/event/bloodmobile-cohasset-7/
END:VEVENT
END:VCALENDAR