BEGIN:VCALENDAR
VERSION:2.0
PRODID:-//PsalmFM - ECPv6.15.20//NONSGML v1.0//EN
CALSCALE:GREGORIAN
METHOD:PUBLISH
X-ORIGINAL-URL:https://psalmfm.org
X-WR-CALDESC:Events for PsalmFM
REFRESH-INTERVAL;VALUE=DURATION:PT1H
X-Robots-Tag:noindex
X-PUBLISHED-TTL:PT1H
BEGIN:VTIMEZONE
TZID:UTC
BEGIN:STANDARD
TZOFFSETFROM:+0000
TZOFFSETTO:+0000
TZNAME:UTC
DTSTART:20240101T000000
END:STANDARD
END:VTIMEZONE
BEGIN:VEVENT
DTSTART;TZID=UTC:20251124T090000
DTEND;TZID=UTC:20251124T150000
DTSTAMP:20260423T225627
CREATED:20251029T164229Z
LAST-MODIFIED:20251029T164853Z
UID:12159-1763974800-1763996400@psalmfm.org
SUMMARY:Bloodmobile- HIbbing
DESCRIPTION:Monday\, November 24\, 2025 \n09:00 am – 03:00 pm \nFairview Range Medical Center \n750 E 34th St\nHibbing\, MN 55746 \nPrimary Blood Drive Coordinator: \nTracy Severson\nEmail: Tracy.Severson@fairview.org\nPhone: 218-362-6396 \nGo to mbc.org for more information
URL:https://psalmfm.org/event/bloodmobile-hibbing-4/
END:VEVENT
BEGIN:VEVENT
DTSTART;TZID=UTC:20251124T100000
DTEND;TZID=UTC:20251124T160000
DTSTAMP:20260423T225627
CREATED:20251029T163756Z
LAST-MODIFIED:20251029T164759Z
UID:12153-1763978400-1764000000@psalmfm.org
SUMMARY:Bloodmobile- Aurora
DESCRIPTION:Monday\, November 24\, 2025 \n10:00 am – 4:00 pm \nWhite Community Hospital Foundation Community Center \n15 W. 1st Street N. \nAurora\, MN 55705 \nPrimary Blood Drive Coordinator: \nBob Rutka\nEmail: robertrutka@hotmail.com\nPhone: 218-368-1249 \n  \nGo to mbc.org for more information
URL:https://psalmfm.org/event/bloodmobile-aurora-13/
END:VEVENT
BEGIN:VEVENT
DTSTART;TZID=UTC:20251124T183000
DTEND;TZID=UTC:20251124T200000
DTSTAMP:20260423T225627
CREATED:20250904T181037Z
LAST-MODIFIED:20251021T150728Z
UID:11516-1764009000-1764014400@psalmfm.org
SUMMARY:Women Growing Together @ ECC Ifalls
DESCRIPTION:Join the Evangelical Covenant Church in Ifalls for their monthly Women Growing Together event on Monday\, November 24th starting at 6:30. Speaker will be Ashley Kingsheim. All women are invited to attend these special Mondays.
URL:https://psalmfm.org/event/women-growing-together-ecc-ifalls/
END:VEVENT
END:VCALENDAR