BEGIN:VCALENDAR
VERSION:2.0
PRODID:-//PsalmFM - ECPv6.15.20//NONSGML v1.0//EN
CALSCALE:GREGORIAN
METHOD:PUBLISH
X-WR-CALNAME:PsalmFM
X-ORIGINAL-URL:https://psalmfm.org
X-WR-CALDESC:Events for PsalmFM
REFRESH-INTERVAL;VALUE=DURATION:PT1H
X-Robots-Tag:noindex
X-PUBLISHED-TTL:PT1H
BEGIN:VTIMEZONE
TZID:UTC
BEGIN:STANDARD
TZOFFSETFROM:+0000
TZOFFSETTO:+0000
TZNAME:UTC
DTSTART:20240101T000000
END:STANDARD
END:VTIMEZONE
BEGIN:VEVENT
DTSTART;TZID=UTC:20251125T093000
DTEND;TZID=UTC:20251125T160000
DTSTAMP:20260423T225401
CREATED:20251029T171659Z
LAST-MODIFIED:20251029T171659Z
UID:12181-1764063000-1764086400@psalmfm.org
SUMMARY:Bloodmobile- Grand Rapids
DESCRIPTION:Tuesday\, November 25\, 2025 \n09:30 am – 04:00 pm \nGrand Rapids High School \n800 Conifer Drive\nGrand Rapids\, MN 55744 \nPrimary Blood Drive Coordinator: \nKatie Thunshelle\nEmail: kthunshelle@isd318.org\nPhone: 218-327-5760 ext 41521 \nGo to mbc.org for more information
URL:https://psalmfm.org/event/bloodmobile-grand-rapids-46/
END:VEVENT
END:VCALENDAR