BEGIN:VCALENDAR
VERSION:2.0
PRODID:-//PsalmFM - ECPv6.15.20//NONSGML v1.0//EN
CALSCALE:GREGORIAN
METHOD:PUBLISH
X-ORIGINAL-URL:https://psalmfm.org
X-WR-CALDESC:Events for PsalmFM
REFRESH-INTERVAL;VALUE=DURATION:PT1H
X-Robots-Tag:noindex
X-PUBLISHED-TTL:PT1H
BEGIN:VTIMEZONE
TZID:UTC
BEGIN:STANDARD
TZOFFSETFROM:+0000
TZOFFSETTO:+0000
TZNAME:UTC
DTSTART:20240101T000000
END:STANDARD
END:VTIMEZONE
BEGIN:VEVENT
DTSTART;TZID=UTC:20251204T100000
DTEND;TZID=UTC:20251204T110000
DTSTAMP:20260423T212545
CREATED:20221219T154632Z
LAST-MODIFIED:20251121T191820Z
UID:6721-1764842400-1764846000@psalmfm.org
SUMMARY:Bingo- GR YMCA
DESCRIPTION:There is FREE Bingo every Thursday from 10:00-11:00am in the Active Living Center located at the Itasca Family YMCA\, 400 River Road in Grand Rapids. Please arrive prior to 10:00 am to receive your bingo card.
URL:https://psalmfm.org/event/bingo-gr-ymca-2/
END:VEVENT
END:VCALENDAR