BEGIN:VCALENDAR
VERSION:2.0
PRODID:-//PsalmFM - ECPv6.15.20//NONSGML v1.0//EN
CALSCALE:GREGORIAN
METHOD:PUBLISH
X-ORIGINAL-URL:https://psalmfm.org
X-WR-CALDESC:Events for PsalmFM
REFRESH-INTERVAL;VALUE=DURATION:PT1H
X-Robots-Tag:noindex
X-PUBLISHED-TTL:PT1H
BEGIN:VTIMEZONE
TZID:UTC
BEGIN:STANDARD
TZOFFSETFROM:+0000
TZOFFSETTO:+0000
TZNAME:UTC
DTSTART:20240101T000000
END:STANDARD
END:VTIMEZONE
BEGIN:VEVENT
DTSTART;TZID=UTC:20251214T150000
DTEND;TZID=UTC:20251214T163000
DTSTAMP:20260423T212559
CREATED:20241129T154627Z
LAST-MODIFIED:20251201T171544Z
UID:10345-1765724400-1765729800@psalmfm.org
SUMMARY:Carols & Candles @ Bemidji Evangelical Covenant Church
DESCRIPTION:Carols & Candles Christmas Concert featuring pianist Lois Simonson and the Bemidji Covenant Churches instrumentalists\, will be held at the Bemidji Covenant Church\, across from the Bemidji 10 Theatre on Hwy #2\, on Sunday\, December 14th at 3PM. The concert features many Christmas carols\, plus a sing-a-long time. Gifts of food or an offering will be available at the entrance of the church to be given to the Bemidji Community Food Shelf and would be appreciated if you are able. Come join them in celebrating the Christmas Season.
URL:https://psalmfm.org/event/carols-candles-bemidji-evangelical-covenant-church/
END:VEVENT
END:VCALENDAR