BEGIN:VCALENDAR
VERSION:2.0
PRODID:-//PsalmFM - ECPv6.15.20//NONSGML v1.0//EN
CALSCALE:GREGORIAN
METHOD:PUBLISH
X-ORIGINAL-URL:https://psalmfm.org
X-WR-CALDESC:Events for PsalmFM
REFRESH-INTERVAL;VALUE=DURATION:PT1H
X-Robots-Tag:noindex
X-PUBLISHED-TTL:PT1H
BEGIN:VTIMEZONE
TZID:UTC
BEGIN:STANDARD
TZOFFSETFROM:+0000
TZOFFSETTO:+0000
TZNAME:UTC
DTSTART:20240101T000000
END:STANDARD
END:VTIMEZONE
BEGIN:VEVENT
DTSTART;TZID=UTC:20251217T080000
DTEND;TZID=UTC:20251217T170000
DTSTAMP:20260423T212637
CREATED:20251211T154223Z
LAST-MODIFIED:20251211T154223Z
UID:12280-1765958400-1765990800@psalmfm.org
SUMMARY:Ifalls Transfer Station Brush Burning
DESCRIPTION:Public Notice \nKoochiching County Environmental Services will be burning the brush piles at the Transfer Station Complex in International Falls. The burning will begin on Wednesday December 17th as the weather permits. They hope to have it completed in a few days. They will do their best to keep the smoke to a minimum but if you encounter smoke while driving through the area\, please use caution. They apologize for any inconvenience this may cause.
URL:https://psalmfm.org/event/ifalls-transfer-station-brush-burning/
END:VEVENT
END:VCALENDAR