BEGIN:VCALENDAR
VERSION:2.0
PRODID:-//PsalmFM - ECPv6.15.20//NONSGML v1.0//EN
CALSCALE:GREGORIAN
METHOD:PUBLISH
X-ORIGINAL-URL:https://psalmfm.org
X-WR-CALDESC:Events for PsalmFM
REFRESH-INTERVAL;VALUE=DURATION:PT1H
X-Robots-Tag:noindex
X-PUBLISHED-TTL:PT1H
BEGIN:VTIMEZONE
TZID:UTC
BEGIN:STANDARD
TZOFFSETFROM:+0000
TZOFFSETTO:+0000
TZNAME:UTC
DTSTART:20240101T000000
END:STANDARD
END:VTIMEZONE
BEGIN:VEVENT
DTSTART;TZID=UTC:20251219T180000
DTEND;TZID=UTC:20251220T200000
DTSTAMP:20260423T212600
CREATED:20251205T155212Z
LAST-MODIFIED:20251205T155712Z
UID:12264-1766167200-1766260800@psalmfm.org
SUMMARY:Iron Range Renewal Christmas Services
DESCRIPTION:Iron Range Renewal Christmas Services \nIron Range Renewal is excited to partner with North Wind Church (Keewatin)\, Rockwell Church (Virginia)\, and Mesabi Range Youth for Christ to bring the communities together with two special Christmas worship evenings. Each night will feature joyful Christmas music\, community connection\, and a heartfelt celebration of the birth of Christ. \nAttend one night or join them for both from 6-8pm both nights—everyone is welcome! \nFriday\, December 19th at the North Wind Church located at 103 N 1st St in Keewatin. \nSaturday\, December 20th at Rockwell Church located at 93 Midway Dr in Virginia. \n 
URL:https://psalmfm.org/event/iron-range-renewal-christmas-services/
END:VEVENT
END:VCALENDAR