BEGIN:VCALENDAR
VERSION:2.0
PRODID:-//PsalmFM - ECPv6.15.20//NONSGML v1.0//EN
CALSCALE:GREGORIAN
METHOD:PUBLISH
X-WR-CALNAME:PsalmFM
X-ORIGINAL-URL:https://psalmfm.org
X-WR-CALDESC:Events for PsalmFM
REFRESH-INTERVAL;VALUE=DURATION:PT1H
X-Robots-Tag:noindex
X-PUBLISHED-TTL:PT1H
BEGIN:VTIMEZONE
TZID:UTC
BEGIN:STANDARD
TZOFFSETFROM:+0000
TZOFFSETTO:+0000
TZNAME:UTC
DTSTART:20240101T000000
END:STANDARD
END:VTIMEZONE
BEGIN:VEVENT
DTSTART;TZID=UTC:20251221T080000
DTEND;TZID=UTC:20251221T170000
DTSTAMP:20260423T212408
CREATED:20251203T160156Z
LAST-MODIFIED:20251217T164153Z
UID:12253-1766304000-1766336400@psalmfm.org
SUMMARY:Adopt a Resident- Ifalls Good Samaritan
DESCRIPTION:Be a blessing and adopt a resident. \nThe angel tree is located at the main entrance of the Good Samaritan Society\, located at 2201 Keenan Drive. \nPlease attach tag to gift when returning. \nPlease have gifts dropped off by December 21st.
URL:https://psalmfm.org/event/adopt-a-resident-ifalls-good-samaritan/
END:VEVENT
BEGIN:VEVENT
DTSTART;TZID=UTC:20251221T103000
DTEND;TZID=UTC:20251221T120000
DTSTAMP:20260423T212408
CREATED:20251124T142312Z
LAST-MODIFIED:20251124T142312Z
UID:12231-1766313000-1766318400@psalmfm.org
SUMMARY:West Cohasset Chapel Christmas Service
DESCRIPTION:West Cohasset Chapel welcome all to join them in worship as they celebrate the birth of our Lord and Savior\, Jesus Christ for their Christmas Service on December 21st starting at 10:30am. \nNursery care is provided for children ages 0-3\, and children’s church ages 3 – Kindergarten. \nThey’re located at 24650 State Hwy 6\, in Cohasset\, just one mile north of Hwy 63 and six miles south of Hwy 2.
URL:https://psalmfm.org/event/west-cohasset-chapel-christmas-service/
END:VEVENT
END:VCALENDAR