BEGIN:VCALENDAR
VERSION:2.0
PRODID:-//PsalmFM - ECPv6.15.20//NONSGML v1.0//EN
CALSCALE:GREGORIAN
METHOD:PUBLISH
X-WR-CALNAME:PsalmFM
X-ORIGINAL-URL:https://psalmfm.org
X-WR-CALDESC:Events for PsalmFM
REFRESH-INTERVAL;VALUE=DURATION:PT1H
X-Robots-Tag:noindex
X-PUBLISHED-TTL:PT1H
BEGIN:VTIMEZONE
TZID:UTC
BEGIN:STANDARD
TZOFFSETFROM:+0000
TZOFFSETTO:+0000
TZNAME:UTC
DTSTART:20240101T000000
END:STANDARD
END:VTIMEZONE
BEGIN:VEVENT
DTSTART;VALUE=DATE:20251224
DTEND;VALUE=DATE:20251225
DTSTAMP:20260423T212325
CREATED:20251217T140227Z
LAST-MODIFIED:20251217T141816Z
UID:12290-1766534400-1766620799@psalmfm.org
SUMMARY:Christmas Eve Services - Canada
DESCRIPTION:All are welcome at the following church services on Wednesday\, Dec. 24: \nNew Beginnings Fellowship (1301 Mill Rd\, Fort Frances) – 5 p.m. \nRainy River Covenant Church – 6 p.m.
URL:https://psalmfm.org/event/christmas-eve-services-canada/
END:VEVENT
BEGIN:VEVENT
DTSTART;TZID=UTC:20251224T150000
DTEND;TZID=UTC:20251224T200000
DTSTAMP:20260423T212325
CREATED:20251217T180958Z
LAST-MODIFIED:20251222T163718Z
UID:12294-1766588400-1766606400@psalmfm.org
SUMMARY:Christmas Eve Services
DESCRIPTION:Northome Community Church- 7:00 pm-CANDLELIGHT CHRISTMAS EVE WORSHIP\nFamily friendly Reading and Caroling through the Christmas Story\n\nChisholm Baptist Church- 3 and 4:30pm\n\nNorth Star Church of Hibbing- 4pm\n\nEvangelical Free Church of Bemidji-5:30pm- Festival of Nine Lessons and Carols\, featuring scripture readings and carols\, choir\, youth band\, handbells\, a special children’s story time and a chalk drawing. Nursery is provided. Located on the corner of Carr Lake Rd SW and Hwy 197 just a mile South of Lueken’s South.\n\nGrand Rapids Assembly of God- 4:30pm\n\n\nGrace Bible Chapel of Grand Rapids-4:30-5:30pm. Bring the whole family out and celebrate the birth of Jesus with us as we sing Christmas carols and hear more about the hope\, peace\, joy\, and love that our Savior brings! \n\nWoodland Bible Church\, Warroad- 5pm\n\nOur Redeemer Lutheran Church\, Cohasset- 4 and 6:30pm\n\nGrand Rapids Evangelical Free Church- 3:30 and 5pm\n\nCrane Lake Chapel -candlelight service at 4 PM \n\nEvangelical Free Church of Embarrass- 5-6:30pm
URL:https://psalmfm.org/event/christmas-eve-services/
END:VEVENT
BEGIN:VEVENT
DTSTART;TZID=UTC:20251224T160000
DTEND;TZID=UTC:20251224T173000
DTSTAMP:20260423T212325
CREATED:20251124T141745Z
LAST-MODIFIED:20251124T141745Z
UID:12229-1766592000-1766597400@psalmfm.org
SUMMARY:Christmas Eve at CoHaus
DESCRIPTION:Join West Cohasset Chapel for their Christmas Eve Service at CoHaus (423 NE 6th Ave) in Grand Rapids on December 24th starting at 4pm. \nThis event is free and open to all. After a special candlelight Christmas service\, refreshments and cookies will be served. Bring your family and friends!
URL:https://psalmfm.org/event/christmas-eve-at-cohaus/
END:VEVENT
END:VCALENDAR