BEGIN:VCALENDAR
VERSION:2.0
PRODID:-//PsalmFM - ECPv6.15.20//NONSGML v1.0//EN
CALSCALE:GREGORIAN
METHOD:PUBLISH
X-WR-CALNAME:PsalmFM
X-ORIGINAL-URL:https://psalmfm.org
X-WR-CALDESC:Events for PsalmFM
REFRESH-INTERVAL;VALUE=DURATION:PT1H
X-Robots-Tag:noindex
X-PUBLISHED-TTL:PT1H
BEGIN:VTIMEZONE
TZID:UTC
BEGIN:STANDARD
TZOFFSETFROM:+0000
TZOFFSETTO:+0000
TZNAME:UTC
DTSTART:20250101T000000
END:STANDARD
END:VTIMEZONE
BEGIN:VEVENT
DTSTART;TZID=UTC:20260116T090000
DTEND;TZID=UTC:20260116T150000
DTSTAMP:20260423T200222
CREATED:20260108T183446Z
LAST-MODIFIED:20260108T183446Z
UID:12373-1768554000-1768575600@psalmfm.org
SUMMARY:Bloodmobile- Hibbing
DESCRIPTION:Friday\, January 16\, 2026 \n09:00 am – 03:00 pm \nHibbing High School \n800 East 21st Street\nHibbing\, MN 55746 \nPrimary Blood Drive Coordinator: \nEmily Erickson\nEmail: emileric@hibbing.k12.mn.us\nPhone: 218-208-0848
URL:https://psalmfm.org/event/bloodmobile-hibbing-6/
END:VEVENT
END:VCALENDAR