BEGIN:VCALENDAR
VERSION:2.0
PRODID:-//PsalmFM - ECPv6.15.20//NONSGML v1.0//EN
CALSCALE:GREGORIAN
METHOD:PUBLISH
X-ORIGINAL-URL:https://psalmfm.org
X-WR-CALDESC:Events for PsalmFM
REFRESH-INTERVAL;VALUE=DURATION:PT1H
X-Robots-Tag:noindex
X-PUBLISHED-TTL:PT1H
BEGIN:VTIMEZONE
TZID:UTC
BEGIN:STANDARD
TZOFFSETFROM:+0000
TZOFFSETTO:+0000
TZNAME:UTC
DTSTART:20250101T000000
END:STANDARD
END:VTIMEZONE
BEGIN:VEVENT
DTSTART;TZID=UTC:20260207T073000
DTEND;TZID=UTC:20260207T133000
DTSTAMP:20260423T184426
CREATED:20260121T155546Z
LAST-MODIFIED:20260121T155546Z
UID:12385-1770449400-1770471000@psalmfm.org
SUMMARY:No Regrets Men's Conference- Grand Rapids E Free Church
DESCRIPTION:All men\, teenage and older\, are invited to attend the 33rd annual No Regrets Men’s conference hosted by the Grand Rapids Evangelical Free Church on Saturday\, February 7th from 7:30am -1:30pm. Conference theme is Surrender\, based on Romans 12:1.\nEnjoy breakfast\, live praise and worship\, and join 20\,000 men worldwide livestream. World class speakers will address men’s topics which will renew\, challenge\, grow your faith and purpose to become the men of courage God intends you to be.\nCost is just $5. Registration on line is requested at GREFC.org/events. Tickets will be available at the door. Breakfast served at 7:30 with livestream starting at 8:00am.
URL:https://psalmfm.org/event/no-regrets-mens-conference-grand-rapids-e-free-church/
END:VEVENT
END:VCALENDAR