BEGIN:VCALENDAR
VERSION:2.0
PRODID:-//PsalmFM - ECPv6.15.20//NONSGML v1.0//EN
CALSCALE:GREGORIAN
METHOD:PUBLISH
X-ORIGINAL-URL:https://psalmfm.org
X-WR-CALDESC:Events for PsalmFM
REFRESH-INTERVAL;VALUE=DURATION:PT1H
X-Robots-Tag:noindex
X-PUBLISHED-TTL:PT1H
BEGIN:VTIMEZONE
TZID:UTC
BEGIN:STANDARD
TZOFFSETFROM:+0000
TZOFFSETTO:+0000
TZNAME:UTC
DTSTART:20250101T000000
END:STANDARD
END:VTIMEZONE
BEGIN:VEVENT
DTSTART;TZID=UTC:20260212T190000
DTEND;TZID=UTC:20260212T210000
DTSTAMP:20260423T184453
CREATED:20260102T135944Z
LAST-MODIFIED:20260107T181455Z
UID:12312-1770922800-1770930000@psalmfm.org
SUMMARY:Stars Go Dim: Roses Tour (Int'l Falls)
DESCRIPTION:Stars Go Dim: Roses Tour with Special Guests Evan Egerer and Presence Music. \nGet tickets and information at PsalmFM during business hours or online at https://psalmfm.org/stars-go-dim-roses-tour/ \n \n  \n  \n 
URL:https://psalmfm.org/event/stars-go-dim-roses-tour-intl-falls/
LOCATION:IFalls Evangelical Covenant Church\, 1631 1st Ave. East\, International Falls\, Mn
END:VEVENT
END:VCALENDAR