BEGIN:VCALENDAR
VERSION:2.0
PRODID:-//PsalmFM - ECPv6.15.20//NONSGML v1.0//EN
CALSCALE:GREGORIAN
METHOD:PUBLISH
X-WR-CALNAME:PsalmFM
X-ORIGINAL-URL:https://psalmfm.org
X-WR-CALDESC:Events for PsalmFM
REFRESH-INTERVAL;VALUE=DURATION:PT1H
X-Robots-Tag:noindex
X-PUBLISHED-TTL:PT1H
BEGIN:VTIMEZONE
TZID:UTC
BEGIN:STANDARD
TZOFFSETFROM:+0000
TZOFFSETTO:+0000
TZNAME:UTC
DTSTART:20250101T000000
END:STANDARD
END:VTIMEZONE
BEGIN:VEVENT
DTSTART;TZID=UTC:20260216T113000
DTEND;TZID=UTC:20260216T173000
DTSTAMP:20260423T184151
CREATED:20260128T171354Z
LAST-MODIFIED:20260128T171354Z
UID:12420-1771241400-1771263000@psalmfm.org
SUMMARY:Bloodmobile- Hibbing
DESCRIPTION:Memorial Blood Center Bloodmobile \nMonday\, February 16\, 2026 \n11:30 am – 5:30 pm \nFairview Range Medical Center \n750 E 34th St\nHibbing\, MN 55746 \nPrimary Blood Drive Coordinator: \nTracy Severson\nEmail: Tracy.Severson@fairview.org\nPhone: 218-362-6396 \nor go to www.mbcherohub.club to sign up
URL:https://psalmfm.org/event/bloodmobile-hibbing-7/
END:VEVENT
END:VCALENDAR