BEGIN:VCALENDAR
VERSION:2.0
PRODID:-//PsalmFM - ECPv6.15.20//NONSGML v1.0//EN
CALSCALE:GREGORIAN
METHOD:PUBLISH
X-WR-CALNAME:PsalmFM
X-ORIGINAL-URL:https://psalmfm.org
X-WR-CALDESC:Events for PsalmFM
REFRESH-INTERVAL;VALUE=DURATION:PT1H
X-Robots-Tag:noindex
X-PUBLISHED-TTL:PT1H
BEGIN:VTIMEZONE
TZID:UTC
BEGIN:STANDARD
TZOFFSETFROM:+0000
TZOFFSETTO:+0000
TZNAME:UTC
DTSTART:20250101T000000
END:STANDARD
END:VTIMEZONE
BEGIN:VEVENT
DTSTART;TZID=UTC:20260217T100000
DTEND;TZID=UTC:20260217T160000
DTSTAMP:20260423T184130
CREATED:20260128T171828Z
LAST-MODIFIED:20260128T171828Z
UID:12432-1771322400-1771344000@psalmfm.org
SUMMARY:Bloodmobile- Ely
DESCRIPTION:Memorial Blood Center Bloodmobile \nTuesday\, February 17\, 2026 \n10:00 am – 4:00 pm \nVermilion Community College \n1900 East Camp Street\nEly\, MN 55731 \nPrimary Blood Drive Coordinator: \nLouise Schmitt\nEmail: louise.schmitt@minnesotanorth.edu\nPhone: 218-235-2143 \n  \nor go to www.mbcherohub.club to sign up
URL:https://psalmfm.org/event/bloodmobile-ely-8/
END:VEVENT
END:VCALENDAR