BEGIN:VCALENDAR
VERSION:2.0
PRODID:-//PsalmFM - ECPv6.15.20//NONSGML v1.0//EN
CALSCALE:GREGORIAN
METHOD:PUBLISH
X-WR-CALNAME:PsalmFM
X-ORIGINAL-URL:https://psalmfm.org
X-WR-CALDESC:Events for PsalmFM
REFRESH-INTERVAL;VALUE=DURATION:PT1H
X-Robots-Tag:noindex
X-PUBLISHED-TTL:PT1H
BEGIN:VTIMEZONE
TZID:UTC
BEGIN:STANDARD
TZOFFSETFROM:+0000
TZOFFSETTO:+0000
TZNAME:UTC
DTSTART:20250101T000000
END:STANDARD
END:VTIMEZONE
BEGIN:VEVENT
DTSTART;TZID=UTC:20260221T160000
DTEND;TZID=UTC:20260221T190000
DTSTAMP:20260423T184226
CREATED:20260202T164406Z
LAST-MODIFIED:20260202T164406Z
UID:12449-1771689600-1771700400@psalmfm.org
SUMMARY:Birchdale Church Soup Supper
DESCRIPTION:A BIRCHDALE CONGREGATIONAL CHURCH SOUP SUPPER will be on Saturday\, Feb. 21 from 4-7 p.m. at the Birchdale Community Hall.\nJoin them for a cozy evening of fellowship\, homemade soups\, breads and pies!\nFreewill donation.
URL:https://psalmfm.org/event/birchdale-church-soup-supper/
END:VEVENT
END:VCALENDAR