BEGIN:VCALENDAR
VERSION:2.0
PRODID:-//PsalmFM - ECPv6.15.20//NONSGML v1.0//EN
CALSCALE:GREGORIAN
METHOD:PUBLISH
X-ORIGINAL-URL:https://psalmfm.org
X-WR-CALDESC:Events for PsalmFM
REFRESH-INTERVAL;VALUE=DURATION:PT1H
X-Robots-Tag:noindex
X-PUBLISHED-TTL:PT1H
BEGIN:VTIMEZONE
TZID:UTC
BEGIN:STANDARD
TZOFFSETFROM:+0000
TZOFFSETTO:+0000
TZNAME:UTC
DTSTART:20250101T000000
END:STANDARD
END:VTIMEZONE
BEGIN:VEVENT
DTSTART;TZID=UTC:20260223T090000
DTEND;TZID=UTC:20260227T160000
DTSTAMP:20260423T184417
CREATED:20260204T175008Z
LAST-MODIFIED:20260216T160547Z
UID:12457-1771837200-1772208000@psalmfm.org
SUMMARY:Artist Spotlight Series @ Backus Community Center
DESCRIPTION:The Backus Community Center is delighted to announce the launch of their Artist Spotlight Series—a celebration of creativity\, storytelling\, and the vibrant artistic spirit of our community. \nThey invite you to come see the art works and to share experiences with the artists. This series will offer a unique opportunity for people from our community to: \n\nDiscover and remember the talent of local artists of both past and present days\nLearn about the inspirations and processes behind creative works\nHear the personal stories that bring paintings\, sculptures\, and collections to life\n\n  \nNext Spotlight: Bruce Trask \n\nLocation: Backus Community Center Art Gallery (Room 101)\nViewing:  M – F\, February 23-27\, from 9:00 am – 4:00 pm\n\n 
URL:https://psalmfm.org/event/artist-spotlight-series-backus-community-center/
END:VEVENT
BEGIN:VEVENT
DTSTART;TZID=UTC:20260223T120000
DTEND;TZID=UTC:20260223T183000
DTSTAMP:20260423T184417
CREATED:20260128T171016Z
LAST-MODIFIED:20260128T171016Z
UID:12410-1771848000-1771871400@psalmfm.org
SUMMARY:Bloodmobile- Grand Rapids
DESCRIPTION:Memorial Blood Center Bloodmobile \nMonday\, February 23\, 2026 \n12:00 pm – 06:30 pm \nGrand Itasca Pro Building\n111 SE 3rd St.\nGrand Rapids\, MN 55744 \nPrimary Blood Drive Coordinator: \nHannah Chesness\nEmail: hchesne1@Fairview.org\nPhone: 218-999-1016 \nor go to www.mbcherohub.club to sign up
URL:https://psalmfm.org/event/bloodmobile-grand-rapids-51/
END:VEVENT
END:VCALENDAR