BEGIN:VCALENDAR
VERSION:2.0
PRODID:-//PsalmFM - ECPv6.15.20//NONSGML v1.0//EN
CALSCALE:GREGORIAN
METHOD:PUBLISH
X-ORIGINAL-URL:https://psalmfm.org
X-WR-CALDESC:Events for PsalmFM
REFRESH-INTERVAL;VALUE=DURATION:PT1H
X-Robots-Tag:noindex
X-PUBLISHED-TTL:PT1H
BEGIN:VTIMEZONE
TZID:UTC
BEGIN:STANDARD
TZOFFSETFROM:+0000
TZOFFSETTO:+0000
TZNAME:UTC
DTSTART:20250101T000000
END:STANDARD
END:VTIMEZONE
BEGIN:VEVENT
DTSTART;TZID=UTC:20260228T090000
DTEND;TZID=UTC:20260228T153000
DTSTAMP:20260423T171207
CREATED:20260211T182206Z
LAST-MODIFIED:20260217T164636Z
UID:12475-1772269200-1772292600@psalmfm.org
SUMMARY:IF: Emo 2026
DESCRIPTION:IF:Emo 2026 is a one-day women’s event hosted by Calvary Baptist Church and will be on Saturday\, February 28th from 9-3:30 at the Cornerstone Christian School in Emo. \nGo to emocbc.ca/events to find out more and to register.
URL:https://psalmfm.org/event/if-emo-2026/
END:VEVENT
END:VCALENDAR