BEGIN:VCALENDAR
VERSION:2.0
PRODID:-//PsalmFM - ECPv6.15.20//NONSGML v1.0//EN
CALSCALE:GREGORIAN
METHOD:PUBLISH
X-WR-CALNAME:PsalmFM
X-ORIGINAL-URL:https://psalmfm.org
X-WR-CALDESC:Events for PsalmFM
REFRESH-INTERVAL;VALUE=DURATION:PT1H
X-Robots-Tag:noindex
X-PUBLISHED-TTL:PT1H
BEGIN:VTIMEZONE
TZID:UTC
BEGIN:STANDARD
TZOFFSETFROM:+0000
TZOFFSETTO:+0000
TZNAME:UTC
DTSTART:20250101T000000
END:STANDARD
END:VTIMEZONE
BEGIN:VEVENT
DTSTART;TZID=UTC:20260307T083000
DTEND;TZID=UTC:20260307T120000
DTSTAMP:20260423T184105
CREATED:20260305T170525Z
LAST-MODIFIED:20260305T170525Z
UID:12559-1772872200-1772884800@psalmfm.org
SUMMARY:Bloodmobile- Embarrass
DESCRIPTION:Saturday\, March 07\, 2026 \n8:30 am – 12:00 pm \nERFA Timber Hall \n4855 Highway 21\nEmbarrass\, MN 55732 \nPrimary Blood Drive Coordinator: \nBonnie Overton\nEmail: bonnie_overton@yahoo.com\nPhone: 218-780-3058
URL:https://psalmfm.org/event/bloodmobile-embarrass-6/
END:VEVENT
END:VCALENDAR