BEGIN:VCALENDAR
VERSION:2.0
PRODID:-//PsalmFM - ECPv6.15.20//NONSGML v1.0//EN
CALSCALE:GREGORIAN
METHOD:PUBLISH
X-ORIGINAL-URL:https://psalmfm.org
X-WR-CALDESC:Events for PsalmFM
REFRESH-INTERVAL;VALUE=DURATION:PT1H
X-Robots-Tag:noindex
X-PUBLISHED-TTL:PT1H
BEGIN:VTIMEZONE
TZID:UTC
BEGIN:STANDARD
TZOFFSETFROM:+0000
TZOFFSETTO:+0000
TZNAME:UTC
DTSTART:20250101T000000
END:STANDARD
END:VTIMEZONE
BEGIN:VEVENT
DTSTART;TZID=UTC:20260309T080000
DTEND;TZID=UTC:20260313T170000
DTSTAMP:20260423T171146
CREATED:20230816T182503Z
LAST-MODIFIED:20260309T152655Z
UID:7876-1773043200-1773421200@psalmfm.org
SUMMARY:ElderCircle SAIL Schedule
DESCRIPTION:ElderCircle SAIL (Stay Active & Independent for Life) Schedule: \nFREE Fitness and Strength Building for Older Adults\n• Groups meet twice a week for 90 minutes.\n• New attendees may start at anytime.\n• Weights are provided.\n• iPads are available for check-out.\n• Please arrive 15 minutes prior to start time.\n• Please provide your own drinking water.\n• Registration is required. \nOnline via Zoom video conference\n• Tuesdays & Thursdays\, 9:00-10:30 am \nLive\, in-person sessions:\n• Bowstring Town Hall\n– Tuesdays & Thursdays\, 10:00 am-11:30 am\n• Deer River\, Bethany Lutheran Church\n– Mondays & Thursdays\, 10:30 am-12:00 pm\n• Hill City Fire Hall\nMondays & Wednesdays\, 9:00 – 10:30 am\n• International Falls\, Covenant Evangelical Church\n– Tuesdays & Thursdays\, 10:00 am-11:30 am\n• Jacobson Community Center\n– Monday\, Wednesday\, 10:30 am-12:00 pm\n• Wabana Town Hall\n– Tuesdays & Fridays\, 10:00 am-11:30 am\n* Calumet Library-\n-Tuesdays and Thursdays\, 9:00-10:30am\n* Grand Rapids Central Square Mall\, Suite 124\n-Tuesdays and Thursdays\, 9:00-10:30am
URL:https://psalmfm.org/event/eldercircle-sail-schedule/
END:VEVENT
BEGIN:VEVENT
DTSTART;TZID=UTC:20260309T110000
DTEND;TZID=UTC:20260310T190000
DTSTAMP:20260423T171146
CREATED:20240918T162929Z
LAST-MODIFIED:20260223T163801Z
UID:9929-1773054000-1773169200@psalmfm.org
SUMMARY:Clothesline Giveaway
DESCRIPTION:Monday\, March 9th from 11-7 \nTuesday\, March 10th from 11-3 \nEveryone welcome!\nFREE CLOTHING!\nAlso accepting donations during these times.\nFor more info please call Full Gospel Fellowship at: 218-283-2088
URL:https://psalmfm.org/event/clothesline-giveaway/
END:VEVENT
BEGIN:VEVENT
DTSTART;TZID=UTC:20260310T100000
DTEND;TZID=UTC:20260310T123000
DTSTAMP:20260423T171146
CREATED:20250911T190041Z
LAST-MODIFIED:20260304T174324Z
UID:11570-1773136800-1773145800@psalmfm.org
SUMMARY:Living Well with Diabetes- Grand Rapids
DESCRIPTION:Living Well with Diabetes helps participants with diabetes develop strategies to improve well-being and practical daily techniques to manage symptoms. \nThis free class will be Tuesdays from 10-12:30 from February 10th-March 17th. \nFor more information contact Danielle at ElderCircle 218-999-9233 ext 282. \n  \n 
URL:https://psalmfm.org/event/living-well-with-diabetes-virtual-workshop/
END:VEVENT
END:VCALENDAR