BEGIN:VCALENDAR
VERSION:2.0
PRODID:-//PsalmFM - ECPv6.15.20//NONSGML v1.0//EN
CALSCALE:GREGORIAN
METHOD:PUBLISH
X-ORIGINAL-URL:https://psalmfm.org
X-WR-CALDESC:Events for PsalmFM
REFRESH-INTERVAL;VALUE=DURATION:PT1H
X-Robots-Tag:noindex
X-PUBLISHED-TTL:PT1H
BEGIN:VTIMEZONE
TZID:UTC
BEGIN:STANDARD
TZOFFSETFROM:+0000
TZOFFSETTO:+0000
TZNAME:UTC
DTSTART:20250101T000000
END:STANDARD
END:VTIMEZONE
BEGIN:VEVENT
DTSTART;TZID=UTC:20260309T080000
DTEND;TZID=UTC:20260313T170000
DTSTAMP:20260423T184458
CREATED:20230816T182503Z
LAST-MODIFIED:20260309T152655Z
UID:7876-1773043200-1773421200@psalmfm.org
SUMMARY:ElderCircle SAIL Schedule
DESCRIPTION:ElderCircle SAIL (Stay Active & Independent for Life) Schedule: \nFREE Fitness and Strength Building for Older Adults\n• Groups meet twice a week for 90 minutes.\n• New attendees may start at anytime.\n• Weights are provided.\n• iPads are available for check-out.\n• Please arrive 15 minutes prior to start time.\n• Please provide your own drinking water.\n• Registration is required. \nOnline via Zoom video conference\n• Tuesdays & Thursdays\, 9:00-10:30 am \nLive\, in-person sessions:\n• Bowstring Town Hall\n– Tuesdays & Thursdays\, 10:00 am-11:30 am\n• Deer River\, Bethany Lutheran Church\n– Mondays & Thursdays\, 10:30 am-12:00 pm\n• Hill City Fire Hall\nMondays & Wednesdays\, 9:00 – 10:30 am\n• International Falls\, Covenant Evangelical Church\n– Tuesdays & Thursdays\, 10:00 am-11:30 am\n• Jacobson Community Center\n– Monday\, Wednesday\, 10:30 am-12:00 pm\n• Wabana Town Hall\n– Tuesdays & Fridays\, 10:00 am-11:30 am\n* Calumet Library-\n-Tuesdays and Thursdays\, 9:00-10:30am\n* Grand Rapids Central Square Mall\, Suite 124\n-Tuesdays and Thursdays\, 9:00-10:30am
URL:https://psalmfm.org/event/eldercircle-sail-schedule/
END:VEVENT
BEGIN:VEVENT
DTSTART;TZID=UTC:20260311T113000
DTEND;TZID=UTC:20260311T153000
DTSTAMP:20260423T184458
CREATED:20260305T172212Z
LAST-MODIFIED:20260305T172212Z
UID:12575-1773228600-1773243000@psalmfm.org
SUMMARY:Bloodmobile- Littlefork
DESCRIPTION:Wednesday\, March 11\, 2026 \n11:30 am – 3:30 pm \nLittlefork-Big Falls High School \n700 Main St.\nLittlefork\, MN 56653 \nPrimary Blood Drive Coordinator: \nStephanie Turban\nEmail: turban_s@isd362.k12.mn.us\nPhone: 218-278-6614 ext 210
URL:https://psalmfm.org/event/bloodmobile-littlefork-2/
END:VEVENT
END:VCALENDAR