BEGIN:VCALENDAR
VERSION:2.0
PRODID:-//PsalmFM - ECPv6.15.20//NONSGML v1.0//EN
CALSCALE:GREGORIAN
METHOD:PUBLISH
X-ORIGINAL-URL:https://psalmfm.org
X-WR-CALDESC:Events for PsalmFM
REFRESH-INTERVAL;VALUE=DURATION:PT1H
X-Robots-Tag:noindex
X-PUBLISHED-TTL:PT1H
BEGIN:VTIMEZONE
TZID:UTC
BEGIN:STANDARD
TZOFFSETFROM:+0000
TZOFFSETTO:+0000
TZNAME:UTC
DTSTART:20250101T000000
END:STANDARD
END:VTIMEZONE
BEGIN:VEVENT
DTSTART;TZID=UTC:20260309T080000
DTEND;TZID=UTC:20260313T170000
DTSTAMP:20260423T184417
CREATED:20230816T182503Z
LAST-MODIFIED:20260309T152655Z
UID:7876-1773043200-1773421200@psalmfm.org
SUMMARY:ElderCircle SAIL Schedule
DESCRIPTION:ElderCircle SAIL (Stay Active & Independent for Life) Schedule: \nFREE Fitness and Strength Building for Older Adults\n• Groups meet twice a week for 90 minutes.\n• New attendees may start at anytime.\n• Weights are provided.\n• iPads are available for check-out.\n• Please arrive 15 minutes prior to start time.\n• Please provide your own drinking water.\n• Registration is required. \nOnline via Zoom video conference\n• Tuesdays & Thursdays\, 9:00-10:30 am \nLive\, in-person sessions:\n• Bowstring Town Hall\n– Tuesdays & Thursdays\, 10:00 am-11:30 am\n• Deer River\, Bethany Lutheran Church\n– Mondays & Thursdays\, 10:30 am-12:00 pm\n• Hill City Fire Hall\nMondays & Wednesdays\, 9:00 – 10:30 am\n• International Falls\, Covenant Evangelical Church\n– Tuesdays & Thursdays\, 10:00 am-11:30 am\n• Jacobson Community Center\n– Monday\, Wednesday\, 10:30 am-12:00 pm\n• Wabana Town Hall\n– Tuesdays & Fridays\, 10:00 am-11:30 am\n* Calumet Library-\n-Tuesdays and Thursdays\, 9:00-10:30am\n* Grand Rapids Central Square Mall\, Suite 124\n-Tuesdays and Thursdays\, 9:00-10:30am
URL:https://psalmfm.org/event/eldercircle-sail-schedule/
END:VEVENT
BEGIN:VEVENT
DTSTART;TZID=UTC:20260312T000000
DTEND;TZID=UTC:20260312T233000
DTSTAMP:20260423T184417
CREATED:20260312T151732Z
LAST-MODIFIED:20260312T151843Z
UID:12610-1773273600-1773358200@psalmfm.org
SUMMARY:Giving Day for Oak Hills Christian College
DESCRIPTION:On Thursday\, March 12\, you’re invited to be part of what God is doing when you join Oak Hills Christian College for their annual 24 hour online fundraising event. Learn more at oakhills.edu/givingday and follow them on Facebook or Instagram. Today only. \n  \nContinue the Legacy. Give in faith and invest in the next generation of Christian leaders pursuing biblical education at Oak Hills Christian College. Every gift matters. Give early and double your impact thanks to some dollar-to-dollar matches given.
URL:https://psalmfm.org/event/giving-day-for-oak-hills-christian-college/
END:VEVENT
BEGIN:VEVENT
DTSTART;TZID=UTC:20260312T183000
DTEND;TZID=UTC:20260312T193000
DTSTAMP:20260423T184417
CREATED:20260206T162803Z
LAST-MODIFIED:20260206T162803Z
UID:12467-1773340200-1773343800@psalmfm.org
SUMMARY:WATOTO Children's Choir Presents Better Days- Fort Frances
DESCRIPTION:The WATOTO Children’s Choir will be at New Beginnings Fellowship in Fort Frances on Thursday\, March 12th at 6:30pm. For more details visit watoto.com. \n  \n  \n“When people see the children from Uganda\, with their hearts healed and their dreams restored\, they can’t help but realize that this same God cares for them\, too.”
URL:https://psalmfm.org/event/watoto-childrens-choir-presents-better-days-fort-frances/
END:VEVENT
END:VCALENDAR