BEGIN:VCALENDAR
VERSION:2.0
PRODID:-//PsalmFM - ECPv6.15.20//NONSGML v1.0//EN
CALSCALE:GREGORIAN
METHOD:PUBLISH
X-WR-CALNAME:PsalmFM
X-ORIGINAL-URL:https://psalmfm.org
X-WR-CALDESC:Events for PsalmFM
REFRESH-INTERVAL;VALUE=DURATION:PT1H
X-Robots-Tag:noindex
X-PUBLISHED-TTL:PT1H
BEGIN:VTIMEZONE
TZID:UTC
BEGIN:STANDARD
TZOFFSETFROM:+0000
TZOFFSETTO:+0000
TZNAME:UTC
DTSTART:20250101T000000
END:STANDARD
END:VTIMEZONE
BEGIN:VEVENT
DTSTART;TZID=UTC:20260317T153000
DTEND;TZID=UTC:20260318T163000
DTSTAMP:20260423T170803
CREATED:20260218T160121Z
LAST-MODIFIED:20260317T154024Z
UID:12492-1773761400-1773851400@psalmfm.org
SUMMARY:The Skally Line
DESCRIPTION:The Arrowhead Library System is pleased to present The Skally Line\, old-time stringband music by the Fred Keller trio.  \nThe Skally Line presents traditional\, foot stomping music paired with enduring stories about Minnesota’s people. This riveting concert weaves together tales and tunes with string band music\, Irish folk tunes and old ballads. Skally Line brings to life outrageous\, funny\, and touching stories of the past! \nThis free program is one hour long\, is suited for ages 12 and up and are being offered at the following locations: \nMonday\, March 16\, 3:30 p.m. – Hoyt Lakes Public Library \nTuesday\, March 17\, 1:00 p.m. – Chisholm Public Library \nTuesday\, March 17\, 4:00 p.m. – Virginia Public Library \nWednesday\, March 18\, 1:00 p.m. – Aurora Public Library \nMonday\, March 23\, 3:30 p.m. – Babbitt Public Library \nTuesday\, March 24\, 3:30 p.m. – Coleraine Public Library \nWednesday\, March 25\, 1:00 p.m. – Marble Public Library \nWednesday\, March 25\, 3:30 p.m. – Grand Rapids Area Library \n  \nThis program\, sponsored by Arrowhead Library System\, was funded in part or in whole with money from Minnesota’s Arts and Cultural Heritage Fund (ACHF). \nSkally Line will return to the Arrowhead region in September 2026 to perform at libraries not listed in this schedule.
URL:https://psalmfm.org/event/the-skally-line/
END:VEVENT
END:VCALENDAR