BEGIN:VCALENDAR
VERSION:2.0
PRODID:-//PsalmFM - ECPv6.15.20//NONSGML v1.0//EN
CALSCALE:GREGORIAN
METHOD:PUBLISH
X-ORIGINAL-URL:https://psalmfm.org
X-WR-CALDESC:Events for PsalmFM
REFRESH-INTERVAL;VALUE=DURATION:PT1H
X-Robots-Tag:noindex
X-PUBLISHED-TTL:PT1H
BEGIN:VTIMEZONE
TZID:UTC
BEGIN:STANDARD
TZOFFSETFROM:+0000
TZOFFSETTO:+0000
TZNAME:UTC
DTSTART:20250101T000000
END:STANDARD
END:VTIMEZONE
BEGIN:VEVENT
DTSTART;TZID=UTC:20260321T110000
DTEND;TZID=UTC:20260321T130000
DTSTAMP:20260423T184509
CREATED:20260303T163731Z
LAST-MODIFIED:20260303T163731Z
UID:12535-1774090800-1774098000@psalmfm.org
SUMMARY:Littlefork Baptist Annual Ladies Luncheon
DESCRIPTION:All ladies are invited to attend the Littlefork Baptist Annual Ladies Luncheon on Saturday\, March 21st at 11am. \nThis years theme is ‘Safe in the Father’s Hands’- A bird’s eye view of divine security\, Matthew 6:26. \nGuest speaker is Candy Gates. Event is free of charge and free childcare is provided. \n 
URL:https://psalmfm.org/event/littlefork-baptist-annual-ladies-luncheon/
END:VEVENT
END:VCALENDAR