BEGIN:VCALENDAR
VERSION:2.0
PRODID:-//PsalmFM - ECPv6.15.20//NONSGML v1.0//EN
CALSCALE:GREGORIAN
METHOD:PUBLISH
X-ORIGINAL-URL:https://psalmfm.org
X-WR-CALDESC:Events for PsalmFM
REFRESH-INTERVAL;VALUE=DURATION:PT1H
X-Robots-Tag:noindex
X-PUBLISHED-TTL:PT1H
BEGIN:VTIMEZONE
TZID:UTC
BEGIN:STANDARD
TZOFFSETFROM:+0000
TZOFFSETTO:+0000
TZNAME:UTC
DTSTART:20250101T000000
END:STANDARD
END:VTIMEZONE
BEGIN:VEVENT
DTSTART;TZID=UTC:20260325T133000
DTEND;TZID=UTC:20260325T173000
DTSTAMP:20260423T171139
CREATED:20260305T172111Z
LAST-MODIFIED:20260305T172111Z
UID:12571-1774445400-1774459800@psalmfm.org
SUMMARY:Bloodmobile- Bigfork
DESCRIPTION:Wednesday\, March 25\, 2026 \n1:30 pm – 5:30 pm \nBigfork Valley Hospital \n258 Pine Tree Drive\nBigfork\, MN 56628 \nPrimary Blood Drive Coordinator: \nKyle Buckingham\nEmail: KBuckingham@bigforkvalley.org\nPhone: 218-743-4147
URL:https://psalmfm.org/event/bloodmobile-bigfork-7/
END:VEVENT
END:VCALENDAR