BEGIN:VCALENDAR
VERSION:2.0
PRODID:-//PsalmFM - ECPv6.15.20//NONSGML v1.0//EN
CALSCALE:GREGORIAN
METHOD:PUBLISH
X-WR-CALNAME:PsalmFM
X-ORIGINAL-URL:https://psalmfm.org
X-WR-CALDESC:Events for PsalmFM
REFRESH-INTERVAL;VALUE=DURATION:PT1H
X-Robots-Tag:noindex
X-PUBLISHED-TTL:PT1H
BEGIN:VTIMEZONE
TZID:UTC
BEGIN:STANDARD
TZOFFSETFROM:+0000
TZOFFSETTO:+0000
TZNAME:UTC
DTSTART:20250101T000000
END:STANDARD
END:VTIMEZONE
BEGIN:VEVENT
DTSTART;TZID=UTC:20260326T090000
DTEND;TZID=UTC:20260326T170000
DTSTAMP:20260423T170839
CREATED:20260305T172245Z
LAST-MODIFIED:20260305T172245Z
UID:12577-1774515600-1774544400@psalmfm.org
SUMMARY:Bloodmobile- Bemidji
DESCRIPTION:Thursday\, March 26\, 2026 \n9:00 am – 5:00 pm \nNorth Country Regional Hospital \n1300 Anne Street NW\nBemidji\, MN 56601 \nPrimary Blood Drive Coordinator: \nJillian Johnson\nEmail: Jillian.Johnson@SanfordHealth.org\nPhone: 218-333-6090
URL:https://psalmfm.org/event/bloodmobile-bemidji-13/
END:VEVENT
BEGIN:VEVENT
DTSTART;TZID=UTC:20260326T103000
DTEND;TZID=UTC:20260326T163000
DTSTAMP:20260423T170839
CREATED:20260305T172039Z
LAST-MODIFIED:20260305T172039Z
UID:12569-1774521000-1774542600@psalmfm.org
SUMMARY:Bloodmobile- Deer River
DESCRIPTION:Thursday\, March 26\, 2026 \n10:30 am – 4:30 pm \nEssentia Clinic-Deer River \n115 10th Avenue NE\nDeer River\, MN 56636 \nPrimary Blood Drive Coordinator: \nMathias Salmela\nEmail: msalmela75@gmail.com\nPhone: 218-398-7293
URL:https://psalmfm.org/event/bloodmobile-deer-river-9/
END:VEVENT
END:VCALENDAR