BEGIN:VCALENDAR
VERSION:2.0
PRODID:-//PsalmFM - ECPv6.15.20//NONSGML v1.0//EN
CALSCALE:GREGORIAN
METHOD:PUBLISH
X-ORIGINAL-URL:https://psalmfm.org
X-WR-CALDESC:Events for PsalmFM
REFRESH-INTERVAL;VALUE=DURATION:PT1H
X-Robots-Tag:noindex
X-PUBLISHED-TTL:PT1H
BEGIN:VTIMEZONE
TZID:UTC
BEGIN:STANDARD
TZOFFSETFROM:+0000
TZOFFSETTO:+0000
TZNAME:UTC
DTSTART:20250101T000000
END:STANDARD
END:VTIMEZONE
BEGIN:VEVENT
DTSTART;TZID=UTC:20260403T080000
DTEND;TZID=UTC:20260403T170000
DTSTAMP:20260423T153322
CREATED:20260311T174621Z
LAST-MODIFIED:20260325T165941Z
UID:12602-1775203200-1775235600@psalmfm.org
SUMMARY:Good Friday Services
DESCRIPTION:Fort Frances\, ON – Friday\, April 3\, at Evangelical Fellowship Church (605 McIrvine Rd). Breakfast at 9:00\, service at 10:30. Everyone is welcome. \n__________________ \nWest Cohasset Chapel invites you to join them as they reflect on the death of Jesus and celebrate His resurrection. Bring your family and friends! \n24650 State Highway 6\nCohasset\, MN 55721\nThey are located one mile north of Highway 63 and six miles south of Highway 2. \nGood Friday Service\n• Friday\, April 3 | 6:30 PM\n• Communion will be served. \nFor more information visit westcohassetchapel.com/easter/. \n_________________ \nBirchdale Congregational Church will be having a Good Friday service starting at 7pm. All are welcome. \n_________________ \nYou are welcome to come to the Good Friday Service at the Evangelical Covenant Church of International Falls on April 3 at 6pm. The service will feature a passion play of the crucifixion of Jesus as they reflect on what He did on the cross for our sins. \n________________
URL:https://psalmfm.org/event/good-friday-services/
END:VEVENT
BEGIN:VEVENT
DTSTART;TZID=UTC:20260403T090000
DTEND;TZID=UTC:20260403T153000
DTSTAMP:20260423T153322
CREATED:20260330T170437Z
LAST-MODIFIED:20260330T170437Z
UID:12681-1775206800-1775230200@psalmfm.org
SUMMARY:Bloodmobile- Aurora
DESCRIPTION:Friday\, April 03\, 2026 \n9:00 am – 3:30 pm \nAurora Community Center \n15 W. 1st Street N.\nAurora\, MN 55705 \nPrimary Blood Drive Coordinator: \nBob Rutka\nEmail: robertrutka@hotmail.com\nPhone: 218-368-1249 \n  \nVisit to www.mbcherohub.club for more information or to register.
URL:https://psalmfm.org/event/bloodmobile-aurora-16/
END:VEVENT
END:VCALENDAR