BEGIN:VCALENDAR
VERSION:2.0
PRODID:-//PsalmFM - ECPv6.15.20//NONSGML v1.0//EN
CALSCALE:GREGORIAN
METHOD:PUBLISH
X-WR-CALNAME:PsalmFM
X-ORIGINAL-URL:https://psalmfm.org
X-WR-CALDESC:Events for PsalmFM
REFRESH-INTERVAL;VALUE=DURATION:PT1H
X-Robots-Tag:noindex
X-PUBLISHED-TTL:PT1H
BEGIN:VTIMEZONE
TZID:UTC
BEGIN:STANDARD
TZOFFSETFROM:+0000
TZOFFSETTO:+0000
TZNAME:UTC
DTSTART:20250101T000000
END:STANDARD
END:VTIMEZONE
BEGIN:VEVENT
DTSTART;TZID=UTC:20260404T100000
DTEND;TZID=UTC:20260404T150000
DTSTAMP:20260423T153031
CREATED:20260326T191641Z
LAST-MODIFIED:20260326T191641Z
UID:12649-1775296800-1775314800@psalmfm.org
SUMMARY:1950's Easter Sock Hop- Littlefork
DESCRIPTION:The 2nd Annual 1950’s Easter Sock Hop will be happening on Saturday\, April 4th from 10-3 at the Littlefork Community Building. Event is free and open to everyone. Concessions available for purchase\, including sloppy joes\, hot dogs\, popcorn\, pop\, water\, coffee\, tea and root beer floats. \nFor more information visit their Facebook page at Wonderfully Well in Littlefork.
URL:https://psalmfm.org/event/1950s-easter-sock-hop-littlefork/
END:VEVENT
END:VCALENDAR