BEGIN:VCALENDAR
VERSION:2.0
PRODID:-//PsalmFM - ECPv6.15.20//NONSGML v1.0//EN
CALSCALE:GREGORIAN
METHOD:PUBLISH
X-WR-CALNAME:PsalmFM
X-ORIGINAL-URL:https://psalmfm.org
X-WR-CALDESC:Events for PsalmFM
REFRESH-INTERVAL;VALUE=DURATION:PT1H
X-Robots-Tag:noindex
X-PUBLISHED-TTL:PT1H
BEGIN:VTIMEZONE
TZID:UTC
BEGIN:STANDARD
TZOFFSETFROM:+0000
TZOFFSETTO:+0000
TZNAME:UTC
DTSTART:20250101T000000
END:STANDARD
END:VTIMEZONE
BEGIN:VEVENT
DTSTART;TZID=UTC:20260415T080000
DTEND;TZID=UTC:20260415T140000
DTSTAMP:20260423T153040
CREATED:20260330T170400Z
LAST-MODIFIED:20260330T170400Z
UID:12679-1776240000-1776261600@psalmfm.org
SUMMARY:Bloodmobile- Virginia
DESCRIPTION:Wednesday\, April 15\, 2026 \n8:00 am – 2:00 pm \nRock Ridge High School \n1403 Progress Pkwy\nParking Lot\nVirginia\, MN 55792 \nPrimary Blood Drive Coordinator: \nMary Rantala\nEmail: mary.rantala@rrps.org\nPhone: 218-735-3500 \n  \nVisit to www.mbcherohub.club for more information or to register.
URL:https://psalmfm.org/event/bloodmobile-virginia-13/
END:VEVENT
BEGIN:VEVENT
DTSTART;TZID=UTC:20260415T090000
DTEND;TZID=UTC:20260415T133000
DTSTAMP:20260423T153040
CREATED:20260330T165923Z
LAST-MODIFIED:20260330T165923Z
UID:12665-1776243600-1776259800@psalmfm.org
SUMMARY:Bloodmobile- Grand Rapids
DESCRIPTION:Wednesday\, April 15\, 2026 \n09:00 am – 1:30 pm \nYanmar Arena \n1401 NW 3rd Ave\nUpper Lobby\nGrand Rapids\, MN 55744 \nPrimary Blood Drive Coordinator: \nDale Anderson\nEmail: danderson@ci.grand-rapids.mn.us\nPhone: 2182-594-485 \n  \nVisit to www.mbcherohub.club for more information or to register.
URL:https://psalmfm.org/event/bloodmobile-grand-rapids-56/
END:VEVENT
END:VCALENDAR