BEGIN:VCALENDAR
VERSION:2.0
PRODID:-//PsalmFM - ECPv6.15.20//NONSGML v1.0//EN
CALSCALE:GREGORIAN
METHOD:PUBLISH
X-ORIGINAL-URL:https://psalmfm.org
X-WR-CALDESC:Events for PsalmFM
REFRESH-INTERVAL;VALUE=DURATION:PT1H
X-Robots-Tag:noindex
X-PUBLISHED-TTL:PT1H
BEGIN:VTIMEZONE
TZID:UTC
BEGIN:STANDARD
TZOFFSETFROM:+0000
TZOFFSETTO:+0000
TZNAME:UTC
DTSTART:20250101T000000
END:STANDARD
END:VTIMEZONE
BEGIN:VEVENT
DTSTART;TZID=UTC:20260419T173000
DTEND;TZID=UTC:20260419T193000
DTSTAMP:20260423T153312
CREATED:20260408T150305Z
LAST-MODIFIED:20260408T150305Z
UID:12714-1776619800-1776627000@psalmfm.org
SUMMARY:Breakthrough Movie Showing- Border E Free Baudette
DESCRIPTION:The movie “Breakthrough” will be shown at the Border E Free church\, located 15 miles east of Baudette\, on Sunday April 19 starting at 5:30 PM. Coffee and bars following. Everyone is invited. \nContact Lyndon Anderson @ 218 434-1482 with any questions. \n  \nBreakthrough (2019) tells the true story of a mother’s unwavering faith after her teenage son falls through an icy lake and is left without a pulse. As he fights for life in the hospital\, she rallies loved ones and the community\, inspiring hope against all odds. 
URL:https://psalmfm.org/event/breakthrough-movie-showing-border-e-free-baudette/
END:VEVENT
END:VCALENDAR