BEGIN:VCALENDAR
VERSION:2.0
PRODID:-//PsalmFM - ECPv6.15.20//NONSGML v1.0//EN
CALSCALE:GREGORIAN
METHOD:PUBLISH
X-WR-CALNAME:PsalmFM
X-ORIGINAL-URL:https://psalmfm.org
X-WR-CALDESC:Events for PsalmFM
REFRESH-INTERVAL;VALUE=DURATION:PT1H
X-Robots-Tag:noindex
X-PUBLISHED-TTL:PT1H
BEGIN:VTIMEZONE
TZID:UTC
BEGIN:STANDARD
TZOFFSETFROM:+0000
TZOFFSETTO:+0000
TZNAME:UTC
DTSTART:20250101T000000
END:STANDARD
END:VTIMEZONE
BEGIN:VEVENT
DTSTART;TZID=UTC:20260420T120000
DTEND;TZID=UTC:20260420T160000
DTSTAMP:20260423T153041
CREATED:20260330T165842Z
LAST-MODIFIED:20260330T165842Z
UID:12663-1776686400-1776700800@psalmfm.org
SUMMARY:Bloodmobile- Grand Rapids
DESCRIPTION:Monday\, April 20\, 2026 \n12:00 pm – 4:00 pm \nGrand Village \n923 Hale Lake Pointe Road\nParking Lot\nGrand Rapids\, MN 55744 \nPrimary Blood Drive Coordinator: \nAmanda Altringer\nEmail: amanda.altringer@fairview.org\nPhone: 218-322-4740 \n  \nVisit to www.mbcherohub.club for more information or to register.
URL:https://psalmfm.org/event/bloodmobile-grand-rapids-55/
END:VEVENT
BEGIN:VEVENT
DTSTART;TZID=UTC:20260420T160000
DTEND;TZID=UTC:20260420T200000
DTSTAMP:20260423T153041
CREATED:20241211T174240Z
LAST-MODIFIED:20260416T152844Z
UID:10429-1776700800-1776715200@psalmfm.org
SUMMARY:AARP Smart Driver Courses
DESCRIPTION:Why Take the Smart Driver Course? \nThe AARP Smart Driver course is the nation’s first course specifically designed for drivers age 55 and older. Drivers will benefit from a 10% discount on their auto insurance premium upon completing the course. Drivers learn how to manage and accommodate common age-related changes in vision\, hearing and reaction time.  \n  \nCall 218-327-5730 to register \nCost for the class is $20 for AARP members and $25 for nonmembers \nContact Peggy Brennan at 651-895-6465 with any questions \n  \nUpcoming Classes: \nMonday\, April 20th (*call 218-246-8241 ext 60227 to register) \n4:00-8:00 \nSenior Center- King Elementary \n500 5th St SE\, Deer River
URL:https://psalmfm.org/event/aarp-defensive-driver-course-gr/
END:VEVENT
END:VCALENDAR