BEGIN:VCALENDAR
VERSION:2.0
PRODID:-//PsalmFM - ECPv6.15.20//NONSGML v1.0//EN
CALSCALE:GREGORIAN
METHOD:PUBLISH
X-WR-CALNAME:PsalmFM
X-ORIGINAL-URL:https://psalmfm.org
X-WR-CALDESC:Events for PsalmFM
REFRESH-INTERVAL;VALUE=DURATION:PT1H
X-Robots-Tag:noindex
X-PUBLISHED-TTL:PT1H
BEGIN:VTIMEZONE
TZID:UTC
BEGIN:STANDARD
TZOFFSETFROM:+0000
TZOFFSETTO:+0000
TZNAME:UTC
DTSTART:20250101T000000
END:STANDARD
END:VTIMEZONE
BEGIN:VEVENT
DTSTART;TZID=UTC:20260422T090000
DTEND;TZID=UTC:20260422T133000
DTSTAMP:20260423T153018
CREATED:20260330T170146Z
LAST-MODIFIED:20260330T170146Z
UID:12673-1776848400-1776864600@psalmfm.org
SUMMARY:Bloodmobile- Chisholm
DESCRIPTION:Wednesday\, April 22\, 2026 \n9:00 am – 1:30 pm \nChisholm High School \n301 SW 4th Street\nChisholm\, MN 55719 \nPrimary Blood Drive Coordinator: \nLynette Purdy\nEmail: lpurdy@chisholm.k12.mn.us\nPhone: 218-343-6331 \n  \nVisit to www.mbcherohub.club for more information or to register.
URL:https://psalmfm.org/event/bloodmobile-chisholm-4/
END:VEVENT
BEGIN:VEVENT
DTSTART;TZID=UTC:20260422T150000
DTEND;TZID=UTC:20260422T160000
DTSTAMP:20260423T153018
CREATED:20240918T155946Z
LAST-MODIFIED:20260326T190137Z
UID:9916-1776870000-1776873600@psalmfm.org
SUMMARY:Elementary Fun
DESCRIPTION:On the 4th Wednesday of the month\, join the Ifalls Public Library after school from 3-4 and build robot gear\, a piano\, and more with Nintendo Labo kits!\n 
URL:https://psalmfm.org/event/elementary-fun/
END:VEVENT
END:VCALENDAR