BEGIN:VCALENDAR
VERSION:2.0
PRODID:-//PsalmFM - ECPv6.15.20//NONSGML v1.0//EN
CALSCALE:GREGORIAN
METHOD:PUBLISH
X-ORIGINAL-URL:https://psalmfm.org
X-WR-CALDESC:Events for PsalmFM
REFRESH-INTERVAL;VALUE=DURATION:PT1H
X-Robots-Tag:noindex
X-PUBLISHED-TTL:PT1H
BEGIN:VTIMEZONE
TZID:UTC
BEGIN:STANDARD
TZOFFSETFROM:+0000
TZOFFSETTO:+0000
TZNAME:UTC
DTSTART:20250101T000000
END:STANDARD
END:VTIMEZONE
BEGIN:VEVENT
DTSTART;TZID=UTC:20260501T080000
DTEND;TZID=UTC:20260501T170000
DTSTAMP:20260423T153211
CREATED:20260402T154520Z
LAST-MODIFIED:20260402T154520Z
UID:12695-1777622400-1777654800@psalmfm.org
SUMMARY:Registration open for Women's Breakaway (Bemidji)
DESCRIPTION:Registration is now open for Women’s Breakaway at Oak Hills Christian College in Bemidji. This is a women’s retreat that will renew your mind\, restore your soul\, and create new memories. \nThe theme is “Hope in the Hard”\, Romans 15:13 \nGet details and register early at https://www.oakhills.edu/church-ministries/conferences
URL:https://psalmfm.org/event/registration-open-for-womens-breakaway-bemidji-2/
END:VEVENT
BEGIN:VEVENT
DTSTART;TZID=UTC:20260501T100000
DTEND;TZID=UTC:20260503T210000
DTSTAMP:20260423T153211
CREATED:20260413T175355Z
LAST-MODIFIED:20260413T175355Z
UID:12720-1777629600-1777842000@psalmfm.org
SUMMARY:Foundation in the Prophetic- New Life Assembly Warroad
DESCRIPTION:Mike Rogers from New Bern\, NC will be teaching on the Foundation in the Prophetic May 1st-3rd at the New Life Assembly of God in Warroad. \nFriday\, May 1 at 7pm\, \nSaturday\, May 2 at 10am \nSunday\, May 3 at 11am \nMike Rogers is the pastor at the church called: “The Church of New Bern.”
URL:https://psalmfm.org/event/foundation-in-the-prophetic-new-life-assembly-warroad/
END:VEVENT
END:VCALENDAR