BEGIN:VCALENDAR
VERSION:2.0
PRODID:-//PsalmFM - ECPv6.15.20//NONSGML v1.0//EN
CALSCALE:GREGORIAN
METHOD:PUBLISH
X-ORIGINAL-URL:https://psalmfm.org
X-WR-CALDESC:Events for PsalmFM
REFRESH-INTERVAL;VALUE=DURATION:PT1H
X-Robots-Tag:noindex
X-PUBLISHED-TTL:PT1H
BEGIN:VTIMEZONE
TZID:UTC
BEGIN:STANDARD
TZOFFSETFROM:+0000
TZOFFSETTO:+0000
TZNAME:UTC
DTSTART:20230101T000000
END:STANDARD
END:VTIMEZONE
BEGIN:VEVENT
DTSTART;TZID=UTC:20240706T120000
DTEND;TZID=UTC:20240706T150000
DTSTAMP:20260425T113203
CREATED:20240529T144818Z
LAST-MODIFIED:20240529T144818Z
UID:9280-1720267200-1720278000@psalmfm.org
SUMMARY:Baudette Car and Bike Show
DESCRIPTION:The Baudette Car and Bike Show organized by Lakeroad Cruisers will be Saturday\, July 6th from noon to 3. Registration begins at 11am. Entry fee is donation to Lake of the Woods Veterans Memorial at the LOW County Fairgrounds. For more information call Kevin at 21-434-0176.
URL:https://psalmfm.org/event/baudette-car-and-bike-show/
END:VEVENT
BEGIN:VEVENT
DTSTART;TZID=UTC:20240707T113000
DTEND;TZID=UTC:20240707T123000
DTSTAMP:20260425T113203
CREATED:20240612T170612Z
LAST-MODIFIED:20240612T170612Z
UID:9369-1720351800-1720355400@psalmfm.org
SUMMARY:Blessing of the Bikes- Babbitt
DESCRIPTION:Motorcyclists with all make and models are invited to ride to Babbitt Assembly of God and get prayed for and enjoy a free Bratwurst meal and fantastic fellowship on Sunday\, July 7th from 11:30-12:30.\nBabbitt Assembly also invites you to their Sunday morning Service that begins that morning at 10 am. \nBabbitt Assembly of God is located at 29 Babbitt Road.
URL:https://psalmfm.org/event/blessing-of-the-bikes-babbitt/
END:VEVENT
BEGIN:VEVENT
DTSTART;TZID=UTC:20240708T190000
DTEND;TZID=UTC:20240708T213000
DTSTAMP:20260425T113203
CREATED:20240627T165912Z
LAST-MODIFIED:20240627T165951Z
UID:9524-1720465200-1720474200@psalmfm.org
SUMMARY:Bemidji State University Music Department 2nd Annual Sing-a-long
DESCRIPTION:Vivaldi’s “Gloria” with Baroque orchestra and soloists will be featured. Community singers are invited to join this musical experience. Scores will be provided\, or singers may bring their own. Rehearsals will be Mon. July 8 and Wed. July 10 (7-9:15pm) in the BSU Recital Hall. The concert is free and open to the public on July 11th starting at 7:30pm.
URL:https://psalmfm.org/event/bemidji-state-university-music-department-2nd-annual-sing-a-long/
END:VEVENT
BEGIN:VEVENT
DTSTART;TZID=UTC:20240709T090000
DTEND;TZID=UTC:20240709T150000
DTSTAMP:20260425T113203
CREATED:20240624T155004Z
LAST-MODIFIED:20240624T155004Z
UID:9485-1720515600-1720537200@psalmfm.org
SUMMARY:Bloodmobile- Virginia
DESCRIPTION:Tuesday\, July 09\, 2024 \n09:00 am – 03:00 pm \nVirginia GSC \nGovernment Services Center (GSC) Virginia\n201 3rd Ave. West\nBloodmobile\nVirginia\, MN 55792 \nPrimary Blood Drive Coordinator \nJayde Kaeter\nEmail: kaeterj@stlouiscountymn.gov\nPhone: 218-471-7127
URL:https://psalmfm.org/event/bloodmobile-virginia/
END:VEVENT
BEGIN:VEVENT
DTSTART;TZID=UTC:20240710T103000
DTEND;TZID=UTC:20240710T180000
DTSTAMP:20260425T113203
CREATED:20240624T154845Z
LAST-MODIFIED:20240624T154845Z
UID:9481-1720607400-1720634400@psalmfm.org
SUMMARY:Bloodmobile- Ely
DESCRIPTION:Wednesday\, July 10\, 2024 \n10:30 am – 06:00 pm \nEly Bloomenson Community Hospital\n328 W. Conan St.\nBloodmobile\nEly\, MN 55731 \nPrimary Blood Drive Coordinator \nMary Wognum\nEmail: mwognum@ebch.org\nPhone: 218-365-8751
URL:https://psalmfm.org/event/bloodmobile-ely/
END:VEVENT
BEGIN:VEVENT
DTSTART;TZID=UTC:20240710T120000
DTEND;TZID=UTC:20240710T130000
DTSTAMP:20260425T113203
CREATED:20240625T150713Z
LAST-MODIFIED:20240625T150713Z
UID:9496-1720612800-1720616400@psalmfm.org
SUMMARY:Bemidji Area Church Musicians Recital
DESCRIPTION:The 37th season of the Summer Recital Series presented by the Bemidji Area Church Musicians (BACM) continues on Wednesday July 10th\, 12:00 noon\, at the First Baptist Church. Performing will be Wade Martin\, vocalist\, guitar. Amanda Willis-Martin\, piano. Mathison Martin\, piano. \nA luncheon will follow the 30-minute concert with a price to be announced.  First Baptist Church is located at 1555 Paul Bunyan Dr. NW. \nA free-will offering will be received at the door for the Scholarship programs of the Bemidji Area Church Musicians. \nThe public is cordially invited to all of the recitals in the season. For further information call Barbara Fisher (218-556-0098) or Carol L. Johnson (218-751-0415).
URL:https://psalmfm.org/event/bemidji-area-church-musicians-recital-2/
END:VEVENT
BEGIN:VEVENT
DTSTART;TZID=UTC:20240710T140000
DTEND;TZID=UTC:20240710T180000
DTSTAMP:20260425T113203
CREATED:20240530T173528Z
LAST-MODIFIED:20240530T173528Z
UID:9289-1720620000-1720634400@psalmfm.org
SUMMARY:Will Hale & the Tadpole Parade
DESCRIPTION:The Arrowhead Library System is pleased to host children’s musician Will Hale & the Tadpole Parade\, a free program being offered at the following locations: \nWednesday\, July 10\, 2:00pm\nBuhl Public Library \nWednesday\, July 10\, 5:00pm\nKeewatin Public Library \nThursday\, July 11\, 10:30am\nMountain Iron Public Library \nThursday\, July 11\, 2:00pm\nVirginia Public Library \nThursday\, July 11\, 5:00pm\nEveleth Public Library \nMonday\, July 15\, 3:00pm\nBabbitt Public Library \nTuesday\, July 16\, 10:30am\nBaudette Public Library \nTuesday\, July 16\, 3:30pm\nInternational Falls Public Library \nWednesday\, July 17\, 10:30am\nCalumet Public Library \nWednesday\, July 17\, 2:00pm\nGrand Rapids Area Library \nThursday\, July 18\, 10:30am\nAurora Public Library \nThursday\, July 18\, 2:00pm\nHoyt Lakes Public Library \nMonday\, July 22\, 10:30am\nCook Public Library \nMonday\, July 22\, 3:00pm\nEly Public Library \nWednesday\, July 24\, 10:30am\nChisholm Public Library \nWednesday\, July 24\, 2:00pm\nMarble Public Library \nThursday\, July 25\, 10:30am\nColeraine Public Library \nThursday\, July 25\, 2:00pm\nHibbing Public Library \nWill Hale and the Tadpole Parade create a fun atmosphere filled with plenty of audience participation\, excitement\, and dynamic learning! Kids are the rock stars when they clap\, dance and sing! Will Hale’s concerts are kid-tested and parent approved. This free program is 45 minutes long and is geared towards families with children 2-10 years old. \nThis program\, sponsored by Arrowhead Library System\, was funded in part or in whole with money from Minnesota’s Arts and Cultural Heritage Fund (ACFH). To learn more about Arrowhead Legacy Events\, please see our calendar at www.alslib.info or like us on Facebook at www.facebook.com/alslibinfo.
URL:https://psalmfm.org/event/will-hale-the-tadpole-parade/
END:VEVENT
BEGIN:VEVENT
DTSTART;TZID=UTC:20240711T100000
DTEND;TZID=UTC:20240711T130000
DTSTAMP:20260425T113203
CREATED:20240624T154805Z
LAST-MODIFIED:20240624T154805Z
UID:9479-1720692000-1720702800@psalmfm.org
SUMMARY:Bloodmobile- Cook
DESCRIPTION:Thursday\, July 11\, 2024 \n10:00 am – 01:00 pm \nCook Hospital \n10 Southeast 5th Street\nBloodmobile\nCook\, MN 55723 \nPrimary Blood Drive Coordinator \nJulia Miller\nEmail: JMiller@cookhospital.org\nPhone: 218-666-6229
URL:https://psalmfm.org/event/bloodmobile-cook/
END:VEVENT
BEGIN:VEVENT
DTSTART;TZID=UTC:20240712T103000
DTEND;TZID=UTC:20240712T120000
DTSTAMP:20260425T113203
CREATED:20221219T155312Z
LAST-MODIFIED:20240710T184515Z
UID:6731-1720780200-1720785600@psalmfm.org
SUMMARY:Arthritis Foundation Exercise Program
DESCRIPTION:Rainy Lake Medical Center in International Falls offers a no cost\, Arthritis Foundation Exercise Program every Tuesday and Friday from 10:45-11:45 at the Good Samaritan Society on Keenan Drive.
URL:https://psalmfm.org/event/arthritis-foundation-exercise-program/
END:VEVENT
BEGIN:VEVENT
DTSTART;TZID=UTC:20240712T120000
DTEND;TZID=UTC:20240712T163000
DTSTAMP:20260425T113203
CREATED:20240624T154314Z
LAST-MODIFIED:20240624T154314Z
UID:9465-1720785600-1720801800@psalmfm.org
SUMMARY:Bloodmobile- Grand Rapids
DESCRIPTION:Friday\, July 12\, 2024 \n12:00 pm – 04:30 pm \nGrand Rapids High School \n800 Conifer Drive\nBloodmobile\nGrand Rapids\, MN 55744 \nPrimary Blood Drive Coordinator \nKatie Thunshelle\nEmail: kthunshelle@isd318.org\nPhone: 218-327-5760 ext.41521
URL:https://psalmfm.org/event/bloodmobile-grand-rapids-4/
END:VEVENT
BEGIN:VEVENT
DTSTART;TZID=UTC:20240712T180000
DTEND;TZID=UTC:20240712T210000
DTSTAMP:20260425T113203
CREATED:20240606T143814Z
LAST-MODIFIED:20240606T143814Z
UID:9338-1720807200-1720818000@psalmfm.org
SUMMARY:Band & Burgers in Birchdale
DESCRIPTION:Come and listen to Paradigm band from Park Rapids play a variety of music from through the decades in the pavilion. Enjoy a burger basket and visiting with neighbors and friends. $20 entry includes burger basket BYOB.
URL:https://psalmfm.org/event/band-burgers-in-birchdale/
END:VEVENT
BEGIN:VEVENT
DTSTART;TZID=UTC:20240713T070000
DTEND;TZID=UTC:20240713T170000
DTSTAMP:20260425T113203
CREATED:20240711T155224Z
LAST-MODIFIED:20240711T155224Z
UID:9553-1720854000-1720890000@psalmfm.org
SUMMARY:4th Annual Birchdale Jubilee
DESCRIPTION:Saturday\, July 13th at the Birchdale Community Center \n $5 entry fee- kids 10 years and under are free \nFood\, craft vendors\, skills and machinery demos\, bouncy house\, historic washing machine display\, blacksmithing\, banjo workshop and more! \n  \nShow and Shine from 10:00-1:00. Bring your project or restored motorcycle\, car\, truck\, engine\, or other fun project to put on display. \nLive music under the pavilion from 10-5 \nBreakfast 7:00-10:00 \nLunch meal 12:00-1:30 \nConcessions 10:00-5:00 \n 
URL:https://psalmfm.org/event/4th-annual-birchdale-jubilee/
END:VEVENT
BEGIN:VEVENT
DTSTART;TZID=UTC:20240713T090000
DTEND;TZID=UTC:20240713T130000
DTSTAMP:20260425T113203
CREATED:20240624T154733Z
LAST-MODIFIED:20240624T154733Z
UID:9477-1720861200-1720875600@psalmfm.org
SUMMARY:Bloodmobile- Side Lake
DESCRIPTION:Saturday\, July 13\, 2024 \n09:00 am – 01:00 pm \nSide Lake Rec Center \n7548 CR – 5\nParking Lot\nSide Lake\, MN 55781 \nPrimary Blood Drive Coordinator \nAlyssa Jerulle\nEmail: m.a.jerulle@gmail.com\nPhone: 218-969-8448
URL:https://psalmfm.org/event/bloodmobile-side-lake/
END:VEVENT
BEGIN:VEVENT
DTSTART;TZID=UTC:20240713T100000
DTEND;TZID=UTC:20240713T120000
DTSTAMP:20260425T113203
CREATED:20240628T180649Z
LAST-MODIFIED:20240628T180649Z
UID:9529-1720864800-1720872000@psalmfm.org
SUMMARY:Bemidji Aglow Outreach Meeting
DESCRIPTION:There will be a Bemidji Aglow Outreach meeting on Saturday\, July 13th from 10-noon at Beltrami Electric\, located at 4111 Technology Dr NW. \nPraise and Worship will be led by Julie and Jeyshua Bush. A video of Dutch Sheets from ‘GiveHim15’ will be shown followed by prayer and decrees for our country.
URL:https://psalmfm.org/event/bemidji-aglow-outreach-meeting/
END:VEVENT
BEGIN:VEVENT
DTSTART;TZID=UTC:20240713T120000
DTEND;TZID=UTC:20240713T160000
DTSTAMP:20260425T113203
CREATED:20240711T150158Z
LAST-MODIFIED:20240711T150158Z
UID:9534-1720872000-1720886400@psalmfm.org
SUMMARY:First Presbyterian Church Community Picnic
DESCRIPTION:Come join First Presbyterian Church on July 13th from noon to 4 as they celebrate 115 years in the community. There will be food\, fellowships\nbirthday cake\, games\, music\, face painting. All Invited! Bring a friend!
URL:https://psalmfm.org/event/first-presbyterian-church-community-picnic/
END:VEVENT
BEGIN:VEVENT
DTSTART;TZID=UTC:20240714T100000
DTEND;TZID=UTC:20240714T120000
DTSTAMP:20260425T113203
CREATED:20240514T145640Z
LAST-MODIFIED:20240514T145640Z
UID:9188-1720951200-1720958400@psalmfm.org
SUMMARY:Presence Music Acoustic Worship and Message at Nashwauk Alliance
DESCRIPTION:Nashwauk Alliance Church invites you to join them as Presence Music leads acoustic worship and lead singer Brandon Monson gives an inspiring message on Sunday\, July 14th starting at 10am. \n 
URL:https://psalmfm.org/event/presence-music-acoustic-worship-and-message-at-nashwauk-alliance/
END:VEVENT
BEGIN:VEVENT
DTSTART;TZID=UTC:20240717T110000
DTEND;TZID=UTC:20240717T150000
DTSTAMP:20260425T113203
CREATED:20240712T163036Z
LAST-MODIFIED:20240712T163036Z
UID:9568-1721214000-1721228400@psalmfm.org
SUMMARY:Hibbing Job Fair
DESCRIPTION:Hibbing Job Fair- A Range of Opportunities will be Wednesday\, July 17th at Hibbing CareerForce\, located at 3920 13th Ave E. Open to the public 11-3\, Veterans only 10:30-11. Resume assistance available. \n \n 
URL:https://psalmfm.org/event/hibbing-job-fair/
END:VEVENT
BEGIN:VEVENT
DTSTART;TZID=UTC:20240717T120000
DTEND;TZID=UTC:20240717T130000
DTSTAMP:20260425T113203
CREATED:20240625T151031Z
LAST-MODIFIED:20240625T151031Z
UID:9499-1721217600-1721221200@psalmfm.org
SUMMARY:Bemidji Area Church Musicians Recital
DESCRIPTION:The 37th season of the Summer Recital Series presented by the Bemidji Area Church Musicians (BACM) continues on Wednesday July 17th\, 12:00 noon\, at the Evangelical Covenant Church. Performing will be Lois Simonson\, piano; Kari Miller\, flute; Sanna Gustafson\, saxaphone; Janet Pederson\, violin. \nA luncheon will follow the 30-minute concert with a price to be announced.  Evangelical Covenant Church is located at 5405 Hwy 2 W. \nA free-will offering will be received at the door for the Scholarship programs of the Bemidji Area Church Musicians. \nThe public is cordially invited to all of the recitals in the season. For further information call Barbara Fisher (218-556-0098) or Carol L. Johnson (218-751-0415).
URL:https://psalmfm.org/event/bemidji-area-church-musicians-recital-3/
END:VEVENT
BEGIN:VEVENT
DTSTART;TZID=UTC:20240717T120000
DTEND;TZID=UTC:20240717T180000
DTSTAMP:20260425T113203
CREATED:20240624T154617Z
LAST-MODIFIED:20240624T154617Z
UID:9473-1721217600-1721239200@psalmfm.org
SUMMARY:Bloodmobile- Ifalls
DESCRIPTION:Wednesday\, July 17\, 2024 \n12:00 pm – 06:00 pm \nEvangelical Covenant Church \n1631 1st Ave. E.\nFamily Life Center/Gym\nInternational Falls\, MN 56649 \nPrimary Blood Drive Coordinator \nIrene Anderson\nEmail: ianderson48@midco.net\nPhone: 218-285-7126
URL:https://psalmfm.org/event/bloodmobile-ifalls/
END:VEVENT
BEGIN:VEVENT
DTSTART;TZID=UTC:20240717T140000
DTEND;TZID=UTC:20240717T190000
DTSTAMP:20260425T113203
CREATED:20240624T160702Z
LAST-MODIFIED:20250618T160315Z
UID:9487-1721224800-1721242800@psalmfm.org
SUMMARY:ElderCircle's Aces for Elders Golf Tournament
DESCRIPTION:ElderCircle’s Annual “Aces for Elders\, a Jerry & Shirley Miner Memorial”\, Golf Tournament will be on Thursday\, July 17\, 2025\, at the Eagle Ridge Golf Course in Coleraine Minnesota. \nFor more information contact Paula at 218-999-9233 ext. 275 or pdibb@eldercircle.org \n2pm- check in begins \n2:45- meet at the putting green \n3pm- 9-hold shotgun start \n5:30- social hour\, dinner and prizes  \nProceeds will benefit ElderCircle’s Assisted Transportation Program
URL:https://psalmfm.org/event/eldercircles-aces-for-elders-golf-tournament/
END:VEVENT
BEGIN:VEVENT
DTSTART;TZID=UTC:20240717T160000
DTEND;TZID=UTC:20240717T180000
DTSTAMP:20260425T113203
CREATED:20240715T170511Z
LAST-MODIFIED:20240715T170511Z
UID:9575-1721232000-1721239200@psalmfm.org
SUMMARY:Summer Blockparty @ Floodwood New Life Community Church
DESCRIPTION:Floodwoood New Life Community Church is planning a mid-summer hang out night this Wednesday\, July 17th from 4-6 t the church. They’ll have food\, games\, and overall\, just a night to reconnect. Bring your friends\, siblings and even your parents!
URL:https://psalmfm.org/event/summer-blockparty-floodwood-new-life-community-church/
END:VEVENT
BEGIN:VEVENT
DTSTART;TZID=UTC:20240718T130000
DTEND;TZID=UTC:20240718T170000
DTSTAMP:20260425T113203
CREATED:20240627T165155Z
LAST-MODIFIED:20240712T155326Z
UID:9522-1721307600-1721322000@psalmfm.org
SUMMARY:AARP Defensive Driver Course
DESCRIPTION:AARP Defensive Driver Course \nWhy Take the Defensive Driver Course? \nThe AARP Defensive Driver course is the nation’s first course specifically designed for drivers age 55 and older. Drivers will benefit from a 10% discount on their auto insurance premium upon completing the course. Drivers learn how to manage and accommodate common age-related changes in vision\, hearing and reaction time. \n  \nThursday\, July 18\, 2024 \n1pm-5pm \nYMCA \n400 River Road Grand Rapids\, MN 55744 \nTo Register for this class\, please call \n218-327-5730 \n  \nCost for the class is $20 for AARP members and $25 for nonmembers. Please arrive 15 minutes early for registration paperwork. \nContact Peggy Brennan at 651-895-6465 with any questions. \nIf interested in becoming a Smart Driver instructor\, please call Marn Flicker\, 763-291-4411.
URL:https://psalmfm.org/event/aarp-defensive-driver-course/
END:VEVENT
BEGIN:VEVENT
DTSTART;TZID=UTC:20240721T120000
DTEND;TZID=UTC:20240721T153000
DTSTAMP:20260425T113203
CREATED:20240624T154927Z
LAST-MODIFIED:20240624T154927Z
UID:9483-1721563200-1721575800@psalmfm.org
SUMMARY:Bloodmobile- Embarrass
DESCRIPTION:Sunday\, July 21\, 2024 \n12:00 pm – 03:30 pm \nERFA Timber Hall \n4855 Highway 21\nTimber Hall\nEmbarrass\, MN 55732 \nPrimary Blood Drive Coordinator \nBonnie Overton\nEmail: bonnie_overton@yahoo.com
URL:https://psalmfm.org/event/bloodmobile-embarrass/
END:VEVENT
BEGIN:VEVENT
DTSTART;TZID=UTC:20240721T190000
DTEND;TZID=UTC:20240721T210000
DTSTAMP:20260425T113203
CREATED:20240711T155623Z
LAST-MODIFIED:20240711T155623Z
UID:9555-1721588400-1721595600@psalmfm.org
SUMMARY:Church Night at the Roseau County Fair with Jason Gray
DESCRIPTION:The Roseau Area Ministerial Association is bringing Jason Gray to share a message of Christian music and hope at Church Night at the Fair. Join them on Sunday\, July 21st at 7pm. Jason’s music shares finding faith\, strength and hope in the midst of life’s challenges and despair.
URL:https://psalmfm.org/event/church-night-at-the-roseau-county-fair-with-jason-gray/
END:VEVENT
BEGIN:VEVENT
DTSTART;TZID=UTC:20240723T140000
DTEND;TZID=UTC:20240723T180000
DTSTAMP:20260425T113203
CREATED:20240712T184546Z
LAST-MODIFIED:20240712T184546Z
UID:9571-1721743200-1721757600@psalmfm.org
SUMMARY:Visitor's Day @ NCROC
DESCRIPTION:The University of Minnesota North Central Research & Outreach Center (NCROC) will host its annual Visitor’s Day on Tuesday\, July 23rd from 2-6. Tours\, activities\, informational booths and vendors will be featured throughout the event. NCROC is located on the east edge of Grand Rapids at 1861 East Hwy 169. For more information\, contact NCROC at 218-327-4490 ext. 2001 or visit ncroc.cfans.umn.edu/
URL:https://psalmfm.org/event/visitors-day-ncroc/
END:VEVENT
BEGIN:VEVENT
DTSTART;TZID=UTC:20240724T090000
DTEND;TZID=UTC:20240724T130000
DTSTAMP:20260425T113203
CREATED:20240624T154526Z
LAST-MODIFIED:20240624T154526Z
UID:9471-1721811600-1721826000@psalmfm.org
SUMMARY:Bloodmobile- Grand Rapids
DESCRIPTION:Wednesday\, July 24\, 2024 \n09:00 am – 01:00 pm \nTerex \n840 Lily Ln\nBloodmobile\nGrand Rapids\, MN 55744 \nPrimary Blood Drive Coordinator \nJamie Nielsen\nEmail: jamie.nielsen@asvi.com\nPhone: 218-322-4351
URL:https://psalmfm.org/event/bloodmobile-grand-rapids-9/
END:VEVENT
BEGIN:VEVENT
DTSTART;TZID=UTC:20240724T120000
DTEND;TZID=UTC:20240724T130000
DTSTAMP:20260425T113203
CREATED:20240625T151224Z
LAST-MODIFIED:20240625T151224Z
UID:9501-1721822400-1721826000@psalmfm.org
SUMMARY:Bemidji Area Church Musicians Recital
DESCRIPTION:The 37th season of the Summer Recital Series presented by the Bemidji Area Church Musicians (BACM) continues on Wednesday July 24th\, 12:00 noon\, at the United Methodist Church. Performing will be Glenn Seibel\, euphonium; Wayne Hoff\, piano. \nA luncheon will follow the 30-minute concert with a price to be announced. \nA free-will offering will be received at the door for the Scholarship programs of the Bemidji Area Church Musicians. \nThe public is cordially invited to all of the recitals in the season. For further information call Barbara Fisher (218-556-0098) or Carol L. Johnson (218-751-0415).
URL:https://psalmfm.org/event/bemidji-area-church-musicians-recital-4/
END:VEVENT
BEGIN:VEVENT
DTSTART;TZID=UTC:20240726T080000
DTEND;TZID=UTC:20240727T170000
DTSTAMP:20260425T113203
CREATED:20240628T180214Z
LAST-MODIFIED:20240628T180214Z
UID:9527-1721980800-1722099600@psalmfm.org
SUMMARY:True Hope Fellowship Pro-Life Rummage Sale
DESCRIPTION:Ture Hope Fellowship will be having a Pro-Life Fundraiser Rummage Sale on July 26th and 27th from 8-5. Bake sale\, coffee and so much more. All proceeds will go towards God’s Choice Pro-Life Minisrty. \nTrue Hope Fellowship is located at 1 Sunrise Drive in Virginia.
URL:https://psalmfm.org/event/true-hope-fellowship-pro-life-rummage-sale/
END:VEVENT
BEGIN:VEVENT
DTSTART;TZID=UTC:20240727T180000
DTEND;TZID=UTC:20240727T200000
DTSTAMP:20260425T113203
CREATED:20240614T175358Z
LAST-MODIFIED:20240711T155853Z
UID:9382-1722103200-1722110400@psalmfm.org
SUMMARY:Praise in the Park- Warroad
DESCRIPTION:Warroad’s annual Praise in the Park is July 27 at 6 p.m. Featuring Presence Music and local worship teams\, this is a free event at Allison Park in Warroad. Sponsored by The Jonathan Group.
URL:https://psalmfm.org/event/praise-in-the-park-warroad/
LOCATION:Allison Park\, Lake St NE\, Warroad\, MN\, 56763\, United States
END:VEVENT
BEGIN:VEVENT
DTSTART;TZID=UTC:20240729T100000
DTEND;TZID=UTC:20240731T190000
DTSTAMP:20260425T113203
CREATED:20240724T152710Z
LAST-MODIFIED:20240729T151413Z
UID:9608-1722247200-1722452400@psalmfm.org
SUMMARY: Peregrine Falcons with Jackie Fallon
DESCRIPTION:The Arrowhead Library System is pleased to present Peregrine Falcons with Jackie Fallon\, a free program being offered at the following locations: \nWednesday\, July 24\, 1:00 p.m. at Grand Rapids Area Library \nWednesday\, July 24\, 6:00 p.m. at Keewatin Public Library \nThursday\, July 25\, 11:00 a.m. at Northome School hosted by the Northome City Library & ALS \nMonday\, July 29\, 1:00 p.m. at Mountain Iron Senior Citizens Center\, hosted by Mountain Iron Public Library – NEW LOCATION \nMonday\, July 29\, 4:00 p.m. at Marble Public Library \nMonday\, July 29\, 6:00 p.m. at Calumet Public Library \nTuesday\, July 30\, 10:30 a.m. at Baudette Public Library \nTuesday\, July 30\, 3:30 p.m. at International Falls Public Library \nWednesday\, July 31\, 10:00 a.m. at Cook Community Center\, hosted by Cook Public Library – NEW LOCATION \nWednesday\, July 31\, 2:30 p.m. at Ely Public Library \nWednesday\, July 31\, 6:00 p.m. at Eveleth Public Library \nThe Arrowhead Library System is pleased to present Peregrine Falcons with Jackie Fallon.Join peregrine falcon researcher\, Jackie Fallon\, and her live birds for an up-close look at several types of raptors. Participants will learn the past\, present\, and future ofperegrine falcons in Minnesota\, why they are important\, and what you can do to help them survive in the 21st Century. Make sure to bring a camera! Family-friendly programfor ages 8 to adult.
URL:https://psalmfm.org/event/peregrine-falcons-with-jackie-fallon/
END:VEVENT
END:VCALENDAR