BEGIN:VCALENDAR
VERSION:2.0
PRODID:-//PsalmFM - ECPv6.15.20//NONSGML v1.0//EN
CALSCALE:GREGORIAN
METHOD:PUBLISH
X-ORIGINAL-URL:https://psalmfm.org
X-WR-CALDESC:Events for PsalmFM
REFRESH-INTERVAL;VALUE=DURATION:PT1H
X-Robots-Tag:noindex
X-PUBLISHED-TTL:PT1H
BEGIN:VTIMEZONE
TZID:UTC
BEGIN:STANDARD
TZOFFSETFROM:+0000
TZOFFSETTO:+0000
TZNAME:UTC
DTSTART:20240101T000000
END:STANDARD
END:VTIMEZONE
BEGIN:VEVENT
DTSTART;TZID=UTC:20250203T080000
DTEND;TZID=UTC:20250411T170000
DTSTAMP:20260424T155614
CREATED:20250116T153055Z
LAST-MODIFIED:20250116T153055Z
UID:10546-1738569600-1744390800@psalmfm.org
SUMMARY:Free Tax Preparation- Itasca County
DESCRIPTION:Free Tax Preparation for families and individuals of all ages and backgrounds \nFebruary 3rd-April 11th \nFor more information and appointments call 218-245-9202 \n-by appointment only-walk in service is not available \n-Tax-Aide Volunteers are IRS trained and certified every year \n  \nSponsored by AARP Foundation Tax-Aide and ElderCircle \n  \n 
URL:https://psalmfm.org/event/free-tax-preparation-itasca-county/
END:VEVENT
BEGIN:VEVENT
DTSTART;TZID=UTC:20250204T080000
DTEND;TZID=UTC:20250224T170000
DTSTAMP:20260424T155614
CREATED:20250204T160143Z
LAST-MODIFIED:20250204T160143Z
UID:10695-1738656000-1740416400@psalmfm.org
SUMMARY:Northern Options Diaper Drive
DESCRIPTION:Northern Options Annual Diaper Drive will run from February 4th-25th. Purchase a pack or two of diapers and place them in the decorated cart at Family Dollar. Larger sizes are needed most.
URL:https://psalmfm.org/event/northern-options-diaper-drive/
END:VEVENT
BEGIN:VEVENT
DTSTART;TZID=UTC:20250224T120000
DTEND;TZID=UTC:20250224T183000
DTSTAMP:20260424T155614
CREATED:20250130T173824Z
LAST-MODIFIED:20250130T173824Z
UID:10667-1740398400-1740421800@psalmfm.org
SUMMARY:Bloodmobile- Grand Rapids
DESCRIPTION:Monday\, February 24\, 2025 \n12:00 pm – 06:30 pm \nGrand Itasca Pro Building\n111 SE 3rd St.\nGrand Rapids\, MN 55744 \nPrimary Blood Drive Coordinator \nHannah Chesness\nEmail: hchesne1@Fairview.org\nPhone: 218-999-1016
URL:https://psalmfm.org/event/bloodmobile-grand-rapids-21/
END:VEVENT
BEGIN:VEVENT
DTSTART;TZID=UTC:20250225T090000
DTEND;TZID=UTC:20250225T150000
DTSTAMP:20260424T155614
CREATED:20250130T173858Z
LAST-MODIFIED:20250130T173858Z
UID:10669-1740474000-1740495600@psalmfm.org
SUMMARY:Bloodmobile- Grand Rapids
DESCRIPTION:Tuesday\, February 25\, 2025 \n09:00 am – 03:00 pm \nTerex \n840 Lily Ln\nGrand Rapids\, MN 55744 \nPrimary Blood Drive Coordinator \nJamie Nielsen\nEmail: jamie_nielsen@yanmar.com\nPhone: 218-322-4351
URL:https://psalmfm.org/event/bloodmobile-grand-rapids-22/
END:VEVENT
BEGIN:VEVENT
DTSTART;TZID=UTC:20250226T100000
DTEND;TZID=UTC:20250226T120000
DTSTAMP:20260424T155614
CREATED:20250116T170215Z
LAST-MODIFIED:20250206T175701Z
UID:10556-1740564000-1740571200@psalmfm.org
SUMMARY:Pottery Glazing Class-GR YMCA
DESCRIPTION:Wednesday\, February 26th from 10-12 in the Active Living Center located at the YMCA in Grand Rapids. Cost is $20 per person with registration required by February 20th. \nFor questions or to register\, contact Paula at PDibb@eldercircle.org or ElderCircle at 218-999-9233 ext. 275.
URL:https://psalmfm.org/event/pottery-glazing-class-gr-ymca/
END:VEVENT
BEGIN:VEVENT
DTSTART;TZID=UTC:20250226T130000
DTEND;TZID=UTC:20250226T173000
DTSTAMP:20260424T155614
CREATED:20250130T174959Z
LAST-MODIFIED:20250130T174959Z
UID:10679-1740574800-1740591000@psalmfm.org
SUMMARY:Bloodmobile- Cook
DESCRIPTION:Wednesday\, February 26\, 2025 \n01:00 pm – 05:30 pm \nCook Hospital \n10 Southeast 5th Street\nCook\, MN 55723 \nPrimary Blood Drive Coordinator \nJulia Miller\nEmail: JMiller@cookhospital.org\nPhone: 218-666-6229
URL:https://psalmfm.org/event/bloodmobile-cook-5/
END:VEVENT
BEGIN:VEVENT
DTSTART;TZID=UTC:20250227T090000
DTEND;TZID=UTC:20250227T153000
DTSTAMP:20260424T155614
CREATED:20250130T174909Z
LAST-MODIFIED:20250130T174909Z
UID:10677-1740646800-1740670200@psalmfm.org
SUMMARY:Bloodmobile- Cook
DESCRIPTION:Thursday\, February 27\, 2025 \n09:00 am – 03:30 pm \nNorthwoods School \n10248 Olson Road East\nCook\, MN 55723 \nPrimary Blood Drive Coordinator \nJill Stark\nEmail: jstark@isd2142.k12.mn.us\nPhone: 218-666-5221  5306
URL:https://psalmfm.org/event/bloodmobile-cook-4/
END:VEVENT
BEGIN:VEVENT
DTSTART;TZID=UTC:20250227T100000
DTEND;TZID=UTC:20250227T123000
DTSTAMP:20260424T155614
CREATED:20240627T165026Z
LAST-MODIFIED:20250224T160134Z
UID:9520-1740650400-1740659400@psalmfm.org
SUMMARY:Living Well with Chronic Conditions -Hybrid Workshop
DESCRIPTION:Living Well with Chronic Conditions \nParticipants make weekly action plans\, share experiences and help each other solve problems as they carry out their plans. Topics will include nutrition\, exercise\, medication use\, pain management\, emotions and communicating with medical providers. \nFebruary 6\, 13\, 20\, 27\, March 6 and 13 (6 sessions total)  \n10:00am-12:30pm  \nat The Pillars- Theater Room \nThis Class is Free! Donations Welcome. \nInstructors: Kelly Campbell – Grand Itasca Clinic & Hospital and Laura Pipkin– Fairview Range Hibbing \nFor questions\, or to Register\, please contact: \nDanielle at 218-999-9233 ext.282
URL:https://psalmfm.org/event/living-well-with-chronic-conditions-virtual-workshop/
END:VEVENT
BEGIN:VEVENT
DTSTART;TZID=UTC:20250228T090000
DTEND;TZID=UTC:20250228T130000
DTSTAMP:20260424T155614
CREATED:20250130T175033Z
LAST-MODIFIED:20250130T175033Z
UID:10681-1740733200-1740747600@psalmfm.org
SUMMARY:Bloodmobile- Tower
DESCRIPTION:Friday\, February 28\, 2025 \n09:00 am – 01:00 pm \nFortune Bay Casino \n1430 Bois Forte Road\nTower\, MN 55790 \nPrimary Blood Drive Coordinator \nAlex Sheehy\nEmail: alexsheehy@fortunebay.com\nPhone: 218-753-7832
URL:https://psalmfm.org/event/bloodmobile-tower-3/
END:VEVENT
BEGIN:VEVENT
DTSTART;TZID=UTC:20250228T183000
DTEND;TZID=UTC:20250301T200000
DTSTAMP:20260424T155614
CREATED:20250121T161314Z
LAST-MODIFIED:20250130T175929Z
UID:10565-1740767400-1740859200@psalmfm.org
SUMMARY:Gather 25
DESCRIPTION:The Global Church gathering together like never before. Every believer. Every continent. Together across 25 hours. \nFebruary 28th 6:45pm- March 1 8:00pm \nJoin Cornerstone Christian School for a 25-hour live broadcast where believers across the world will pray\, repent\, worship\, and discover how the love of Jesus is transforming the world. \nFamily friendly free event \nNo registration required \nLight snacks provided \nCome and go as you wish
URL:https://psalmfm.org/event/gather-25/
END:VEVENT
BEGIN:VEVENT
DTSTART;TZID=UTC:20250301T080000
DTEND;TZID=UTC:20250309T170000
DTSTAMP:20260424T155614
CREATED:20250224T171647Z
LAST-MODIFIED:20250224T171647Z
UID:10748-1740816000-1741539600@psalmfm.org
SUMMARY:Missions Conference @ ECC IFalls
DESCRIPTION:Missions Week at the Evangelical Covenant Church in Ifalls will be from March 1st to March 9th. \nSaturday\, March 1\n• 6-7:30pm — Prayer & Worship Night with Nate Oyloe. Join them for a time of worship & prayer; sweets\nfollowing.\nSunday\, March 2\n• 9:30am — Sunday School with Megan Herrly & Kirsten Wagenius\n• 10:30am — Worship with Nate Oyloe\n• 11:45am— “Travel Around the World” luncheon; please bring a entrée\, salad or dessert from another\ncountry to share.\nMonday\, March 3\n• 6pm — Outreach Activity to RRCC. Meet at the church to assemble packages & then go to the college\nfor a prayer walk.\nWednesday\, March 5\n• 6-8pm — Ash Wednesday service with Covenant Kids & Teens\nThursday\, March 6\n• 7pm — Young Adults with Rachel Zupke via ZOOM\nFriday\, March 7\n• 6:30pm — BUNCO Party in the gym; bring appetizer to share.\nSaturday\, March 8\n• 2-4pm — Family Fun at ECC (Bounce House\, Games\, Puppet Show)\nSunday\, March 9\n• 9:30am — Sunday School with Nathan Enns \nVisit their website at ifallscovenant.org for more details.
URL:https://psalmfm.org/event/missions-conference-ecc-ifalls/
END:VEVENT
BEGIN:VEVENT
DTSTART;TZID=UTC:20250301T083000
DTEND;TZID=UTC:20250301T120000
DTSTAMP:20260424T155614
CREATED:20250225T170837Z
LAST-MODIFIED:20250225T170837Z
UID:10780-1740817800-1740830400@psalmfm.org
SUMMARY:Bloodmobile- Embarrass
DESCRIPTION:Saturday\, March 01\, 2025 \n08:30 am – 12:00 pm \nERFA Timber Hall \n4855 Highway 21\nEmbarrass\, MN 55732 \nPrimary Blood Drive Coordinator \nBonnie Overton\nEmail: bonnie_overton@yahoo.com
URL:https://psalmfm.org/event/bloodmobile-embarrass-3/
END:VEVENT
BEGIN:VEVENT
DTSTART;TZID=UTC:20250301T160000
DTEND;TZID=UTC:20250301T190000
DTSTAMP:20260424T155614
CREATED:20250128T162132Z
LAST-MODIFIED:20250128T162132Z
UID:10609-1740844800-1740855600@psalmfm.org
SUMMARY:Soup Supper @ Birchdale Hall
DESCRIPTION:The Birchdale Congregational Church invites you to their Soup Supper on Saturday\, March 1st from 4-7 at the Birchdale Community Hall. There will be homemade soups\, breads and pies. Come for some hot soup and stay a while for some great visiting. Free will donation.
URL:https://psalmfm.org/event/soup-supper-birchdale-hall/
END:VEVENT
BEGIN:VEVENT
DTSTART;TZID=UTC:20250301T160000
DTEND;TZID=UTC:20250301T190000
DTSTAMP:20260424T155614
CREATED:20250214T152801Z
LAST-MODIFIED:20250214T152801Z
UID:10727-1740844800-1740855600@psalmfm.org
SUMMARY:Birchdale Soup Supper
DESCRIPTION:There will be a Soup Supper at the Birchdale Community Hall on March 1st from 4-7pm. Large variety of homemade soups\, bread and pies for a free will donation. \nSponsored by the Birchdale Congregational Church on highway 11 in Birchdale.
URL:https://psalmfm.org/event/birchdale-soup-supper/
END:VEVENT
BEGIN:VEVENT
DTSTART;TZID=UTC:20250305T100000
DTEND;TZID=UTC:20250305T160000
DTSTAMP:20260424T155614
CREATED:20250225T164552Z
LAST-MODIFIED:20250225T164552Z
UID:10756-1741168800-1741190400@psalmfm.org
SUMMARY:Bloodmobile- Blackduck
DESCRIPTION:Wednesday\, March 05\, 2025 \n10:00 am – 04:00 pm \nBlackduck High School \n156 First St. NE\nP.O. Box 550\nBlackduck\, MN 56630 \nPrimary Blood Drive Coordinator \nKim Coborn\nEmail: kcoborn@blackduck.k12.mn.us\nPhone: 218-835-5225
URL:https://psalmfm.org/event/bloodmobile-blackduck/
END:VEVENT
BEGIN:VEVENT
DTSTART;TZID=UTC:20250306T090000
DTEND;TZID=UTC:20250306T123000
DTSTAMP:20260424T155614
CREATED:20250225T165937Z
LAST-MODIFIED:20250225T165937Z
UID:10764-1741251600-1741264200@psalmfm.org
SUMMARY:Bloodmobile- Cohasset
DESCRIPTION:Thursday\, March 06\, 2025 \n09:00 am – 12:30 pm \nBoswell Energy Center \n1210 NW 3rd St\nCohasset\, MN 55721 \nPrimary Blood Drive Coordinator \nMelissa Adams\nEmail: madams@mnpower.com\nPhone: 218-313-4276
URL:https://psalmfm.org/event/bloodmobile-cohasset-4/
END:VEVENT
BEGIN:VEVENT
DTSTART;TZID=UTC:20250306T100000
DTEND;TZID=UTC:20250306T140000
DTSTAMP:20260424T155614
CREATED:20250128T174212Z
LAST-MODIFIED:20250128T174212Z
UID:10633-1741255200-1741269600@psalmfm.org
SUMMARY:Hibbing Health and Wellness Fair
DESCRIPTION:The Hibbing Health and Wellness Fair will be held on Thursday\, March 6th at the Minnesota North College-Hibbing Campus from 10am-2pm. \nQuestions?\nHibbing Area Chamber of Commerce\n218-262-3895 / info@hibbing.org
URL:https://psalmfm.org/event/hibbing-health-and-wellness-fair/
END:VEVENT
BEGIN:VEVENT
DTSTART;TZID=UTC:20250307T190000
DTEND;TZID=UTC:20250307T203000
DTSTAMP:20260424T155614
CREATED:20250214T153103Z
LAST-MODIFIED:20250214T153103Z
UID:10729-1741374000-1741379400@psalmfm.org
SUMMARY:Silent film - "Safety Last" @ First United Methodist Church in Duluth
DESCRIPTION:Classic silent film showing on Friday\, March 7 at 7:00pm with renowned theatre organist Jelani Eddington providing live accompaniment! \nCome see and hear what it was like to experience a silent film back in the 1920’s! Theatre organist Jelani Eddington will accompany the silent film\, “Safety Last!” on Friday\, March 7 at 7:00 p.m. at Duluth’s First United Methodist Church. This event continues to celebrate the recent renovation and expansion of the church’s Austin pipe organ. All ages are most welcome. Admission to the concert is free\, with a suggested donation of $20. \nFirst United Methodist Church is located at 230 # Skyline Parkway
URL:https://psalmfm.org/event/silent-film-safety-last-first-united-methodist-church-in-duluth/
END:VEVENT
BEGIN:VEVENT
DTSTART;TZID=UTC:20250308T180000
DTEND;TZID=UTC:20250308T200000
DTSTAMP:20260424T155614
CREATED:20250122T170517Z
LAST-MODIFIED:20250127T175915Z
UID:10571-1741456800-1741464000@psalmfm.org
SUMMARY:Joel Vaughn and Presence Music Band (Ft. Frances\, ON)
DESCRIPTION:PsalmFM presents Joel Vaughn and Presence Music Band On Tour at New Beginnings Fellowship in Fort Frances on Saturday\, March 8th\, at 6 p.m. \nJoel is a national recording artist from Dream Records all the way from Nashville\, and has been featured on KLove and TBN as well as Psalm FM of course. Presence Music Band is local to northern MN but travels all over the Midwest and beyond. Don’t miss out on two great artists bringing acoustic pop-worship. \nThe concert is FREE event with a free will offering taken to bless their ministry. \nClick here to get a printable flier to share in your church or community. Concert poster
URL:https://psalmfm.org/event/joel-vaughn-and-presence-music-band-new-beginnings-fellowship/
END:VEVENT
BEGIN:VEVENT
DTSTART;TZID=UTC:20250309T100000
DTEND;TZID=UTC:20250309T120000
DTSTAMP:20260424T155614
CREATED:20250127T174219Z
LAST-MODIFIED:20250127T175031Z
UID:10587-1741514400-1741521600@psalmfm.org
SUMMARY:Joel Vaughn\, Presence Music (Marcell\, MN)
DESCRIPTION:Joel Vaughn and Presence Music Band provide the music and message during the Sunday service. A free will offering will be taken to bless their ministry. Joel is a national recording artist from Dream Records all the way from Nashville\, and has been featured on Klove and TBN. Presence Music Band is local to Duluth but now travels nationwide! \nhttps://www.facebook.com/share/17p1J2Ef7E/
URL:https://psalmfm.org/event/joel-vaughn-presence-music-marcell-mn/
LOCATION:Marcell Community Church\, 49103 St. Hwy 38\, Marcell\, Minnesota\, 56657
END:VEVENT
BEGIN:VEVENT
DTSTART;TZID=UTC:20250309T123000
DTEND;TZID=UTC:20250309T143000
DTSTAMP:20260424T155614
CREATED:20250228T182622Z
LAST-MODIFIED:20250228T182622Z
UID:10803-1741523400-1741530600@psalmfm.org
SUMMARY:16th Annual Kids Fishing Derby
DESCRIPTION:The Kids Fishing Derby will be held at the Access of Island Lake in Northome\, MN on Sunday\, March 9th from 12:30-2:30. Derby is for Kids Ages 15 and under with kids ages 10 & under accompanied by a guardian. Derby is FREE and Sign up is the day of the derby on the ice. Please bring your own Pole and something to sit on if you would like but\, 1 hole will be provided for you! There will be a Lunch Wagon on the Ice for Concessions and any money Made or donated that day will go for next years Derby! If there is anyone interested in donating prizes or money for the Kids Fishing Derby you Can contact Amanda at the True Value at 218-897-5648 or cell is 218-766-1444 or you can just drop off items at the Northome True Value Store!PLEASE WATCH FOR UPDATES AS ICE CONDITIONS MAY CHANGE!!
URL:https://psalmfm.org/event/16th-annual-kids-fishing-derby/
END:VEVENT
BEGIN:VEVENT
DTSTART;TZID=UTC:20250311T110000
DTEND;TZID=UTC:20250311T150000
DTSTAMP:20260424T155614
CREATED:20250225T170413Z
LAST-MODIFIED:20250225T170413Z
UID:10774-1741690800-1741705200@psalmfm.org
SUMMARY:Bloodmobile- Iron
DESCRIPTION:Tuesday\, March 11\, 2025 \n11:00 am – 03:00 pm \nCherry School \n3943 Tamminen Road\nIron\, MN 55751 \nPrimary Blood Drive Coordinator \nChelsea Anderson\nEmail: ceanderson@isd2142.k12.mn.us\nPhone: 218-258-8991
URL:https://psalmfm.org/event/bloodmobile-iron/
END:VEVENT
BEGIN:VEVENT
DTSTART;TZID=UTC:20250313T090000
DTEND;TZID=UTC:20250313T160000
DTSTAMP:20260424T155614
CREATED:20250225T170109Z
LAST-MODIFIED:20250225T170109Z
UID:10768-1741856400-1741881600@psalmfm.org
SUMMARY:Bloodmbile- Grand Rapids
DESCRIPTION:Thursday\, March 13\, 2025 \n09:00 am – 04:00 pm \nYMCA \n400 River Rd\nGrand Rapids\, MN 55744 \nPrimary Blood Drive Coordinator \nLori Whitted\nEmail: lori@eldercircle.org\nPhone: 218-999-9233 278
URL:https://psalmfm.org/event/bloodmbile-grand-rapids/
END:VEVENT
BEGIN:VEVENT
DTSTART;TZID=UTC:20250314T173000
DTEND;TZID=UTC:20250314T190000
DTSTAMP:20260424T155614
CREATED:20250303T185409Z
LAST-MODIFIED:20250303T185409Z
UID:10807-1741973400-1741978800@psalmfm.org
SUMMARY:The Gathering- Gemmel Community Church
DESCRIPTION:Gemmel Community Church invites you to a potluck followed by praising and worshipping our Lord on Friday\, March 14h starting at 5:30pm. They are celebrating God’s mercy and grace over the church for 100 years.
URL:https://psalmfm.org/event/the-gathering-gemmel-community-church/
END:VEVENT
BEGIN:VEVENT
DTSTART;TZID=UTC:20250315T090000
DTEND;TZID=UTC:20250315T110000
DTSTAMP:20260424T155614
CREATED:20250311T151457Z
LAST-MODIFIED:20250311T151457Z
UID:10818-1742029200-1742036400@psalmfm.org
SUMMARY:Big Falls CERC Annual Pancake Breakfast
DESCRIPTION:The Big Falls CERC will be having their Annual Pancake Breakfast on Saturday\, March 15th from 9-11am in the Big Falls Community Gym.
URL:https://psalmfm.org/event/big-falls-cerc-annual-pancake-breakfast/
END:VEVENT
BEGIN:VEVENT
DTSTART;TZID=UTC:20250315T090000
DTEND;TZID=UTC:20250315T160000
DTSTAMP:20260424T155614
CREATED:20250129T190412Z
LAST-MODIFIED:20250129T190412Z
UID:10656-1742029200-1742054400@psalmfm.org
SUMMARY:Rural Impact Leadership Conference
DESCRIPTION:The Rural Impact Leadership Conference is a one-day leadership training event for rural and small-town ministry leaders and pastors and will be held on Saturday\, March 15th from 9am-4pm at the Alexandria Covenant Church. \nTickets can be purchased for in-person\, online or group watch parties at ruralimpact.church.
URL:https://psalmfm.org/event/rural-impact-leadership-conference/
END:VEVENT
BEGIN:VEVENT
DTSTART;TZID=UTC:20250316T140000
DTEND;TZID=UTC:20250316T150000
DTSTAMP:20260424T155614
CREATED:20250313T151039Z
LAST-MODIFIED:20250313T151039Z
UID:10831-1742133600-1742137200@psalmfm.org
SUMMARY:Community Town Hall- Backus Community Center
DESCRIPTION:Senator Grant Hauschild will be hosting a public Town Hall on Sunday\, March 16th from 2:00pm – 3:00pm at the Backus Community Center. From state policies most important to Northern Minnesota to concerns about federal budget decisions affecting our communities\, this is your opportunity to ask questions\, share your thoughts\, and engage in an open and respectful conversation.
URL:https://psalmfm.org/event/community-town-hall-backus-community-center/
END:VEVENT
BEGIN:VEVENT
DTSTART;TZID=UTC:20250318T100000
DTEND;TZID=UTC:20250318T140000
DTSTAMP:20260424T155614
CREATED:20250225T170527Z
LAST-MODIFIED:20250225T170527Z
UID:10778-1742292000-1742306400@psalmfm.org
SUMMARY:Bloodmobile- Aurora
DESCRIPTION:Tuesday\, March 18\, 2025 \n10:00 am – 02:00 pm \nMesabi East High School \n601 North First Street West\nAurora\, MN 55705 \nPrimary Blood Drive Coordinator \nShara Jarvela\nEmail: sjarvela@isd2711.org\nPhone: 218-229-3321 286
URL:https://psalmfm.org/event/bloodmobile-aurora-7/
END:VEVENT
BEGIN:VEVENT
DTSTART;TZID=UTC:20250318T190000
DTEND;TZID=UTC:20250318T203000
DTSTAMP:20260424T155614
CREATED:20250225T173827Z
LAST-MODIFIED:20250225T173827Z
UID:10786-1742324400-1742329800@psalmfm.org
SUMMARY:Tuesday Musicale-Backus Community Center
DESCRIPTION:Mark your calendars for March 18th. In honor of Music in Our Schools month\, Tuesday Musicale will be presenting a student recital at the Backus Community Center Auditorium at 7pm. Students from our area schools will be preforming. Free will donation- all donations will go towards music camp scholarships this summer.
URL:https://psalmfm.org/event/tuesday-musicale-backus-community-center/
END:VEVENT
BEGIN:VEVENT
DTSTART;TZID=UTC:20250319T100000
DTEND;TZID=UTC:20250319T140000
DTSTAMP:20260424T155614
CREATED:20250225T170337Z
LAST-MODIFIED:20250225T170337Z
UID:10772-1742378400-1742392800@psalmfm.org
SUMMARY:Bloodmobile- Grand Rapids
DESCRIPTION:Wednesday\, March 19\, 2025 \n10:00 am – 02:00 pm \nGrand Rapids DNR \n1201 East Highway Two\nGrand Rapids\, MN 55744 \nPrimary Blood Drive Coordinator \nGrace Bryngelson\nEmail: grace.bryngelson@state.mn.us\nPhone: 218-328-8784
URL:https://psalmfm.org/event/bloodmobile-grand-rapids-26/
END:VEVENT
END:VCALENDAR