BEGIN:VCALENDAR
VERSION:2.0
PRODID:-//PsalmFM - ECPv6.15.20//NONSGML v1.0//EN
CALSCALE:GREGORIAN
METHOD:PUBLISH
X-ORIGINAL-URL:https://psalmfm.org
X-WR-CALDESC:Events for PsalmFM
REFRESH-INTERVAL;VALUE=DURATION:PT1H
X-Robots-Tag:noindex
X-PUBLISHED-TTL:PT1H
BEGIN:VTIMEZONE
TZID:UTC
BEGIN:STANDARD
TZOFFSETFROM:+0000
TZOFFSETTO:+0000
TZNAME:UTC
DTSTART:20240101T000000
END:STANDARD
END:VTIMEZONE
BEGIN:VEVENT
DTSTART;TZID=UTC:20250801T090000
DTEND;TZID=UTC:20250801T160000
DTSTAMP:20260425T103006
CREATED:20250722T155818Z
LAST-MODIFIED:20250722T155818Z
UID:11366-1754038800-1754064000@psalmfm.org
SUMMARY:Bloodmobile- Grand Rapids
DESCRIPTION:Friday\, August 01\, 2025 \n09:00 am – 04:00 pm \nDeerwood Bank \n2950 US-169\nBlood Mobile\nGrand Rapids\, MN 55744 \nPrimary Blood Drive Coordinator: \nShona Arnold\nEmail: shona.humphrey@deerwoodbank.com\nPhone: 218-327-4833
URL:https://psalmfm.org/event/bloodmobile-grand-rapids-40/
END:VEVENT
BEGIN:VEVENT
DTSTART;TZID=UTC:20250801T093000
DTEND;TZID=UTC:20250801T160000
DTSTAMP:20260425T103006
CREATED:20250722T160353Z
LAST-MODIFIED:20250722T160353Z
UID:11372-1754040600-1754064000@psalmfm.org
SUMMARY:Bloodmobile- Aurora
DESCRIPTION:Friday\, August 01\, 2025 \n09:30 am – 04:00 pm \nOur Savior’s Lutheran Church \n302 S. 2nd Street East\nFellowship Hall\nAurora\, MN 55705 \nPrimary Blood Drive Coordinator: \nBob Rutka\nEmail: robertrutka@hotmail.com\nPhone: 218-368-1249 \n 
URL:https://psalmfm.org/event/bloodmobile-aurora-3/
END:VEVENT
BEGIN:VEVENT
DTSTART;TZID=UTC:20250802T080000
DTEND;TZID=UTC:20250802T160000
DTSTAMP:20260425T103006
CREATED:20250714T190441Z
LAST-MODIFIED:20250714T190441Z
UID:11329-1754121600-1754150400@psalmfm.org
SUMMARY:Nashwauk Alliance Youth Yard/Bake Sale
DESCRIPTION:Nashwauk Alliance Church Youth Group will be having a Camp Scholarship Fundraiser Yard/Bake Sale on August 2nd from 8-4.Nashwauk Alliance is located at 825 1st St in Nashwauk. For more information call 218-885-3334 or go to nashwaukalliance.org.
URL:https://psalmfm.org/event/nashwauk-alliance-youth-yard-bake-sale/
END:VEVENT
BEGIN:VEVENT
DTSTART;TZID=UTC:20250804T090000
DTEND;TZID=UTC:20250807T120000
DTSTAMP:20260425T103006
CREATED:20250619T160556Z
LAST-MODIFIED:20250701T170451Z
UID:11269-1754298000-1754568000@psalmfm.org
SUMMARY:VBS at First Baptist Church - Ifalls
DESCRIPTION:VBS at First Baptist Church in International Falls will be August 4-7 from 9-noon for kids age preschool through 6th grade. There will also be a time of fun and Bible learning for high students\, so everyone is welcome to come out! \nThere will also be a family carnival August 8th starting at 6pm with a bouncy house\, hamburgers\, hotdogs\, yards games\, cotton candy and more. \nFor more information call the church at 218-283-3598.
URL:https://psalmfm.org/event/vbs-first-baptist-church-ifalls/
END:VEVENT
BEGIN:VEVENT
DTSTART;TZID=UTC:20250804T100000
DTEND;TZID=UTC:20250808T120000
DTSTAMP:20260425T103006
CREATED:20250801T154036Z
LAST-MODIFIED:20250801T154036Z
UID:11403-1754301600-1754654400@psalmfm.org
SUMMARY:VBS- Babbitt Assembly of God
DESCRIPTION:True North VBS for kids ages 4 – 12 will be happening at Babbitt Assembly of God on Monday\, August 4 thru Fri. August 8th from 10 – Noon each day. Please register online at Myvbs.org/bag
URL:https://psalmfm.org/event/vbs-babbitt-assembly-of-god/
END:VEVENT
BEGIN:VEVENT
DTSTART;TZID=UTC:20250804T113000
DTEND;TZID=UTC:20250804T180000
DTSTAMP:20260425T103006
CREATED:20250722T155211Z
LAST-MODIFIED:20250722T155211Z
UID:11355-1754307000-1754330400@psalmfm.org
SUMMARY:Bloodmobile-Grand Rapids
DESCRIPTION:Monday\, August 04\, 2025 \n11:30 am – 06:00 pm \nGrand Itasca Clinic and Hospital \n1601 Golf Course Road\nBloodmobile\nGrand Rapids\, MN 55744 \nPrimary Blood Drive Coordinator: \nHannah Chesness\nEmail: hchesne1@Fairview.org\nPhone: 218-999-1016
URL:https://psalmfm.org/event/bloodmobile-grand-rapids/
END:VEVENT
BEGIN:VEVENT
DTSTART;TZID=UTC:20250804T180000
DTEND;TZID=UTC:20250807T203000
DTSTAMP:20260425T103006
CREATED:20250714T185451Z
LAST-MODIFIED:20250714T185451Z
UID:11323-1754330400-1754598600@psalmfm.org
SUMMARY:VBS- Littlefork Baptist Church-"Walking by Faith"
DESCRIPTION:VBS at Littlefork Baptist Church will be August 4-7 from 6-8:15pm for kids grades k-6. Faith lessons\, cool crafts\, fun games and yummy snacks. For more information call (218) 278-6695 .
URL:https://psalmfm.org/event/vbs-littlefork-baptist-church-walking-by-faith/
END:VEVENT
BEGIN:VEVENT
DTSTART;TZID=UTC:20250805T160000
DTEND;TZID=UTC:20250805T190000
DTSTAMP:20260425T103006
CREATED:20250801T165015Z
LAST-MODIFIED:20250801T165015Z
UID:11407-1754409600-1754420400@psalmfm.org
SUMMARY:National Night Out- Ifalls
DESCRIPTION:
URL:https://psalmfm.org/event/national-night-out-ifalls-2/
END:VEVENT
BEGIN:VEVENT
DTSTART;TZID=UTC:20250805T180000
DTEND;TZID=UTC:20250805T200000
DTSTAMP:20260425T103006
CREATED:20250801T164838Z
LAST-MODIFIED:20250801T164838Z
UID:11405-1754416800-1754424000@psalmfm.org
SUMMARY:National Night Out Block Parties- Littlefork
DESCRIPTION:
URL:https://psalmfm.org/event/national-night-out-block-parties-littlefork/
END:VEVENT
BEGIN:VEVENT
DTSTART;TZID=UTC:20250806T080000
DTEND;TZID=UTC:20250806T170000
DTSTAMP:20260425T103006
CREATED:20250806T164016Z
LAST-MODIFIED:20250806T190446Z
UID:11420-1754467200-1754499600@psalmfm.org
SUMMARY:Thrive Women's Conference
DESCRIPTION:Early registration ends Aug. 31. Use promo code PSALMFM for 10% off your ticket price.
URL:https://psalmfm.org/event/thrive-womens-conference/
LOCATION:Mayo Civic Center\, 30 Civic Center Dr SE\, Rochester\, MN\, 55904
END:VEVENT
BEGIN:VEVENT
DTSTART;TZID=UTC:20250806T110000
DTEND;TZID=UTC:20250806T130000
DTSTAMP:20260425T103006
CREATED:20250618T160812Z
LAST-MODIFIED:20250806T151126Z
UID:11255-1754478000-1754485200@psalmfm.org
SUMMARY:Celebrate Aging Expo & Picnic in the Park**location change due to weather**
DESCRIPTION:Celebrate Aging Expo and Picnic in the Park will be Wednesday\, August 6th from 11-1 at the Cohasset Community Center\, located at 305 NW 1st Ave. Honoring Itasca County Volunteers of 2024. \n300 complimentary picnic lunches provided by ElderCircle \nGolf cart available for those who need assistance from the parking lot \nover 20 vendors to connect with your community \n  \nFor more information call 218-999-9233 ext 275 or email pdibb@eldercircle.org
URL:https://psalmfm.org/event/celebrate-aging-expo-picnic-in-the-park/
END:VEVENT
BEGIN:VEVENT
DTSTART;TZID=UTC:20250806T110000
DTEND;TZID=UTC:20250806T153000
DTSTAMP:20260425T103006
CREATED:20250722T155308Z
LAST-MODIFIED:20250722T155308Z
UID:11357-1754478000-1754494200@psalmfm.org
SUMMARY:Bloodmobile- Grand Rapids
DESCRIPTION:Wednesday\, August 06\, 2025 \n11:00 am – 03:30 pm \nGrand Rapids Essentia Clinic \n1542 Golf Course Road\nSuite 203\nParking Lot\nGrand Rapids\, MN 55744 \nPrimary Blood Drive Coordinator: \nKarrin Krall\nEmail: karrin.krall@essentiahealth.org\nPhone: 218-246-4518
URL:https://psalmfm.org/event/bloodmobile-grand-rapids-2/
END:VEVENT
BEGIN:VEVENT
DTSTART;TZID=UTC:20250806T120000
DTEND;TZID=UTC:20250806T130000
DTSTAMP:20260425T103006
CREATED:20250722T165706Z
LAST-MODIFIED:20250722T165706Z
UID:11383-1754481600-1754485200@psalmfm.org
SUMMARY:Bemidji Area Church Musicians Recital Series-New Salem Lutheran Church
DESCRIPTION:The 38th season of the Summer Recital Series presented by the Bemidji Area Church Musicians\n(BACM) continues on Wednesday August 6\, 2025\, 12:00 noon\, at the New Salem Lutheran Church.\nThis concert will feature several fine musicians of the New Salem congregation presenting a variety of\nselections. Notice the beautiful backdrop of trees as you listen to beautiful music in the sanctuary.\nA luncheon will follow the 30-minute concert with a price to be announced. New Salem Lutheran\nChurch is located at 7491 Island View Dr. NE (Hwy 71 N. at Turtle River).\nThe public is invited to attend this recital. A free-will offering will be received at the door for the\nScholarship programs of the Bemidji Area Church Musicians.\nThe public is cordially invited to all of the recitals in the season. For further information call Barbara\nFisher (218-556-0098) or Carol L. Johnson (218-751-0415).
URL:https://psalmfm.org/event/bemidji-area-church-musicians-recital-series-new-salem-lutheran-church/
END:VEVENT
BEGIN:VEVENT
DTSTART;TZID=UTC:20250806T190000
DTEND;TZID=UTC:20250806T210000
DTSTAMP:20260425T103006
CREATED:20250806T143342Z
LAST-MODIFIED:20250806T143516Z
UID:11417-1754506800-1754514000@psalmfm.org
SUMMARY:Concert in the Park (IFalls)
DESCRIPTION:Up North Acoustic Jam will perform. There is no cost. Due to the weather\, the concert will be in the John Faith Little Theatre in Backus Community Center at 7 p.m.
URL:https://psalmfm.org/event/concert-in-the-park-ifalls/
LOCATION:Backus Community Center\, 900 5th Street\, International Falls
END:VEVENT
BEGIN:VEVENT
DTSTART;VALUE=DATE:20250808
DTEND;VALUE=DATE:20250811
DTSTAMP:20260425T103006
CREATED:20250619T112239Z
LAST-MODIFIED:20250619T112239Z
UID:11260-1754611200-1754870399@psalmfm.org
SUMMARY:Koochiching County Fair
DESCRIPTION:Don’t miss the 119th Koochiching County Fair!
URL:https://psalmfm.org/event/koochiching-county-fair/
LOCATION:Koochiching County Fairgrounds\, 12103 HWY 71 N\, Northome\, MN\, United States
END:VEVENT
BEGIN:VEVENT
DTSTART;TZID=UTC:20250808T103000
DTEND;TZID=UTC:20250808T120000
DTSTAMP:20260425T103006
CREATED:20240607T161203Z
LAST-MODIFIED:20250804T163420Z
UID:9354-1754649000-1754654400@psalmfm.org
SUMMARY:Big Play @ Ifalls Public Library
DESCRIPTION:Join the Ifalls Library each Friday from 10:30-noon on the lawn (weather permitting) or in the meeting room for all kinds of fun. Games and activities for children 0-10. \nJune 6th-August 8th
URL:https://psalmfm.org/event/big-play-ifalls-public-library/
END:VEVENT
BEGIN:VEVENT
DTSTART;TZID=UTC:20250808T180000
DTEND;TZID=UTC:20250808T200000
DTSTAMP:20260425T103006
CREATED:20250701T170058Z
LAST-MODIFIED:20250701T170058Z
UID:11307-1754676000-1754683200@psalmfm.org
SUMMARY:Family Carnival
DESCRIPTION:There will be a family carnival Thursday\, Aug. 8\, at 6 p.m. at First Baptist Church in International Falls. Come enjoy a bouncy house\, hamburgers and hot dogs\, yard game\, cotton candy\, and more. Everyone is welcome!
URL:https://psalmfm.org/event/family-carnival/
LOCATION:First Baptist Church I Falls\, 115 Shorewood Drive\, Int'l Falls\, MN\, 56649
END:VEVENT
BEGIN:VEVENT
DTSTART;TZID=UTC:20250808T200000
DTEND;TZID=UTC:20250808T230000
DTSTAMP:20260425T103006
CREATED:20250724T162020Z
LAST-MODIFIED:20250724T162020Z
UID:11387-1754683200-1754694000@psalmfm.org
SUMMARY:Young Adult Worship on the Roof & Dry Bar Night-Warroad
DESCRIPTION:Warroad Ministerial invites 18–35-year-olds to a Young Adult Worship on the Roof & Dry Bar Night on the Hampton Inn rooftop. On Friday\, August 8th from 8-11pm there will live worship music\, a short message\, and time to just hang out. Feel free to come early and order food of the menu. Mocktails (dry bar) and soda beverages will be from the main floor restaurant.
URL:https://psalmfm.org/event/young-adult-worship-on-the-roof-dry-bar-night-warroad/
END:VEVENT
BEGIN:VEVENT
DTSTART;TZID=UTC:20250810T120000
DTEND;TZID=UTC:20250810T160000
DTSTAMP:20260425T103006
CREATED:20250722T161841Z
LAST-MODIFIED:20250722T161841Z
UID:11374-1754827200-1754841600@psalmfm.org
SUMMARY:Benefit for Little Scott Haberle
DESCRIPTION:Scott was born in August 2023 with multiple medical conditions\, including clubfoot\, low muscle tone\, hip dysplasia\, hearing and vision impairments and development delays. He has already undergone multiple surgeries\, therapies\, and castings- and his journey is far from over. \nHis family is doing everything they can\, but the costs are overwhelming. \nJoin them for a sloppy joe potluck and silent auction on August 10th from 12-4 at the VFW in Int’l Falls. \nFor more information on ways to give call 218-902-0098.
URL:https://psalmfm.org/event/benefit-for-little-scott-haberle/
END:VEVENT
BEGIN:VEVENT
DTSTART;TZID=UTC:20250813T120000
DTEND;TZID=UTC:20250813T130000
DTSTAMP:20260425T103006
CREATED:20250722T165617Z
LAST-MODIFIED:20250722T165617Z
UID:11381-1755086400-1755090000@psalmfm.org
SUMMARY:Bemidji Area Church Musicians Recital Series-Aardahl Lutheran Church
DESCRIPTION:The 38th season of the Summer Recital Series presented by the Bemidji Area Church Musicians\n(BACM) continues on Wednesday August 13\, 2025\, 12:00 noon\, at the Aardahl Lutheran Church. This\nrecital will offer selections by Wayne Hoff and Carol L. Johnson on the piano and organ in duo.\nJennifer Johnson will join them as soloist.\nA luncheon will follow the 30-minute concert with a price to be announced. Aardahl Lutheran Church\nis located at 2920 Van Buren Ave. SE.\, Bemidj.\nThe public is invited to attend this recital. A free-will offering will be received at the door for the\nScholarship programs of the Bemidji Area Church Musicians.\nThe public is cordially invited to all of the recitals in the season. For further information call Barbara\nFisher (218-556-0098) or Carol L. Johnson (218-751-0415).
URL:https://psalmfm.org/event/bemidji-area-church-musicians-recital-series-aardahl-lutheran-church/
END:VEVENT
BEGIN:VEVENT
DTSTART;TZID=UTC:20250814T110000
DTEND;TZID=UTC:20250814T140000
DTSTAMP:20260425T103006
CREATED:20250722T155853Z
LAST-MODIFIED:20250722T155853Z
UID:11368-1755169200-1755180000@psalmfm.org
SUMMARY:Bloodmobile- Tower
DESCRIPTION:Thursday\, August 14\, 2025 \n11:00 am – 02:00 pm \nTower Fortune Bay Casino \n1430 Bois Forte Road\nSumac Room\nTower\, MN 55790 \nPrimary Blood Drive Coordinator: \nAlex Sheehy\nEmail: alexsheehy@fortunebay.com\nPhone: 218-753-7832
URL:https://psalmfm.org/event/bloodmobile-tower-2/
END:VEVENT
BEGIN:VEVENT
DTSTART;TZID=UTC:20250816T110000
DTEND;TZID=UTC:20250816T150000
DTSTAMP:20260425T103006
CREATED:20250722T155351Z
LAST-MODIFIED:20250722T155351Z
UID:11359-1755342000-1755356400@psalmfm.org
SUMMARY:Bloodmobile-Grand Rapids
DESCRIPTION:Saturday\, August 16\, 2025 \n11:00 am – 03:00 pm \nGrand Rapids Itasca County Fair \n1336 Fairgrounds Rd\nOutside\nGrand Rapids\, MN 55744 \nPrimary Blood Drive Coordinator: \nBrian Carlson\nEmail: brian50@paulbunyan.net\nPhone: 218-256-1522
URL:https://psalmfm.org/event/bloodmobile-grand-rapids-3/
END:VEVENT
BEGIN:VEVENT
DTSTART;TZID=UTC:20250818T133000
DTEND;TZID=UTC:20250818T180000
DTSTAMP:20260425T103006
CREATED:20250722T155027Z
LAST-MODIFIED:20250722T155027Z
UID:11351-1755523800-1755540000@psalmfm.org
SUMMARY:Bloodmobile-Bemidji
DESCRIPTION:Monday\, August 18\, 2025 \n01:30 pm – 06:00 pm \nBemidji Calvary Lutheran Church \n2508 Washington Avenue SE\nFellowship Hall\nBemidji\, MN 56601 \nPrimary Blood Drive Coordinator: \nGarrett Fultz\nEmail: gfultz@calvarybemidji.org\nPhone: 218-751-1893
URL:https://psalmfm.org/event/bloodmobile-bemidji-4/
END:VEVENT
BEGIN:VEVENT
DTSTART;TZID=UTC:20250820T120000
DTEND;TZID=UTC:20250820T130000
DTSTAMP:20260425T103006
CREATED:20250722T165510Z
LAST-MODIFIED:20250722T165524Z
UID:11378-1755691200-1755694800@psalmfm.org
SUMMARY:Bemidji Area Church Musicians Recital Series-First Lutheran Church
DESCRIPTION:The 38th season of the Summer Recital Series presented by the Bemidji Area Church Musicians\n(BACM) continues on Wednesday August 20\, 2025\, 12:00 noon\, at the First Lutheran Church. The\nconcert will feature Sarah Carlson at the organ\, Merideth Klingbeil at the organ\, Bob Madeson on the\neuphonium and 2024 Scholarship recipient\, Claire Carlson. A variety of selections in varied styles will\npresented.\nA luncheon will follow the 30-minute concert with a price to be announced. First Lutheran Church is\nlocated at 900 Bemidji Ave N\, Bemidji.\nThe public is invited to attend this recital. A free-will offering will be received at the door for the\nScholarship programs of the Bemidji Area Church Musicians.\nThe public is cordially invited to all of the recitals in the season. For further information call Barbara\nFisher (218-556-0098) or Carol L. Johnson (218-751-0415).
URL:https://psalmfm.org/event/bemidji-area-church-musicians-recital-series-10/
END:VEVENT
BEGIN:VEVENT
DTSTART;TZID=UTC:20250820T120000
DTEND;TZID=UTC:20250820T160000
DTSTAMP:20260425T103006
CREATED:20250414T172207Z
LAST-MODIFIED:20250818T165210Z
UID:10972-1755691200-1755705600@psalmfm.org
SUMMARY:Household Hazardous Waste Collection Schedule
DESCRIPTION:  \nInt’l Falls/Transfer Station *residential & business collection- Wednesday\, August 20th 12-4 (businesses must pre-register by calling (218)726-1602) \n 
URL:https://psalmfm.org/event/household-hazardous-waste-collection-schedule/
END:VEVENT
BEGIN:VEVENT
DTSTART;TZID=UTC:20250820T140000
DTEND;TZID=UTC:20250820T180000
DTSTAMP:20260425T103006
CREATED:20250722T155744Z
LAST-MODIFIED:20250722T155744Z
UID:11364-1755698400-1755712800@psalmfm.org
SUMMARY:Bloodmobile- Grand Rapids
DESCRIPTION:Wednesday\, August 20\, 2025 \n02:00 pm – 06:00 pm \nKlockow Brewing Company \n36 SE 10th Street\nParking Lot\nGrand Rapids\, MN 55744 \nPrimary Blood Drive Coordinator: \nKatheryn Hamm\nEmail: khamm@mbc.org\nPhone: 218-349-5796
URL:https://psalmfm.org/event/bloodmobile-grand-rapids-39/
END:VEVENT
BEGIN:VEVENT
DTSTART;TZID=UTC:20250825T120000
DTEND;TZID=UTC:20250828T130000
DTSTAMP:20260425T103006
CREATED:20250325T174906Z
LAST-MODIFIED:20250822T144124Z
UID:10908-1756123200-1756386000@psalmfm.org
SUMMARY:Meet Up and Chow Down Free Summer Lunch Program
DESCRIPTION:United Way of Northeastern Minnesota’s free summer lunch program\, Meet Up and Chow Down\, returns to Iron Range communities AND International Falls June 9th! \n\nLunches will be available rain or shine to children ages 1-18 from 12-1 pm every Monday-Thursday this summer\, and thanks to the Christopher and Sheila Jones Foundation\, Summer Buddy Backpacks will be provided at all sites on Thursdays.\n\n\nSites Participating:\n\nBabbit City Park\nBiwabik City Park\nChisholm Kiwanis Park\nCook public Library\nHibbing Bennett Park\nHibbing HRA Playground\nHoyt Lakes Public Library\nInternational Falls- Backus Community Center\nKeewatin City Park\nMountain Iron Public Library\nNashwauk Rec Center\nVirginia AEOA\nVirginia Pine Mill Court\n Virginia Olcott Park\n\n\nThis program relies heavily on volunteers. Sign up to help fight childhood hunger this summer at: www.unitedwaynemn.org/meet-up-chow-down\n\n  \n 
URL:https://psalmfm.org/event/meet-up-and-chow-down-free-summer-lunch-program-backus-community-center/
END:VEVENT
BEGIN:VEVENT
DTSTART;TZID=UTC:20250825T123000
DTEND;TZID=UTC:20250825T170000
DTSTAMP:20260425T103006
CREATED:20250722T155427Z
LAST-MODIFIED:20250722T155427Z
UID:11361-1756125000-1756141200@psalmfm.org
SUMMARY:Bloodmobile-Grand Rapids
DESCRIPTION:Monday\, August 25\, 2025 \n12:30 pm – 05:00 pm \nFirst Evangelical Lutheran Church \n735 N.E. First Avenue\nBloodmobile\nGrand Rapids\, MN 55744 \nPrimary Blood Drive Coordinator: \nKathy Hohenstein\nEmail: jkhohenstein@gmail.com\nPhone: 218-326-8856
URL:https://psalmfm.org/event/bloodmobile-grand-rapids-38/
END:VEVENT
BEGIN:VEVENT
DTSTART;TZID=UTC:20250826T080000
DTEND;TZID=UTC:20250830T180000
DTSTAMP:20260425T103006
CREATED:20240502T153518Z
LAST-MODIFIED:20250825T164217Z
UID:9147-1756195200-1756576800@psalmfm.org
SUMMARY:Community Markets
DESCRIPTION:Community Markets \nIfalls-Fridays 12-5pm at the Tractor Supply Company parking lot (June 6-Sept 26) 218-324-3165 \nVirginia– Thursdays 2:30-6 at the Virginia Market Square (June 12th-Oct 19th) 218-423-0169 \nCook– Saturdays 8-1 and Wednesdays 4-6 at 127 S River Street (next to City Hall in the Park) \nEly– Tuesdays 5-7 during the summer at Whiteside Park (elymnfarmersmarket@gmail.com) \nHibbing– Tuesdays 2-5 and Saturdays 9-1 at 1309 East 40th Street (across from McDonalds) \nTower– Fridays 4-6 from June 13th-Sept 26th at the Train Depot Parking Lot \nGrand Rapids– Wednesdays and Saturdays 8-1 May-Sept\, 9-1 Oct on the Golf Course Road (218-259-9768) \nBemidji– Tuesdays 10-5\, Thursdays 12-6\, Sat 9-3 and Sun 11-4 at 200 Paul Bunyan Drive
URL:https://psalmfm.org/event/community-market-vendor-meeting/
END:VEVENT
BEGIN:VEVENT
DTSTART;TZID=UTC:20250827T120000
DTEND;TZID=UTC:20250827T130000
DTSTAMP:20260425T103006
CREATED:20250722T165423Z
LAST-MODIFIED:20250722T165423Z
UID:11376-1756296000-1756299600@psalmfm.org
SUMMARY:Bemidji Area Church Musicians Recital Series-First Presbyterian
DESCRIPTION:The 38th season of the Summer Recital Series presented by the Bemidji Area Church Musicians\n(BACM) presents the final concert of this series on Wednesday August 27\, 2025\, 12:00 noon\, at the\nFirst Presbyterian Church. This concert will feature Darlinda Coe at the organ; Jennifer Parker\, soloist;\nRuth Anderson\, piano; and Lee Coe on the rattlebones. A variety of selections will be performed.\nA luncheon will follow the 30-minute concert with a price to be announced. First Presbyterian Church\nis located at 501 Minnesota Ave. NW\, Bemidji.\nThe public is invited to attend this recital. A free-will offering will be received at the door for the\nScholarship programs of the Bemidji Area Church Musicians.\nThe public is cordially invited to all of the recitals in the season. For further information call Barbara\nFisher (218-556-0098) or Carol L. Johnson (218-751-0415).
URL:https://psalmfm.org/event/bemidji-area-church-musicians-recital-series-first-presbyterian/
END:VEVENT
END:VCALENDAR