BEGIN:VCALENDAR
VERSION:2.0
PRODID:-//PsalmFM - ECPv6.15.20//NONSGML v1.0//EN
CALSCALE:GREGORIAN
METHOD:PUBLISH
X-WR-CALNAME:PsalmFM
X-ORIGINAL-URL:https://psalmfm.org
X-WR-CALDESC:Events for PsalmFM
REFRESH-INTERVAL;VALUE=DURATION:PT1H
X-Robots-Tag:noindex
X-PUBLISHED-TTL:PT1H
BEGIN:VTIMEZONE
TZID:UTC
BEGIN:STANDARD
TZOFFSETFROM:+0000
TZOFFSETTO:+0000
TZNAME:UTC
DTSTART:20250101T000000
END:STANDARD
END:VTIMEZONE
BEGIN:VEVENT
DTSTART;TZID=UTC:20260423T170000
DTEND;TZID=UTC:20260423T190000
DTSTAMP:20260423T171424
CREATED:20221219T155004Z
LAST-MODIFIED:20260417T190642Z
UID:6727-1776963600-1776970800@psalmfm.org
SUMMARY:Veterans Support Group-GR
DESCRIPTION:Veteran Support Group at Kiesler Wellness Center in Grand Rapids\nThursdays\n1700 hours to 1900 hours\nFor more information\, please call Mark Johnson mjohnson@northlandcounseling.org or (218) 360-1046
URL:https://psalmfm.org/event/veterans-support-group-gr/
END:VEVENT
BEGIN:VEVENT
DTSTART;TZID=UTC:20260423T173000
DTEND;TZID=UTC:20260423T200000
DTSTAMP:20260423T171424
CREATED:20221219T155147Z
LAST-MODIFIED:20260417T190703Z
UID:6729-1776965400-1776974400@psalmfm.org
SUMMARY:Celebrate Recovery- Frist Baptist Church Cook
DESCRIPTION:Celebrate Recovery meets at the First Baptist Church in Cook every Thursday night. A free meal is served at 5:30 followed by large group at 6 and small group at 7. This is sponsored by the Cook Covenant Church and First Baptist Church. For more information call 218-666-5979.
URL:https://psalmfm.org/event/celebrate-recovery-cook-2/
END:VEVENT
BEGIN:VEVENT
DTSTART;TZID=UTC:20260423T173000
DTEND;TZID=UTC:20260424T200000
DTSTAMP:20260423T171424
CREATED:20241125T171843Z
LAST-MODIFIED:20260420T193712Z
UID:10327-1776965400-1777060800@psalmfm.org
SUMMARY:Celebrate Recovery @ Expectancy Church-Mt Iron
DESCRIPTION:Celebrate Recovery meets Thursday and Friday nights at Expectancy Church\, located at 8861 Main Street in Mt Iron. \n5:30pm: Snacks and fellowship \n6-7pm: Large Group \n7-8pm: Small Group \nChildcare available. \nPhone: 218-735-1132 \nWebsite: www.expectancy.live \nEmail: CR@expectancy.live \n  \n 
URL:https://psalmfm.org/event/celebrate-recovery-expectancy-church-mt-iron/
END:VEVENT
BEGIN:VEVENT
DTSTART;TZID=UTC:20260423T183000
DTEND;TZID=UTC:20260423T200000
DTSTAMP:20260423T171424
CREATED:20241125T170403Z
LAST-MODIFIED:20260417T190722Z
UID:10322-1776969000-1776974400@psalmfm.org
SUMMARY:2B Free Addiction Ministry @ Grace & Truth Bible Church
DESCRIPTION:2B Free Addiction Ministry\nEvery Thursday 6:30-8pm @ Grace & Truth Bible Church\, located at 601 12th St N\, Virginia \nHow does our program work?\nMeetings will be held weekly on Thursdays from 6:30-8 p.m.  \n\nAn opening period of sharing encouraging words and prayer requests.\nIn the second period\, the ladies and men will meet separately for small group.\nThe third period consist of a short devotion from the Bible.\nThey will close with a time for snacks and visiting.\n\nTransportation available – please call: Dan Miller at 218-404-0446 or Scott Ortler at 218-750-1981
URL:https://psalmfm.org/event/2b-free-addiction-ministry/
END:VEVENT
BEGIN:VEVENT
DTSTART;TZID=UTC:20260424T080000
DTEND;TZID=UTC:20260424T170000
DTSTAMP:20260423T171424
CREATED:20260423T154019Z
LAST-MODIFIED:20260423T154019Z
UID:12749-1777017600-1777050000@psalmfm.org
SUMMARY:Registration for the Veteran Fishing Trip
DESCRIPTION:There will be a Veteran Fishing Trip on Wednesday\, June 3rd at the Thunderbird Lodge in Int’l Falls. Fishing will be from 9-noon with lunch afterwards. Call the Kochiching County Veteran Service Office at 218-283-1179 to register. Sponsored by the Kochiching Warrior Initiative.
URL:https://psalmfm.org/event/registration-for-the-veteran-fishing-trip/
END:VEVENT
BEGIN:VEVENT
DTSTART;TZID=UTC:20260424T090000
DTEND;TZID=UTC:20260424T160000
DTSTAMP:20260423T171424
CREATED:20260330T165952Z
LAST-MODIFIED:20260423T164620Z
UID:12667-1777021200-1777046400@psalmfm.org
SUMMARY:Bloodmobile- Grand Rapids
DESCRIPTION:Friday\, April 24\, 2026 \n9:00 am – 4:00 pm \nDeerwood Bank \n2950 US-169\nGrand Rapids\, MN 55744 \nPrimary Blood Drive Coordinator: \nShona Arnold\nEmail: shona.humphrey@deerwoodbank.com\nPhone: 218-327-4833 \n  \nContact the Blood Drive Coordinator or visit www.mbcherohub.club for more information and to register.
URL:https://psalmfm.org/event/bloodmobile-grand-rapids-57/
END:VEVENT
BEGIN:VEVENT
DTSTART;TZID=UTC:20260424T103000
DTEND;TZID=UTC:20260424T113000
DTSTAMP:20260423T171424
CREATED:20250331T171739Z
LAST-MODIFIED:20260422T175006Z
UID:10934-1777026600-1777030200@psalmfm.org
SUMMARY:Walk With Ease- Grand Rapids
DESCRIPTION:“Walk With Ease” is an evidence-based program that has been proven\nto help people with arthritis or other related conditions reduce pain. \nMondays\, Wednesdays & Fridays  \n10:30-11:30 \nMarch 23rd-May 1st \nCentral Square Mall 201 NW 4th St. Suite #123 \nGrand Rapids\, MN 55744 \n*Call ElderCircle to Register 218-999-9233* \n• FREE\n• Three days a week for six weeks\n• Led by certified Arthritis Foundation\ninstructors\n• Gain information\, learn exercises and\nimplement helpful strategies\n• Reduce arthritis pain and discomfort\n• Increase balance\, strength and walking\npace\n• Build confidence in your ability to be\nphysically active\n• Improve overall health
URL:https://psalmfm.org/event/walk-with-ease/
END:VEVENT
BEGIN:VEVENT
DTSTART;TZID=UTC:20260424T153000
DTEND;TZID=UTC:20260424T173000
DTSTAMP:20260423T171424
CREATED:20240918T162025Z
LAST-MODIFIED:20260420T193854Z
UID:9926-1777044600-1777051800@psalmfm.org
SUMMARY:Northome Community Church Bible Buddies
DESCRIPTION:Northome Community Church invites kids grades k-6 for Bible Buddies \nEvery Friday school is in session 3:30-5:30 ***last day*** \nNorthome school bus transportation available \nQuestions call Kathy at 218-556-8640 \n 
URL:https://psalmfm.org/event/northome-community-church-bible-buddies/
END:VEVENT
BEGIN:VEVENT
DTSTART;TZID=UTC:20260425T070000
DTEND;TZID=UTC:20260425T100000
DTSTAMP:20260423T171424
CREATED:20260325T164834Z
LAST-MODIFIED:20260420T194020Z
UID:12636-1777100400-1777111200@psalmfm.org
SUMMARY:Birchdale Breakfasts
DESCRIPTION:Birchdale Breakfast is every Saturday until November 2026 at the Birchdale Community Hall. The meals are put on by various community organizations to raise funds. All are FREEWILL offerings. Breakfast runs from 7-10am and the organizers decide what to serve. If you would like to help cook contact Lois Lewis. Find them on Facebook at Birchdale Breakfasts.
URL:https://psalmfm.org/event/birchdale-breakfasts-and-easter-egg-hunt/
END:VEVENT
BEGIN:VEVENT
DTSTART;TZID=UTC:20260426T140000
DTEND;TZID=UTC:20260426T150000
DTSTAMP:20260423T171424
CREATED:20241203T164404Z
LAST-MODIFIED:20260420T194045Z
UID:10359-1777212000-1777215600@psalmfm.org
SUMMARY:Grief Support- EFC Bemidji
DESCRIPTION:There is a Grief Support Group each Sunday afternoon at 2pm at the Evangelical Free Church in Bemidji.
URL:https://psalmfm.org/event/grief-support-efc-bemidji/
END:VEVENT
BEGIN:VEVENT
DTSTART;TZID=UTC:20260426T183000
DTEND;TZID=UTC:20260426T193000
DTSTAMP:20260423T171424
CREATED:20251112T165150Z
LAST-MODIFIED:20260420T194104Z
UID:12204-1777228200-1777231800@psalmfm.org
SUMMARY:Community Band @ Backus Community Center
DESCRIPTION:Community Band meets Sundays @ 6:30pm at the Backus Community Center in International Falls. Call 218-285-7225 or email backusoffice@backusab.org for more information. \n 
URL:https://psalmfm.org/event/community-band-backus-community-center/
END:VEVENT
BEGIN:VEVENT
DTSTART;TZID=UTC:20260426T190000
DTEND;TZID=UTC:20260426T200000
DTSTAMP:20260423T171424
CREATED:20241023T142914Z
LAST-MODIFIED:20260420T194442Z
UID:10142-1777230000-1777233600@psalmfm.org
SUMMARY:Al-Anon Family Group Meeting -Biwabik
DESCRIPTION:Al-Anon meets every Sunday night at the Community United Church of Christ in Biwabik at 7pm.\nAl-Anon is help for people whose lives have been affected by a family member or friend’s alcoholism. All are welcome.
URL:https://psalmfm.org/event/back-to-basics-alanon-family-group-meeting-biwabik/
END:VEVENT
BEGIN:VEVENT
DTSTART;TZID=UTC:20260427T093000
DTEND;TZID=UTC:20260427T173000
DTSTAMP:20260423T171424
CREATED:20260330T170541Z
LAST-MODIFIED:20260423T164546Z
UID:12685-1777282200-1777311000@psalmfm.org
SUMMARY:Bloodmobile- Ely
DESCRIPTION:Monday\, April 27\, 2026 \n9:30 am – 5:30 pm \nEly Memorial High School \n600 East Harvey Street\nEly\, MN 55731 \nPrimary Blood Drive Coordinator: \nJill Swanson\nEmail: jill@elycommunityresource.org\nPhone: 218-365-5254 \n  \nContact the Blood Drive Coordinator or visit www.mbcherohub.club for more information and to register.
URL:https://psalmfm.org/event/bloodmobile-ely-10/
END:VEVENT
BEGIN:VEVENT
DTSTART;TZID=UTC:20260427T100000
DTEND;TZID=UTC:20260427T110000
DTSTAMP:20260423T171424
CREATED:20251013T145319Z
LAST-MODIFIED:20260420T194502Z
UID:12117-1777284000-1777287600@psalmfm.org
SUMMARY:Ifalls Salvation Army Bible Study
DESCRIPTION:Please join the International Falls Salvation Army every Monday at 10am for Bible study. They are using materials from Glenn Meldrum of In His Presence Ministries and are going through the book of Acts. It is good coffee and great fellowship.
URL:https://psalmfm.org/event/ifalls-salvation-army-bible-study/
END:VEVENT
BEGIN:VEVENT
DTSTART;TZID=UTC:20260427T110000
DTEND;TZID=UTC:20260427T130000
DTSTAMP:20260423T171424
CREATED:20241111T184142Z
LAST-MODIFIED:20260423T153105Z
UID:10219-1777287600-1777294800@psalmfm.org
SUMMARY:Bretta's Pantry @ Precious Paws Humane Society
DESCRIPTION:Precious Paws Humane Society of Chisholm offers Bretta’s Pantry on Mondays and Thursdays from 11-1. This is a free food pantry for your cats and/or dogs. Precious Paws is located at 101 SW 1st Ave.
URL:https://psalmfm.org/event/brettas-pantry-precious-paws-humane-society/
END:VEVENT
BEGIN:VEVENT
DTSTART;TZID=UTC:20260427T160000
DTEND;TZID=UTC:20260427T180000
DTSTAMP:20260423T171424
CREATED:20240105T161649Z
LAST-MODIFIED:20260422T175210Z
UID:8405-1777305600-1777312800@psalmfm.org
SUMMARY:Circle of Support Meals- GR
DESCRIPTION:Loneliness and social isolation have been associated with higher rates of depression\, a weakened immune system\, heart disease\, and dementia. KOOTASCA hosts weekly programming to help people build social connections and reduce isolation. A hot meal is provided each Monday and Wednesday at no cost (donations accepted) and is open to low-income people and non-low-income people to encourage and support the development of building relationships across income lines. \n\n\n\n\nMonday Community Meal is from 4:00-6:00 at 822 NE 5th Ave.\n\nWednesday Lunch is from 11:00-1:00 at 811 NE 4th Street.\n\n\nCircles of Support is a small resource center that provides resources and social connections for low-income people. Coffee and conversation are available on a walk-in basis\, as well as a food pantry and phone charging availability.\n \nFor more information please contact: \nAlice Moren\n218-910-5486\nalicem@kootasca.org
URL:https://psalmfm.org/event/circle-of-support/
END:VEVENT
BEGIN:VEVENT
DTSTART;TZID=UTC:20260427T173000
DTEND;TZID=UTC:20260427T183000
DTSTAMP:20260423T171424
CREATED:20240711T165244Z
LAST-MODIFIED:20260421T163358Z
UID:9561-1777311000-1777314600@psalmfm.org
SUMMARY:Rainy Lake Orchestra @ Backus Community Center
DESCRIPTION:  \nRainy Lake Orchestra meets Mondays @ 5:30pm at the Backus Community Center in International Falls. Call 218-285-7225 or email backusoffice@backusab.org for more information.
URL:https://psalmfm.org/event/rainy-lake-community-choir-backus-community-center/
END:VEVENT
BEGIN:VEVENT
DTSTART;TZID=UTC:20260427T173000
DTEND;TZID=UTC:20260427T200000
DTSTAMP:20260423T171424
CREATED:20241125T164401Z
LAST-MODIFIED:20260421T164239Z
UID:10316-1777311000-1777320000@psalmfm.org
SUMMARY:Celebrate Recovery- Legacy Church Virginia
DESCRIPTION:Celebrate Recovery meets every Monday at the Legacy Church in Virginia. 5:30 meal 6-8 meeting. \nLegacy Church is located at 5465 Mountain Iron Dr Ste 400 in Virginia.
URL:https://psalmfm.org/event/celebrate-recovery-virginia/
END:VEVENT
BEGIN:VEVENT
DTSTART;TZID=UTC:20260427T180000
DTEND;TZID=UTC:20260427T200000
DTSTAMP:20260423T171424
CREATED:20230306T164828Z
LAST-MODIFIED:20260421T164313Z
UID:7079-1777312800-1777320000@psalmfm.org
SUMMARY:The Grief Process- Ifalls
DESCRIPTION:Anyone who has experienced a loss is invited to weekly meetings focused on the grief process Monday nights at 6:00 p.m. in Backus Room 101/102.
URL:https://psalmfm.org/event/the-grief-process/
END:VEVENT
BEGIN:VEVENT
DTSTART;TZID=UTC:20260427T190000
DTEND;TZID=UTC:20260427T220000
DTSTAMP:20260423T171424
CREATED:20240227T160702Z
LAST-MODIFIED:20260421T164330Z
UID:8708-1777316400-1777327200@psalmfm.org
SUMMARY:Rec. Co-Ed Volleyball-Backus Community Center-Ifalls
DESCRIPTION:Co-ed Rec. Volleyball is every Monday at the Backus Community Center from 7pm-10pm (unless otherwise posted). $5/ night to play. All skill levels welcome!\n\nFor ages 15 and up. If under 18\, parent must sign the waiver before you can play.\n\nFind them on Facebook at ifallsrec volleyball
URL:https://psalmfm.org/event/rec-co-ed-volleyball/
END:VEVENT
BEGIN:VEVENT
DTSTART;TZID=UTC:20260428T083000
DTEND;TZID=UTC:20260428T113000
DTSTAMP:20260423T171424
CREATED:20260330T170512Z
LAST-MODIFIED:20260423T164425Z
UID:12683-1777365000-1777375800@psalmfm.org
SUMMARY:Bloodmobile- Babbitt
DESCRIPTION:Tuesday\, April 28\, 2026 \n8:30 am – 11:30 am \nBabbitt – Embarrass School \n30 South Dr\nBabbitt\, MN 55706 \nPrimary Blood Drive Coordinator: \nLeanne Akemann\nEmail: lakemann@isd2142.k12.mn.us\nPhone: 218-827-3101 \n  \nContact the Blood Drive Coordinator or visit www.mbcherohub.club for more information and to register.
URL:https://psalmfm.org/event/bloodmobile-babbitt-4/
END:VEVENT
BEGIN:VEVENT
DTSTART;TZID=UTC:20260428T100000
DTEND;TZID=UTC:20260428T140000
DTSTAMP:20260423T171424
CREATED:20230516T203251Z
LAST-MODIFIED:20260422T174716Z
UID:7357-1777370400-1777384800@psalmfm.org
SUMMARY:Just Because Sew Group
DESCRIPTION:Just Because Sew Group \nLet the Sewing Begin! Every Tuesday from 10-2 at the Balsam Community Center\, located on the Scenic 7 Highway in Bovey. Help make quilts for local charities. Kits are provided. If you don’t want to bring your machine\, they can use help with cutting more kits or making a tied fleece quilt. Any questions contact Denise at denisec898@gmail.com or 218 245-2873.
URL:https://psalmfm.org/event/just-because-sew-group/
END:VEVENT
BEGIN:VEVENT
DTSTART;TZID=UTC:20260428T110000
DTEND;TZID=UTC:20260428T130000
DTSTAMP:20260423T171424
CREATED:20240924T144503Z
LAST-MODIFIED:20260416T152709Z
UID:9955-1777374000-1777381200@psalmfm.org
SUMMARY:Crafter's Cafe @ Ifalls Public Library
DESCRIPTION:Meets the 2nd and 4th Tuesdays from 11am – 1pm\n\nHave crafts you’re working on? Bring them to the library to work on. Complete projects with other people and share ideas. All ages\, 8 and under need an adult with them. Coffee\, tea and conversation provided.
URL:https://psalmfm.org/event/crafters-cafe-ifalls-public-library/
END:VEVENT
BEGIN:VEVENT
DTSTART;TZID=UTC:20260428T110000
DTEND;TZID=UTC:20260428T193000
DTSTAMP:20260423T171424
CREATED:20241122T153402Z
LAST-MODIFIED:20260422T174302Z
UID:10301-1777374000-1777404600@psalmfm.org
SUMMARY:Al-Anon Family Group Meeting- Gilbert and Biwabik
DESCRIPTION:Biwabik- every Tuesday at the Community United Church of Christ at 11am. \nGilbert- every Tuesday at the St. Joseph’s Catholic Church starting at 6:30pm. \nAl-Anon is a faith-based\, mutual support group of peers who share their experience in applying the Al-Anon principles to problems related to the effects of a problem drinker in their lives.
URL:https://psalmfm.org/event/al-anon-family-group-meeting-gilbert/
END:VEVENT
BEGIN:VEVENT
DTSTART;TZID=UTC:20260428T160000
DTEND;TZID=UTC:20260428T180000
DTSTAMP:20260423T171424
CREATED:20250717T185625Z
LAST-MODIFIED:20260416T153137Z
UID:11332-1777392000-1777399200@psalmfm.org
SUMMARY:Pathway of Hope-Ifalls Salvation Army
DESCRIPTION:When you think of the future\, what do you see? \nDo you need encouragement and support? \nDo you need help with finding resources? \nWhether you are an individual or have children\, Salvation Army has a safe place to come and have a cup of coffee and socialize. \nMeetings are held every 2nd and 4th Tuesday of each month from 4-6. Salvation Army is located at 1301 3rd Ave in Ifalls. \nSome topics covered will be mental\, emotional\, physical and spiritual health\, budgeting\, sharing recipes and meal planning\, relationships and more. \nFor more information call Lori at 218-283-3394.
URL:https://psalmfm.org/event/pathway-of-hope-ifalls-salvation-army/
END:VEVENT
BEGIN:VEVENT
DTSTART;TZID=UTC:20260428T173000
DTEND;TZID=UTC:20260428T210000
DTSTAMP:20260423T171424
CREATED:20221216T154914Z
LAST-MODIFIED:20260422T174901Z
UID:6711-1777397400-1777410000@psalmfm.org
SUMMARY:Celebrate Recovery- Ifalls\, Virginia\, Hibbing
DESCRIPTION:Celebrate Recovery is a Christ-centered\, 12 step recovery program for anyone struggling with hurt\, pain or addiction of any kind. \nThis is a safe place to find community and freedom from the issues that are controlling our life. This tried and proven recovery system uses the traditional methods of issue groups\, sponsors\, accountability partners and special occasions to build recovery for those struggling with addictive habits\, codependency\, childhood hurts and other life experiences that affect our peace. \nCelebrate Recovery will meet every Tuesday at the following locations: \nEvangelical Covenant Church in International Falls at 7pm in Room 200. For questions contact Mary at 218.206.4814. Located at 1631 1st Ave East \nGood Shepherd Free Lutheran Church in Virginia at 6pm\, located at 230 3rd St South \nAbundant Life Church in Hibbing at 5:30\, located at 1637 E 40th Street \n 
URL:https://psalmfm.org/event/celebrate-recovery-ecc-2/
END:VEVENT
BEGIN:VEVENT
DTSTART;TZID=UTC:20260428T183000
DTEND;TZID=UTC:20260428T193000
DTSTAMP:20260423T171424
CREATED:20251112T165301Z
LAST-MODIFIED:20260422T174932Z
UID:12206-1777401000-1777404600@psalmfm.org
SUMMARY:Community Choir @ Backus Community Center
DESCRIPTION:Community Choir meets Tuesdays @ 6:30pm at the Backus Community Center in International Falls. Call 218-285-7225 or email backusoffice@backusab.org for more information.
URL:https://psalmfm.org/event/community-choir-backus-community-center/
END:VEVENT
BEGIN:VEVENT
DTSTART;TZID=UTC:20260428T190000
DTEND;TZID=UTC:20260428T210000
DTSTAMP:20260423T171424
CREATED:20260217T170219Z
LAST-MODIFIED:20260217T171821Z
UID:12487-1777402800-1777410000@psalmfm.org
SUMMARY:Ryan Stevenson in Concert (Grand Rapids)
DESCRIPTION:OneChild Presents Ryan Stevenson with Presence Music\nTuesday\, April 28th | 7:00pmEvangelical Free Church | Grand Rapids\, MN\nTickets:\nhttps://www.itickets.com/events/484781…
URL:https://psalmfm.org/event/ryan-stevenson-in-concert-grand-rapids/
END:VEVENT
BEGIN:VEVENT
DTSTART;TZID=UTC:20260428T193000
DTEND;TZID=UTC:20260429T210000
DTSTAMP:20260423T171424
CREATED:20241122T165201Z
LAST-MODIFIED:20260423T151036Z
UID:10309-1777404600-1777496400@psalmfm.org
SUMMARY:Pickleball at Backus
DESCRIPTION:There is Pickleball every Sunday at 5:30\, and Tuesday and Wednesday at 7:30 at the Backus Community Center Gym. \nFor more information call Backus at 218-285-7225.
URL:https://psalmfm.org/event/pickleball-at-backus/
END:VEVENT
BEGIN:VEVENT
DTSTART;TZID=UTC:20260429T100000
DTEND;TZID=UTC:20260429T120000
DTSTAMP:20260423T171424
CREATED:20250911T154453Z
LAST-MODIFIED:20260422T175115Z
UID:11560-1777456800-1777464000@psalmfm.org
SUMMARY:Women's Coffee Break- Emo
DESCRIPTION:COFFEE BREAK will meet at 10:00 a.m. (coffee will be on at 9:30) on Wednesdays at the Emo Christian Reformed Church\, 18 Meadow Street in Emo. All ladies are invited to come out for a morning of fellowship with other women from the community. \nCoffee Break is a nondenominational small group Bible study that is open to all women of the community. Study material is provided\, and no previous Bible knowledge is necessary. While moms are participating in Bible study\, children\, ages 2 and up are invited to participate in “Little Lambs”. There is also a nursery for infants and toddlers. All ladies are welcome and encouraged to bring a friend! Regular attendance is not required. \nFor more information\, call Gertie at 276-7457 or Jeannette at 276-2928.
URL:https://psalmfm.org/event/coffee-break-emo/
END:VEVENT
END:VCALENDAR