BEGIN:VCALENDAR
VERSION:2.0
PRODID:-//PsalmFM - ECPv6.15.20//NONSGML v1.0//EN
CALSCALE:GREGORIAN
METHOD:PUBLISH
X-WR-CALNAME:PsalmFM
X-ORIGINAL-URL:https://psalmfm.org
X-WR-CALDESC:Events for PsalmFM
REFRESH-INTERVAL;VALUE=DURATION:PT1H
X-Robots-Tag:noindex
X-PUBLISHED-TTL:PT1H
BEGIN:VTIMEZONE
TZID:UTC
BEGIN:STANDARD
TZOFFSETFROM:+0000
TZOFFSETTO:+0000
TZNAME:UTC
DTSTART:20230101T000000
END:STANDARD
END:VTIMEZONE
BEGIN:VEVENT
DTSTART;TZID=UTC:20240627T093000
DTEND;TZID=UTC:20240627T160000
DTSTAMP:20260425T144332
CREATED:20240403T152757Z
LAST-MODIFIED:20240611T153934Z
UID:8995-1719480600-1719504000@psalmfm.org
SUMMARY:Arrowhead Library System's Bookmobiles
DESCRIPTION:The Arrowhead Library System’s Bookmobile will stop at a location near you soon.  \n  \nWhen you can’t come to the library\, your library on wheels will come to you. \n  \nIn Nett Lake at the Community Center from 9:30-10:30 on Thursday\, June 27 \n  \nIn Crane Lake at the Ranger Station from 12:30-1:15 on Thursday\, June 27 \n  \nIn Buyck at the Vermilion River Tavern from 1:45-2:30 on Thursday\, June 27 \n  \nIn Orr at the Lake Country Remax building from 3:15-4:00 on Thursday\, June 27 \n  \nThe Bookmobile offers print books\, cookbooks\, large print books\, DVDs\, audiobooks and video games.  In addition\, you can renew your library card\, update your library account information\, learn how to use library services and participate in special programs. Learn more about what your library can offer you at their website\, alslib.info.
URL:https://psalmfm.org/event/arrowhead-library-systems-bookmobiles/
END:VEVENT
END:VCALENDAR