BEGIN:VCALENDAR
VERSION:2.0
PRODID:-//PsalmFM - ECPv6.15.20//NONSGML v1.0//EN
CALSCALE:GREGORIAN
METHOD:PUBLISH
X-WR-CALNAME:PsalmFM
X-ORIGINAL-URL:https://psalmfm.org
X-WR-CALDESC:Events for PsalmFM
REFRESH-INTERVAL;VALUE=DURATION:PT1H
X-Robots-Tag:noindex
X-PUBLISHED-TTL:PT1H
BEGIN:VTIMEZONE
TZID:UTC
BEGIN:STANDARD
TZOFFSETFROM:+0000
TZOFFSETTO:+0000
TZNAME:UTC
DTSTART:20230101T000000
END:STANDARD
END:VTIMEZONE
BEGIN:VEVENT
DTSTART;TZID=UTC:20240902T140000
DTEND;TZID=UTC:20240902T170000
DTSTAMP:20260425T112944
CREATED:20240807T145610Z
LAST-MODIFIED:20240807T145610Z
UID:9707-1725285600-1725296400@psalmfm.org
SUMMARY:RLMC 5K Fundraiser
DESCRIPTION:The Rainy Lake Medical Center Foundation is hosting a family-fun 5K on Labor Day at Smokey Bear Park in Int’l Falls. You can walk or run the event – it’s meant to be fun for all!\nRegister online here: rlmcfoundation.com/color5k
URL:https://psalmfm.org/event/rlmc-5k-fundraiser/
END:VEVENT
BEGIN:VEVENT
DTSTART;TZID=UTC:20240901T100000
DTEND;TZID=UTC:20240901T170000
DTSTAMP:20260425T112944
CREATED:20240806T165138Z
LAST-MODIFIED:20240806T165138Z
UID:9689-1725184800-1725210000@psalmfm.org
SUMMARY:Iron Range Renewal- Chisholm
DESCRIPTION:September 1st @ the Minnesota Discovery Center.  10 fellowship and coffee.  11am All Church service.  Find them on facebook at Iron Range Renewal. \n 
URL:https://psalmfm.org/event/iron-range-renewal-chisholm/
END:VEVENT
BEGIN:VEVENT
DTSTART;TZID=UTC:20240829T173000
DTEND;TZID=UTC:20240829T200000
DTSTAMP:20260425T112944
CREATED:20240807T152202Z
LAST-MODIFIED:20240807T152202Z
UID:9711-1724952600-1724961600@psalmfm.org
SUMMARY:Ladies Night out @ Littlefork Lutheran
DESCRIPTION:Ladies Night Out at Littlefork Lutheran Church will be Thursday\, August 29th. Social hour starts at 5:30pm with speaker Vicky Schmidt at 6. Topic is World Hunger with a dinner to follow. Donations will be accepted for World Hunger. If you have questions\, contact WELCA President Marion Raysor at 218-417-0028.
URL:https://psalmfm.org/event/ladies-night-out-littlefork-lutheran/
END:VEVENT
BEGIN:VEVENT
DTSTART;TZID=UTC:20240828T160000
DTEND;TZID=UTC:20240828T180000
DTSTAMP:20260425T112944
CREATED:20240809T182401Z
LAST-MODIFIED:20240809T182401Z
UID:9723-1724860800-1724868000@psalmfm.org
SUMMARY:Teen Movie Night- Hibbing Public Library
DESCRIPTION:The Hibbing Public Library invites teens ages 13-18 for a Teen Movie Night on Wednesday\, August 28th from 4-6pm in the auditorium. There will be free pizza and popcorn.
URL:https://psalmfm.org/event/teen-movie-night-hibbing-public-library/
END:VEVENT
BEGIN:VEVENT
DTSTART;TZID=UTC:20240828T120000
DTEND;TZID=UTC:20240828T123000
DTSTAMP:20260425T112944
CREATED:20240729T161228Z
LAST-MODIFIED:20240729T161228Z
UID:9650-1724846400-1724848200@psalmfm.org
SUMMARY:Bemdiji Area Church Musicians Summer Recital Serie
DESCRIPTION:The next Bemdiji Area Church Musicians Summer Recital Series will be held on August 28th at the First Lutheran Church\, located at 900 Bemidji Ave. from 12-12:30. \nPerforming a variety of selections will be Sarah Carlson\, organ; Merideth Klingbeil\, organ; and Bob Madeson\, euphonium \nA luncheon will follow the 30 minute concert with a price to be announced. \nThe public is cordially invited to attend this recital. A free-will offering will be received at the door for the Scholarship programs of the Bemidji Area Church Musicians. \nFor further information call Barbara Fisher\, 218-556-0098 or Carol Johnson\, 218-751-0415
URL:https://psalmfm.org/event/bemdiji-area-church-musicians-summer-recital-serie/
END:VEVENT
BEGIN:VEVENT
DTSTART;TZID=UTC:20240828T090000
DTEND;TZID=UTC:20240828T133000
DTSTAMP:20260425T112944
CREATED:20240730T165644Z
LAST-MODIFIED:20240730T165644Z
UID:9669-1724835600-1724851800@psalmfm.org
SUMMARY:Bloodmobile- Grand Rapids
DESCRIPTION:Wednesday\, August 28\, 2024 \n09:00 am – 01:30 pm \nRapid Fuel \n901 NE 4th Street\nBlood Mobile\nGrand Rapids\, MN 55744 \nPrimary Blood Drive Coordinator \nFiona Peterson\nEmail: fionathompson95@gmail.com\nPhone: 218-791-5789
URL:https://psalmfm.org/event/bloodmobile-grand-rapids-13/
END:VEVENT
BEGIN:VEVENT
DTSTART;TZID=UTC:20240827T100000
DTEND;TZID=UTC:20240827T160000
DTSTAMP:20260425T112944
CREATED:20240730T163857Z
LAST-MODIFIED:20240730T163857Z
UID:9657-1724752800-1724774400@psalmfm.org
SUMMARY:Bloodmobile- Deer River
DESCRIPTION:Tuesday\, August 27\, 2024 \n10:00 am – 04:00 pm \nEssentia Clinic-Deer River \n115 10th Avenue NE\nBloodmobile\nDeer River\, MN 56636 \nPrimary Blood Drive Coordinator \nAlesha Shadrick\nEmail: Alesha.Shadrick@EssentiaHealth.org\nPhone: 218-246-4518
URL:https://psalmfm.org/event/bloodmobile-deer-river/
END:VEVENT
BEGIN:VEVENT
DTSTART;TZID=UTC:20240826T133000
DTEND;TZID=UTC:20240826T180000
DTSTAMP:20260425T112944
CREATED:20240730T165321Z
LAST-MODIFIED:20240730T165321Z
UID:9663-1724679000-1724695200@psalmfm.org
SUMMARY:Bloodmobile- Grand Rapids
DESCRIPTION:Monday\, August 26\, 2024 \n01:30 pm – 06:00 pm \nFirst Evangelical Lutheran Church \n735 N.E. First Avenue\nBloodmobile\nGrand Rapids\, MN 55744 \nPrimary Blood Drive Coordinator \nKathy Hohenstein\nEmail: jkhohenstein@gmail.com\nPhone: 218-326-8856
URL:https://psalmfm.org/event/bloodmobile-grand-rapids-10/
END:VEVENT
BEGIN:VEVENT
DTSTART;TZID=UTC:20240826T130000
DTEND;TZID=UTC:20240826T150000
DTSTAMP:20260425T112944
CREATED:20240809T181952Z
LAST-MODIFIED:20240809T181952Z
UID:9721-1724677200-1724684400@psalmfm.org
SUMMARY:Back to School Party- Hibbing Public Library
DESCRIPTION:Join the Hibbing Public Library for a Back to School Party with popcorn and a movie from 1 to 3 p.m. on Monday\, August 26th. The first 125 youth will receive a FREE tote bag filled with school supplies. Event is sponsored by Friends of the Library.
URL:https://psalmfm.org/event/back-to-school-party-hibbing-public-library/
END:VEVENT
BEGIN:VEVENT
DTSTART;TZID=UTC:20240826T113000
DTEND;TZID=UTC:20240830T130000
DTSTAMP:20260425T112944
CREATED:20240605T165346Z
LAST-MODIFIED:20240826T172149Z
UID:9331-1724671800-1725022800@psalmfm.org
SUMMARY:Backus Community Center Free Summer Lunch Program
DESCRIPTION:
URL:https://psalmfm.org/event/9331/
END:VEVENT
BEGIN:VEVENT
DTSTART;TZID=UTC:20240826T100000
DTEND;TZID=UTC:20240826T140000
DTSTAMP:20260425T112944
CREATED:20240730T164018Z
LAST-MODIFIED:20240730T164018Z
UID:9659-1724666400-1724680800@psalmfm.org
SUMMARY:Bloodmobile- Cohasset
DESCRIPTION:Monday\, August 26\, 2024 \n10:00 am – 02:00 pm \nBoswell Energy Center \n1210 NW 3rd St\nBlood Mobile\nCohasset\, MN 55721 \nPrimary Blood Drive Coordinator \nMelissa Adams\nEmail: madams@mnpower.com\nPhone: 218-313-4276
URL:https://psalmfm.org/event/bloodmobile-cohasset/
END:VEVENT
BEGIN:VEVENT
DTSTART;TZID=UTC:20240825T180000
DTEND;TZID=UTC:20240828T203000
DTSTAMP:20260425T112944
CREATED:20240719T144513Z
LAST-MODIFIED:20240806T160805Z
UID:9596-1724608800-1724877000@psalmfm.org
SUMMARY:VBS @ Littlefork Baptist
DESCRIPTION:Littlefork Baptist will be having their VBS for kids k-6th grade on August 25th-28th from 6-8:30.
URL:https://psalmfm.org/event/vbs-littlefork-baptist/
END:VEVENT
BEGIN:VEVENT
DTSTART;TZID=UTC:20240824T090000
DTEND;TZID=UTC:20240824T170000
DTSTAMP:20260425T112944
CREATED:20240612T144316Z
LAST-MODIFIED:20240612T144515Z
UID:9366-1724490000-1724518800@psalmfm.org
SUMMARY:Twin Cities ScriptureFest
DESCRIPTION:Twin Cities ScriptureFest Recitation Weekend! \nJoin them August 24th & 25th to be washed in the Word & celebrate Christ’s 1st and 2nd comings! You are invited to attend either or both ScriptureFests. All ages are welcome to participate & any number of verses can be picked to memorize & recite! They will also enjoy fellowship meals & singing hymns together! \nSaturday\, August 24–9:00am\nWayCross Evangelical Church\n7733 West River Road\nBrooklyn Park\, MN 55444\nProphecies of a Coming Savior: OT Prophecies & NT Fulfillments \nSunday\, August 25–4:00pm\nCornerstone Reformed Church (inside Concordia Academy)\n2400 Dale Street North\nRoseville\, MN 55117\nProphecies of a Returning Savior: The Book of Revelation \nTo reserve verses & for other details\, go to ScriptureFest.com\, and click on Minnesota under “Events”\, or email Noelle at n_moritz77@hotmail.com.
URL:https://psalmfm.org/event/twin-cities-scripturefest/
END:VEVENT
BEGIN:VEVENT
DTSTART;TZID=UTC:20240824T080000
DTEND;TZID=UTC:20240825T113000
DTSTAMP:20260425T112944
CREATED:20240202T184222Z
LAST-MODIFIED:20240729T151046Z
UID:8521-1724486400-1724585400@psalmfm.org
SUMMARY:The Fruit Truck Delivery Dates- Colorado Palisade Freestone Peaches and Pears
DESCRIPTION:For a full list and more information go to myfruittruck.com \nBemidji- Sat Aug 24th (CO Palisade Freestone Peach\, pears) from 8:00 AM -8:30 AM at Pete’s Place South\, 179 Convenience Ln SE \nRoseau-Sat Aug 24th (CO Palisade Freestone Peach\, pears) from 1:30 PM -2:00 PM at Roseau Hardware\, 1114 3rd St NW \nBaudette- Sat Aug 24th (CO Palisade Freestone Peach\, pears) from 3:15 PM -3:45 PM at the 218 Tavern\, 1229 Main St W \nInternational Falls- Sat Aug 24th (CO Palisade Freestone Peach\, pears) from 5:15 PM -5:45 PM at Border Bob’s\, 200 2nd Ave \nOrr- Sat Aug 24th (CO Palisade Freestone Peach\, pears) from 7:00 PM -7:30 PM at Ryan’s Rustic Railings\, 3393 Hwy 53 Orr \n  \nEveleth- Sun Aug 25th (CO Palisade Freestone Peach\, pears) from 8:00 AM -8:30 AM at the Super 8 Eveleth\, 1080 Industrial Park Dr \nHibbing- Sun Aug 25th (CO Palisade Freestone Peach\, pears) from 9:30 AM -10:00 AM at the Hibbing Cinema 8\, 4015 9th Ave W \nGrand Rapids- Sun Aug 25th (CO Palisade Freestone Peach\, pears) from 11:00 AM -11:30 AM at the Moose Lodge\, 330 N. E. 10th Ave \n  \n  \n  \n 
URL:https://psalmfm.org/event/the-fruit-truck-delivery-dates/
END:VEVENT
BEGIN:VEVENT
DTSTART;TZID=UTC:20240823T120000
DTEND;TZID=UTC:20240823T160000
DTSTAMP:20260425T112944
CREATED:20240604T155305Z
LAST-MODIFIED:20240808T145333Z
UID:9314-1724414400-1724428800@psalmfm.org
SUMMARY:Ifalls Public Library Book Sales
DESCRIPTION:
URL:https://psalmfm.org/event/ifalls-public-library-book-sales/
END:VEVENT
BEGIN:VEVENT
DTSTART;TZID=UTC:20240822T080000
DTEND;TZID=UTC:20240825T170000
DTSTAMP:20260425T112944
CREATED:20240821T174856Z
LAST-MODIFIED:20240821T174856Z
UID:9777-1724313600-1724605200@psalmfm.org
SUMMARY:VBS- Full Gospel Fellowship in Ifalls
DESCRIPTION:This ancient Egypt themed VBS will have kids learning about the early life of Moses and how God used him to help the Israelites escape their Egyptian slavery and ultimately how we can escape from our slavery to sin. \n*Thursday & Friday\, August 22nd and 23rd\, 6pm-8pm (Check in begins at 5:45) \n*Saturday\, August 24th\, 10am-12pm (check in starts at 9:45) \n*Sunday Celebration\, August 25th\, 10:30am (they invite families to attend with their child) Picnic to follow service. \nAges 3-11 years old (must be potty trained). \nRegister your child at http://forms.gle/y72X4E2ZMqT3fMfr9 \nIf you have questions\, please contact Crystal Salmi via email: salmsy@msn.com
URL:https://psalmfm.org/event/vbs-full-gospel-fellowship-in-ifalls/
END:VEVENT
BEGIN:VEVENT
DTSTART;TZID=UTC:20240821T183000
DTEND;TZID=UTC:20240821T200000
DTSTAMP:20260425T112944
CREATED:20240809T151354Z
LAST-MODIFIED:20240809T151354Z
UID:9716-1724265000-1724270400@psalmfm.org
SUMMARY:Smore Night
DESCRIPTION:Big Falls will be having Smore Night at the Campground Memorial Pavilion on Wednesday\, August 21st starting at 6:30pm.
URL:https://psalmfm.org/event/smore-night/
END:VEVENT
BEGIN:VEVENT
DTSTART;TZID=UTC:20240821T120000
DTEND;TZID=UTC:20240821T123000
DTSTAMP:20260425T112944
CREATED:20240729T161008Z
LAST-MODIFIED:20240729T161008Z
UID:9648-1724241600-1724243400@psalmfm.org
SUMMARY:Bemdiji Area Church Musicians Summer Recital Series
DESCRIPTION:The next Bemdiji Area Church Musicians Summer Recital Series will be held on August 21st at the First Presbyterian Church\, located at 501 Minnesota Ave. NW from 12-12:30. \nPerforming a variety of selections will be Darlinda Coe\, organ; Aaron Coe\, viola; Lee Coe\, rattlebones; and Linda Wagner\, vocalist. \nA luncheon will follow the 30 minute concert with a price to be announced. \nThe public is cordially invited to attend this recital. A free-will offering will be received at the door for the Scholarship programs of the Bemidji Area Church Musicians. \nFor further information call Barbara Fisher\, 218-556-0098 or Carol Johnson\, 218-751-0415
URL:https://psalmfm.org/event/bemdiji-area-church-musicians-summer-recital-series-2/
END:VEVENT
BEGIN:VEVENT
DTSTART;TZID=UTC:20240819T170000
DTEND;TZID=UTC:20240819T210000
DTSTAMP:20260425T112944
CREATED:20240627T163142Z
LAST-MODIFIED:20240717T144820Z
UID:9518-1724086800-1724101200@psalmfm.org
SUMMARY:Defensive Driving Zoom Courses
DESCRIPTION:Defensive Driving Courses \n(LIVE) ZOOM Courses \nIf you have a computer\, tablet or smart phone you can take the Zoom course in the comfort of your own home.  For drivers age 55 and older. Class materials need to be mailed so early registration is recommended. \n  \nCost of the course is $15.00. \n  \nThe instructor is retired Minnesota State Trooper Mike Flatley. \n  \nMonday\, August 19th from 5pm to 9pm\n  \nPre-register by calling 218-750-3189 or by email to mnflats@hotmail.com \n  \nFor more information on Mike Flatley’s upcoming courses visit: mndefensivedriving.blogspot.com
URL:https://psalmfm.org/event/defensive-driving-zoom-courses/
END:VEVENT
BEGIN:VEVENT
DTSTART;TZID=UTC:20240819T160000
DTEND;TZID=UTC:20240819T190000
DTSTAMP:20260425T112944
CREATED:20240122T192715Z
LAST-MODIFIED:20240813T144411Z
UID:8481-1724083200-1724094000@psalmfm.org
SUMMARY:Pickleball@ Calumet Public Library
DESCRIPTION:There is free pickleball at the Calumet Public Library every Monday from 4-7pm. They provide all the equipment. Stop by and check it out!
URL:https://psalmfm.org/event/pickleball-calumet-public-library/
END:VEVENT
BEGIN:VEVENT
DTSTART;TZID=UTC:20240819T090000
DTEND;TZID=UTC:20240819T150000
DTSTAMP:20260425T112944
CREATED:20240730T163645Z
LAST-MODIFIED:20240730T163645Z
UID:9655-1724058000-1724079600@psalmfm.org
SUMMARY:Bloodmobile- Bemidji
DESCRIPTION:Monday\, August 19\, 2024 \n09:00 am – 03:00 pm \nBemidji Calvary Lutheran Church \n2508 Washington Avenue SE\nFellowship Hall\nBemidji\, MN 56601 \nPrimary Blood Drive Coordinator \nGarrett Fultz\nEmail: gfultz@calvarybemidji.org\nPhone: 218-751-1893
URL:https://psalmfm.org/event/bloodmobile-bemidji/
END:VEVENT
BEGIN:VEVENT
DTSTART;TZID=UTC:20240819T083000
DTEND;TZID=UTC:20240820T160000
DTSTAMP:20260425T112944
CREATED:20240729T155020Z
LAST-MODIFIED:20240729T155020Z
UID:9639-1724056200-1724169600@psalmfm.org
SUMMARY:Children's Dental Services in Int'l Falls
DESCRIPTION:CDS (Children’s Dental Services) is a nonprofit dental health clinic and will be in Int’l Falls AUGUST 19th & 20th from 8:30-4! Please don’t hesitate to take advantage of this\, call today for your appt 866-543-6009\nFor more information visit CDS at: www.childrensdentalservices.org
URL:https://psalmfm.org/event/childrens-dental-services-in-intl-falls/
END:VEVENT
BEGIN:VEVENT
DTSTART;TZID=UTC:20240818T110000
DTEND;TZID=UTC:20240818T130000
DTSTAMP:20260425T112944
CREATED:20240807T144003Z
LAST-MODIFIED:20240807T144003Z
UID:9701-1723978800-1723986000@psalmfm.org
SUMMARY:MN Adult & Teen Challenge with Babbitt Assembly of God @ Birch Lake Beach
DESCRIPTION:All are invited to a service at the Birch Lake beach on Sunday\, August 18 at 11:00 AM. Minnesota Adult and Teen Challenge Choir will be performing and sharing with Babbitt Assembly of God. They will be at the main log pavilion. There will be a baptism service and a free Hamburger and Brat picnic following the service.\nAdult and Teen Challenge is the most successful drug and alcohol addiction recovery program. Please plan to come and hear about the miracles of broken lives restored.
URL:https://psalmfm.org/event/mn-adult-teen-challenge-with-babbitt-assembly-of-god-birch-lake-beach/
END:VEVENT
BEGIN:VEVENT
DTSTART;TZID=UTC:20240817T110000
DTEND;TZID=UTC:20240817T140000
DTSTAMP:20260425T112944
CREATED:20240730T164129Z
LAST-MODIFIED:20240730T164129Z
UID:9661-1723892400-1723903200@psalmfm.org
SUMMARY:Bloodmobile- Grand Rapids
DESCRIPTION:Saturday\, August 17\, 2024 \n11:00 am – 02:00 pm \nGrand Rapids Itasca County Fair \n1336 Fairgrounds Rd\nOutside\nGrand Rapids\, MN 55744 \nPrimary Blood Drive Coordinator \nBrian Carlson\nEmail: brian50@paulbunyan.net\nPhone: 218-256-1522
URL:https://psalmfm.org/event/bloodmobile-grand-rapids-7/
END:VEVENT
BEGIN:VEVENT
DTSTART;TZID=UTC:20240816T180000
DTEND;TZID=UTC:20240816T200000
DTSTAMP:20260425T112944
CREATED:20240815T185529Z
LAST-MODIFIED:20240815T185529Z
UID:9768-1723831200-1723838400@psalmfm.org
SUMMARY:Evening of Hope
DESCRIPTION:An Evening of Hope will be on Friday\, August 16th from 6-8 at the Rainy Lake Square. Music\, encouragement and prayer\, refreshments and cookies.
URL:https://psalmfm.org/event/evening-of-hope/
END:VEVENT
BEGIN:VEVENT
DTSTART;TZID=UTC:20240815T140000
DTEND;TZID=UTC:20240815T170000
DTSTAMP:20260425T112944
CREATED:20240807T145028Z
LAST-MODIFIED:20240807T145028Z
UID:9705-1723730400-1723741200@psalmfm.org
SUMMARY:Community Action Poverty Simulation
DESCRIPTION:On Thursday\, August 15th from 2-5 pm\, there will be a unique (and free) learning opportunity offered to our community! A Community Action Poverty Simulation\, which will be facilitated by Sue Monson of MAHUBE-OTWA Community Action.\nThis event will provide participants a chance to experience the struggles and hurdles people face struggling with poverty. People will be assigned life scenarios and time is broken into four 15-minute rounds\, representing each week of the month. By the end of the “month\,” the goal is for the person or family unit to acquire needed services\, pay bills\, make sure they had food and other necessities\, and (depending on goals/scenarios) go to work\, get kids to school\, obtain higher education\, and maintain order in their lives.\nAfter the simulation is complete\, there will be a time for debriefing so participants can talk about their experiences. We hope that this event will provide everyone involved with a better understanding of the barriers that people in poverty are up against and promote positive change where possible. CEU’s will be available for this event.\nTo register\, please go to https://forms.office.com/r/YzJErVY0Fc or email amym@kootasca.org. Deadline to sign up is Friday\, August 9th but they may be able to sign up a few more by Monday the 12th.
URL:https://psalmfm.org/event/community-action-poverty-simulation/
END:VEVENT
BEGIN:VEVENT
DTSTART;TZID=UTC:20240815T110000
DTEND;TZID=UTC:20240815T180000
DTSTAMP:20260425T112944
CREATED:20240730T165852Z
LAST-MODIFIED:20240730T165852Z
UID:9671-1723719600-1723744800@psalmfm.org
SUMMARY:Bloodmobile- Grand Rapids
DESCRIPTION:Thursday\, August 15\, 2024 \n11:00 am – 06:00 pm \nGrand Itasca Clinic and Hospital \n1601 Golf Course Road\nBloodmobile\nGrand Rapids\, MN 55744 \nPrimary Blood Drive Coordinator \nHannah Chesness\nEmail: hchesne1@Fairview.org\nPhone: 218-999-1016
URL:https://psalmfm.org/event/bloodmobile-grand-rapids-14/
END:VEVENT
BEGIN:VEVENT
DTSTART;TZID=UTC:20240815T110000
DTEND;TZID=UTC:20240815T120000
DTSTAMP:20260425T112944
CREATED:20240103T172325Z
LAST-MODIFIED:20240809T181715Z
UID:8396-1723719600-1723723200@psalmfm.org
SUMMARY:Wiggles and Giggles at Hibbing Public Library
DESCRIPTION:Wiggles and Giggles Storytime meets Thursdays from 11-12 in the auditorium at the Hibbing Public Library. \nThey will read a story that incorporates some movement and action such as rolling the action dice\, playing with a parachute or simon says. \nThere will be free play in the playpark for 30 minutes so your little one can get even more of their wiggles out. \nFor more information call 218-362-5959.
URL:https://psalmfm.org/event/wiggles-and-giggles-at-hibbing-public-library/
END:VEVENT
BEGIN:VEVENT
DTSTART;TZID=UTC:20240815T080000
DTEND;TZID=UTC:20240815T163000
DTSTAMP:20260425T112944
CREATED:20240325T145811Z
LAST-MODIFIED:20240805T144132Z
UID:8896-1723708800-1723739400@psalmfm.org
SUMMARY:Cornerstone Christian School Admission
DESCRIPTION:Cornerstone Admission is Now Open!\nAdmission for the 2024-2025 school year at Cornerstone Christian School in Emo\, Ontario\, is now open for junior kindergarten to grade 12. Bussing is available along Highway 11/71 from Fort Frances and Rainy River. Call (807) 482-3838 or email at office@cornerstonechristian.ca.
URL:https://psalmfm.org/event/cornerstone-christian-school-admission/
END:VEVENT
BEGIN:VEVENT
DTSTART;TZID=UTC:20240814T160000
DTEND;TZID=UTC:20240814T180000
DTSTAMP:20260425T112944
CREATED:20240724T153850Z
LAST-MODIFIED:20240808T145257Z
UID:9612-1723651200-1723658400@psalmfm.org
SUMMARY:Servants of Shelter Friend Raiser - Ice cream Social
DESCRIPTION:Servants of Shelter is hosting an ice cream cone social at Smokey Bear Park in Int’l Falls on Wednesday\, August 14th starting at 4pm. Join them for a cone\, fellowship and learn about Servants of Shelter.
URL:https://psalmfm.org/event/servants-of-shelter-friend-raiser-ice-cream-social/
END:VEVENT
END:VCALENDAR