BEGIN:VCALENDAR
VERSION:2.0
PRODID:-//PsalmFM - ECPv6.15.20//NONSGML v1.0//EN
CALSCALE:GREGORIAN
METHOD:PUBLISH
X-ORIGINAL-URL:https://psalmfm.org
X-WR-CALDESC:Events for PsalmFM
REFRESH-INTERVAL;VALUE=DURATION:PT1H
X-Robots-Tag:noindex
X-PUBLISHED-TTL:PT1H
BEGIN:VTIMEZONE
TZID:UTC
BEGIN:STANDARD
TZOFFSETFROM:+0000
TZOFFSETTO:+0000
TZNAME:UTC
DTSTART:20240101T000000
END:STANDARD
END:VTIMEZONE
BEGIN:VEVENT
DTSTART;TZID=UTC:20250501T110000
DTEND;TZID=UTC:20250501T133000
DTSTAMP:20260424T153059
CREATED:20250407T152018Z
LAST-MODIFIED:20250407T152018Z
UID:10958-1746097200-1746106200@psalmfm.org
SUMMARY:National Day of Prayer- State Capitol
DESCRIPTION:You are invited to the Minnesota State Capitol on Thursday\, May 1st for the annual National Day of Prayer. Worship will start at 11:30 and the formal observance will run from 12-1:15 on the Upper Capitol Mall. If the weather is inclement\, they will meet at the Christ Lutheran Church on Capitol Hill. \nIf you would like to find a National Day of Prayer event in your area\, please check out the Gathering Finder at http://www.nationaldayofprayer.org/events/gathering-search \n“As we pour out to the God of hope on this 2025 National Day of Prayer\, the God of hope will pour out the oil of hope upon U.S.”
URL:https://psalmfm.org/event/national-day-of-prayer-state-capitol/
END:VEVENT
BEGIN:VEVENT
DTSTART;TZID=UTC:20250501T120000
DTEND;TZID=UTC:20250501T130000
DTSTAMP:20260424T153059
CREATED:20250424T160812Z
LAST-MODIFIED:20250501T125515Z
UID:11012-1746100800-1746104400@psalmfm.org
SUMMARY:National Day of Prayer gatherings
DESCRIPTION:International Falls area pastors invite you to come out for National Day of Prayer. Meet with fellow believers in prayer at the Koochiching County Courthouse\, flagpole on May 1st from 12-1. \nBaudette NDOP gathering will be at The Lighthouse (106 2nd St. NE) at Noon. \nBabbitt/Embarrass: All Christians and churches of the Babbitt Embarrass area are invited pray together for our Nation\, State\, and communities at the National Day of Prayer gathering at the Babbitt City Hall Council Chambers from 12-1 on May 1st. People are welcome to come and go as schedules require. \nEly: There will be a National Day of Prayer observance at the Ely Senior Center\, located at 27 S. 1st Ave E\, on May 1st from noon to 1pm. Any questions call Mark at 218-340-0901 \nYou are invited to the Minnesota State Capitol on Thursday\, May 1st for the annual National Day of Prayer. Worship will start at 11:30 and the formal observance will run from 12-1:15 on the Upper Capitol Mall. If the weather is inclement\, they will meet at the Christ Lutheran Church on Capitol Hill. \nIf you would like to find a National Day of Prayer event in your area\, please check out the Gathering Finder at http://www.nationaldayofprayer.org/events/gathering-search \n“As we pour out to the God of hope on this 2025 National Day of Prayer\, the God of hope will pour out the oil of hope upon U.S.”
URL:https://psalmfm.org/event/national-day-of-prayer-ifalls/
END:VEVENT
BEGIN:VEVENT
DTSTART;TZID=UTC:20250501T130000
DTEND;TZID=UTC:20250501T193000
DTSTAMP:20260424T153059
CREATED:20250430T145711Z
LAST-MODIFIED:20250430T145711Z
UID:11057-1746104400-1746127800@psalmfm.org
SUMMARY:Talking Across Differences- Bemidji
DESCRIPTION:Are you one of many people who are affected by the current narratives of division that keep you disengaged from family\, friends\, community members?\n\n\nIf so\, know that you are not alone!To that end\, you are invited to join them for an upcoming Braver Angels’ skills workshop and community session during their Greater MN Bus Tour.\n\n\nThey will be in Bemidji offering 2 free community sessions for Disagreeing without Dividing. Join one or both!Event Date: May 1\, 2025Location: SouthShore Hotel (formerly the Hampton Inn)\, Bemidji***Registration preferred\, Walk-ins welcomeRegister here: https://forms.gle/3UpM1bzh9xnwnbbF7Skills for Disagreeing Better 1:00 – 2:30p.m.An interactive workshop that offers skills & tools for engaging more effectively in the presence of disagreementsFinding Community in our Differences 6:00 – 7:30p.m.Doors open at 5:30pm\n\n\nAn interactive facilitated session to effectively engage in respectful dialogue across differences\n\n\n\nLight snacks will be provided for both sessions
URL:https://psalmfm.org/event/talking-across-differences-bemidji/
END:VEVENT
BEGIN:VEVENT
DTSTART;TZID=UTC:20250503T080000
DTEND;TZID=UTC:20250503T170000
DTSTAMP:20260424T153059
CREATED:20250421T174819Z
LAST-MODIFIED:20250421T174819Z
UID:11000-1746259200-1746291600@psalmfm.org
SUMMARY:NW Itasca County 60-mile-long Garage Sale
DESCRIPTION:Have a touch of cabin fever?  Can’t wait for fishing opener? Release your inner bargain hunter and explore 60 miles of community garage sales in northwest Itasca County!  It’s the annual Treasures Are Fine garage sales on Saturday\, May 3 from 8 a.m. to 5 p.m. \nOver 80 sales are available at 35 locations.  The route follows State Highway 6 through Bowstring to Talmoon and then county roads 4 and 29 through Spring Lake\, Sand Lake\, Squaw Lake\, Dora Lake and Wirt. The route can be accessed from any direction: Deer River\, Marcell\, Bigfork\, Blackduck or Northome.  Some sales will also continue on Sunday: check the map for information. \nThe map will be available at stores along the route or online on Facebook @treasures6429 before the sale.   Shown are locations and some of the big items shoppers can find\, like tools\, antiques\, trucks\, snowmobiles\, metalcrafts\, boat and gardening supplies. Click on the group page for updates during the day. \nNo one will go hungry!  As well as local homemade jar and baked goods\, shoppers can find cinnamon rolls\, wood-fired pizza\, sloppy joes and more at stores and sales along the route. \nThank you to the 2025 major sponsor\, Paul Bunyan Communications.  Other sponsors include Barney’s Resort\, the Gentry & the Kitterman families\, Fish Tales Bar & Grill\, Max Mini Store\, Riley’s Cannibal Junction and the Spring Lake Store. Sponsors make it possible to advertise the event and print the map.
URL:https://psalmfm.org/event/nw-itasca-county-60-mile-long-garage-sale/
END:VEVENT
BEGIN:VEVENT
DTSTART;TZID=UTC:20250503T083000
DTEND;TZID=UTC:20250503T120000
DTSTAMP:20260424T153059
CREATED:20250429T164016Z
LAST-MODIFIED:20250429T164016Z
UID:11048-1746261000-1746273600@psalmfm.org
SUMMARY:Bloodmobile- Embarrass
DESCRIPTION:Saturday\, May 03\, 2025 \n8:30 am – 12:00 pm \nERFA Timber Hall \n4855 Highway 21\nTimber Hall\nEmbarrass\, MN 55732 \nPrimary Blood Drive Coordinator: \nBonnie Overton\nEmail: bonnie_overton@yahoo.com \nFor more information go to www.mbcherohub.club
URL:https://psalmfm.org/event/bloodmobile-embarrass-4/
END:VEVENT
BEGIN:VEVENT
DTSTART;TZID=UTC:20250503T090000
DTEND;TZID=UTC:20250503T150000
DTSTAMP:20260424T153059
CREATED:20250225T175600Z
LAST-MODIFIED:20250225T175600Z
UID:10788-1746262800-1746284400@psalmfm.org
SUMMARY:Flourish Women's Conference
DESCRIPTION:May 3rd \nSpeaker: Pastor Amber Gerstmann \nDoors open at 8:30 \nConference 9-3 \nAbundant Life Church located at 1637 E 40th St in Hibbing \nCatered by Sammy’s Pizza \nRegister now at: http://alchibbing.churchcenter.com/registrations/events/2685214 \nCost $40
URL:https://psalmfm.org/event/flourish-womens-conference/
END:VEVENT
BEGIN:VEVENT
DTSTART;TZID=UTC:20250503T100000
DTEND;TZID=UTC:20250503T120000
DTSTAMP:20260424T153059
CREATED:20250430T143434Z
LAST-MODIFIED:20250430T143434Z
UID:11053-1746266400-1746273600@psalmfm.org
SUMMARY:Walk for Life- New Beginnings Pregnancy & Family Support
DESCRIPTION:Join New Beginnings Pregnancy & Family Support for their annual Walk for Life!\nSaturday\, May 3rd from 10AM–12PM at the First Evangelical Lutheran Church.\n\n\nWalk 3.1 miles (with shortcut options!)\, enjoy a finish-line lunch\, and help support life-changing work in our community.\nDon’t miss the Most Funds Raised Challenge — every step you take makes a difference!\n\n\nLearn more or get involved by going to newbeginningspregnancy.com\, emailing them at events@newbeginningspregnancy.com or by calling 218-326-0404.
URL:https://psalmfm.org/event/walk-for-life-new-beginnings-pregnancy-family-support/
END:VEVENT
BEGIN:VEVENT
DTSTART;TZID=UTC:20250503T110000
DTEND;TZID=UTC:20250503T150000
DTSTAMP:20260424T153059
CREATED:20250326T150443Z
LAST-MODIFIED:20250326T150443Z
UID:10914-1746270000-1746284400@psalmfm.org
SUMMARY:Craft & Vendor Event- Bigfork School
DESCRIPTION:Bigfork PTA Presents: Huskie Craft & Vendor Event on Saturday\, May 3rd from 11-3 at the Bigfork School Gym\, located at 100 Huskie Blvd. \nEmail bigforkpta@gmail.com for more information or to become a vendor.
URL:https://psalmfm.org/event/craft-vendor-event-bigfork-school/
END:VEVENT
BEGIN:VEVENT
DTSTART;TZID=UTC:20250505T110000
DTEND;TZID=UTC:20250505T180000
DTSTAMP:20260424T153059
CREATED:20250429T163420Z
LAST-MODIFIED:20250429T163420Z
UID:11034-1746442800-1746468000@psalmfm.org
SUMMARY:Bloodmobile- Grand Rapids
DESCRIPTION:Monday\, May 05\, 2025 \n11:00 am – 6:00 pm \nGrand Rapids Evangelical Free Church \n34384 County Road 63\nParking Lot\nGrand Rapids\, MN 55744 \nPrimary Blood Drive Coordinator: \nBonnie Kangas\nEmail: kangashs@paulbunyan.net\nPhone: 218-326-8180 \nFor more information go to www.mbcherohub.club
URL:https://psalmfm.org/event/bloodmobile-grand-rapids-29/
END:VEVENT
BEGIN:VEVENT
DTSTART;TZID=UTC:20250506T060000
DTEND;TZID=UTC:20250508T180000
DTSTAMP:20260424T153059
CREATED:20250506T213629Z
LAST-MODIFIED:20250506T213629Z
UID:11083-1746511200-1746727200@psalmfm.org
SUMMARY:PsalmFM Spring Fundraiser
DESCRIPTION:Please help PsalmFM with your best gift! Our goal is $40\,000\, and we can’t do it without you! \nCall 218-285-7398 \nText PSALMFM to 53555 \nor \npsalmfm.org/donate \nTHANK YOU!
URL:https://psalmfm.org/event/psalmfm-spring-fundraiser/
END:VEVENT
BEGIN:VEVENT
DTSTART;TZID=UTC:20250506T080000
DTEND;TZID=UTC:20250506T120000
DTSTAMP:20260424T153059
CREATED:20250429T163755Z
LAST-MODIFIED:20250429T163755Z
UID:11042-1746518400-1746532800@psalmfm.org
SUMMARY:Bloodmobile- Nashwauk
DESCRIPTION:Tuesday\, May 06\, 2025 \n8:00 am – 12:00 pm \nNashwauk Keewatin High School \n400 2nd ST\nNashwauk\, MN 55769 \nPrimary Blood Drive Coordinator: \nCarly Anderson\nEmail: canderson@isd319.org\nPhone: 218-885-1280 \nFor more information go to www.mbcherohub.club
URL:https://psalmfm.org/event/bloodmobile-nashwauk-3/
END:VEVENT
BEGIN:VEVENT
DTSTART;TZID=UTC:20250508T093000
DTEND;TZID=UTC:20250508T160000
DTSTAMP:20260424T153059
CREATED:20250429T163512Z
LAST-MODIFIED:20250429T163512Z
UID:11036-1746696600-1746720000@psalmfm.org
SUMMARY:Bloodmobile- Grand Rapids
DESCRIPTION:Thursday\, May 08\, 2025 \n9:30 am – 4:00 pm \nGrand Rapids High School \n800 Conifer Drive\nGrand Rapids\, MN 55744 \nPrimary Blood Drive Coordinator: \nKatie Thunshelle\nEmail: kthunshelle@isd318.org\nPhone: 218-327-5760 ext. 41521 \nFor more information go to www.mbcherohub.club
URL:https://psalmfm.org/event/bloodmobile-grand-rapids-30/
END:VEVENT
BEGIN:VEVENT
DTSTART;TZID=UTC:20250509T103000
DTEND;TZID=UTC:20250509T113000
DTSTAMP:20260424T153059
CREATED:20250311T165258Z
LAST-MODIFIED:20250414T170021Z
UID:10821-1746786600-1746790200@psalmfm.org
SUMMARY:Bemidji Public Library's Homeschool Days
DESCRIPTION:The Bemidji Public Library welcomes all homeschooling families for another year of Homeschool Days\, the second Friday of every month at 10:30 AM. \nJoin them on Friday\, May 9th. \nAll ages welcome! Contact Sabrina Grauman at 218-751-3963 or graumans@krls.org with any questions.
URL:https://psalmfm.org/event/bemidji-public-librarys-homeschool-days/
END:VEVENT
BEGIN:VEVENT
DTSTART;TZID=UTC:20250509T173000
DTEND;TZID=UTC:20250509T203000
DTSTAMP:20260424T153059
CREATED:20250509T145203Z
LAST-MODIFIED:20250509T145203Z
UID:11093-1746811800-1746822600@psalmfm.org
SUMMARY:St. Mary's Youth-Pizza and Scavenger Hunt
DESCRIPTION:St.Mary’s Youth Group is having a make your own pizza & scavenger hunt at St.Mary’s Parish is located at 209 Victoria Ave in Fort Frances . \non May 9th from 5:30 – 8:30pm \nFor grades 6-9
URL:https://psalmfm.org/event/st-marys-youth-pizza-and-scavenger-hunt/
END:VEVENT
BEGIN:VEVENT
DTSTART;TZID=UTC:20250509T190000
DTEND;TZID=UTC:20250509T210000
DTSTAMP:20260424T153059
CREATED:20250430T144440Z
LAST-MODIFIED:20250430T144440Z
UID:11055-1746817200-1746824400@psalmfm.org
SUMMARY:Backus Music Concert
DESCRIPTION:Backus Community Center will be having a music concert on Friday\, May 9th starting at 7pm.  Community groups performing will be the Rainy Lake Orchestra\, Jr Orchestra\, Band and Choir. Free will offering.
URL:https://psalmfm.org/event/backus-music-concert/
END:VEVENT
BEGIN:VEVENT
DTSTART;TZID=UTC:20250510T080000
DTEND;TZID=UTC:20250510T170000
DTSTAMP:20260424T153059
CREATED:20250429T150031Z
LAST-MODIFIED:20250429T150031Z
UID:11024-1746864000-1746896400@psalmfm.org
SUMMARY:Stamp Out Hunger Food Drive
DESCRIPTION:International Falls postal carriers will be participating in the National Association of Letter Carriers’ Stamp Out Hunger Food Drive. \nTo donate\, place a box or can of non-perishable food next to your mailbox before your letter carrier delivers mail on Saturday\, May 10th. Food items can also be dropped off at the Ifalls post office. \nAll donations will benefit Koochiching County Food Access (KCFA)\, the local food pantry operating at 410 5th Ave\, Ifalls. KCFA serves people in Ifalls and surrounding communities and is open for shopping Tuesdays and Thursdays\, noon-4pm. \nThe number of people needing to access food shelf services is increasing. Please help address hunger in Koochiching County. Contact Carol at 218-240-1699 with questions.
URL:https://psalmfm.org/event/stamp-out-hunger-food-drive/
END:VEVENT
BEGIN:VEVENT
DTSTART;TZID=UTC:20250510T100000
DTEND;TZID=UTC:20250510T120000
DTSTAMP:20260424T153059
CREATED:20250505T161047Z
LAST-MODIFIED:20250505T161047Z
UID:11077-1746871200-1746878400@psalmfm.org
SUMMARY:Bemidji Alglow Fellowship Meeting
DESCRIPTION:Bemidji Aglow will be meeting on Saturday\, May 10th from 10-noon at the Beltrami Electric. Praise and worship by the Aglow Angels Singers\, followed by Dr. Mark Virkler teaching via video on How to Hear the voice of God!
URL:https://psalmfm.org/event/bemidji-alglow-fellowship-meeting/
END:VEVENT
BEGIN:VEVENT
DTSTART;TZID=UTC:20250513T090000
DTEND;TZID=UTC:20250513T123000
DTSTAMP:20260424T153059
CREATED:20250429T163330Z
LAST-MODIFIED:20250429T163330Z
UID:11032-1747126800-1747139400@psalmfm.org
SUMMARY:Bloodmobile- Cohasset
DESCRIPTION:Tuesday\, May 13\, 2025 \n9:00 am – 12:30 pm \nBoswell Energy Center \n1210 NW 3rd St\nCohasset\, MN 55721 \nPrimary Blood Drive Coordinator: \nMelissa Adams\nEmail: madams@mnpower.com\nPhone: 218-313-4276 \nFor more information go to www.mbcherohub.club
URL:https://psalmfm.org/event/bloodmobile-cohasset-5/
END:VEVENT
BEGIN:VEVENT
DTSTART;TZID=UTC:20250514T143000
DTEND;TZID=UTC:20250514T170000
DTSTAMP:20260424T153059
CREATED:20240918T160539Z
LAST-MODIFIED:20250512T165754Z
UID:9920-1747233000-1747242000@psalmfm.org
SUMMARY:Kids Bible Club-First Baptist Church Ifalls
DESCRIPTION:Wednesdays from 2:45-4:45 \nBusing from school to church is available \nSign up at firstbaptistchurchifalls.org \nContact Mary Fish for more details at 603-703-1498 or mefish2017@gmail.com \n 
URL:https://psalmfm.org/event/kids-bible-club-first-baptist-church-ifalls/
END:VEVENT
BEGIN:VEVENT
DTSTART;TZID=UTC:20250515T110000
DTEND;TZID=UTC:20250515T150000
DTSTAMP:20260424T153059
CREATED:20250429T163841Z
LAST-MODIFIED:20250429T163841Z
UID:11044-1747306800-1747321200@psalmfm.org
SUMMARY:Bloodmobile- Iron
DESCRIPTION:Thursday\, May 15\, 2025 \n11:00 am – 3:00 pm \nCherry School \n3943 Tamminen Road\nIron\, MN 55751 \nPrimary Blood Drive Coordinator: \nChelsea Anderson\nEmail: ceanderson@isd2142.k12.mn.us\nPhone: 218-258-8991 \nFor more information go to www.mbcherohub.club
URL:https://psalmfm.org/event/bloodmobile-iron-2/
END:VEVENT
BEGIN:VEVENT
DTSTART;TZID=UTC:20250517T080000
DTEND;TZID=UTC:20250517T170000
DTSTAMP:20260424T153059
CREATED:20250505T161515Z
LAST-MODIFIED:20250505T161515Z
UID:11079-1747468800-1747501200@psalmfm.org
SUMMARY:Spring Bakers Market
DESCRIPTION:There will be a Spring Bakers Market on Saturday\, May 17th from 9am-6pm at Magpies & Magnolias Boutique\, located at 1731 2nd Ave in International Falls. \nParticipating Vendors: \nCake & Crust Artisan Bakery \nTrista’s Desserts \nTerri Shoberg- Tupperware \nVera’s Goodies \nKT Candles \nand more! \nFor more information\, go to Cake & Crust Artisan Bakery Facebook page. \n 
URL:https://psalmfm.org/event/spring-bakers-market/
END:VEVENT
BEGIN:VEVENT
DTSTART;TZID=UTC:20250517T100000
DTEND;TZID=UTC:20250517T160000
DTSTAMP:20260424T153059
CREATED:20250507T182329Z
LAST-MODIFIED:20250507T182329Z
UID:11088-1747476000-1747497600@psalmfm.org
SUMMARY:Community Family Day- Ifalls
DESCRIPTION:10am- Int’l Falls Public Library will have a craft in the junior room. \n11am- Int’l Falls Public Library hosting an Arrowhead Legacy event! A concert featuring song and stories of commercial sailing on the Great Lakes with folksinger Charlie Maguire. \n11am-1pm- Bike Safety Rodeo at Kerry Park. Obstacle Course (bikes provided)\, free helmets for the first 100 youth\, free lunch and free bike tuning provided by The Sports Shop. \n1pm-4pm- Free open bowling at Timber Pins for families\, youth and community member of all ages. \nAll events are free!
URL:https://psalmfm.org/event/community-family-day-ifalls/
END:VEVENT
BEGIN:VEVENT
DTSTART;TZID=UTC:20250517T160000
DTEND;TZID=UTC:20250517T200000
DTSTAMP:20260424T153059
CREATED:20250320T144752Z
LAST-MODIFIED:20250320T144752Z
UID:10867-1747497600-1747512000@psalmfm.org
SUMMARY:Lighthouse Christian Academy Dinner and Musical Fundraiser
DESCRIPTION:You are invited to an unforgettable evening of dinner\, music\, and community! Lighthouse Christian Academy presents Rescue in the Night—a dinner & musical fundraiser on May 17 at Grace Bible Chapel in Grand Rapids. Tickets on sale now at Inspirations Book Store or by calling LCA at 218-910-1776.
URL:https://psalmfm.org/event/lighthouse-christian-academy-dinner-and-musical-fundraiser/
END:VEVENT
BEGIN:VEVENT
DTSTART;TZID=UTC:20250518T150000
DTEND;TZID=UTC:20250518T160000
DTSTAMP:20260424T153059
CREATED:20250507T172509Z
LAST-MODIFIED:20250507T172509Z
UID:11086-1747580400-1747584000@psalmfm.org
SUMMARY:Choir & Handbells Finale Concert- E Free Church Bemidji
DESCRIPTION:The public is invited to the Choir and Handbells Finale Concert at E-Free Church in Bemidji on Sunday\, May 18 at 3 PM. Enjoy a variety of music used during the past year. Refreshments served afterward. The Choir is directed by Ian Trosen\, with Laura Engelstad on piano and Taumi Wilson on flute. Handbells are led by Tracy Parthun and Engelstad.
URL:https://psalmfm.org/event/choir-handbells-finale-concert-e-free-church-bemidji/
END:VEVENT
BEGIN:VEVENT
DTSTART;TZID=UTC:20250519T120000
DTEND;TZID=UTC:20250519T180000
DTSTAMP:20260424T153059
CREATED:20250429T163613Z
LAST-MODIFIED:20250429T163613Z
UID:11038-1747656000-1747677600@psalmfm.org
SUMMARY:Bloodmobile- Grand Rapids
DESCRIPTION:Monday\, May 19\, 2025 \n12:00 pm – 6:00 pm \nGrand Rapids Essentia Clinic \n1542 Golf Course Road Suite 203\nParking Lot\nGrand Rapids\, MN 55744 \nPrimary Blood Drive Coordinator: \nAlesha Shadrick\nEmail: Alesha.Shadrick@EssentiaHealth.org\nPhone: 218-246-4518 \nFor more information go to www.mbcherohub.club
URL:https://psalmfm.org/event/bloodmobile-grand-rapids-31/
END:VEVENT
BEGIN:VEVENT
DTSTART;TZID=UTC:20250520T090000
DTEND;TZID=UTC:20250520T130000
DTSTAMP:20260424T153059
CREATED:20250429T163703Z
LAST-MODIFIED:20250429T163703Z
UID:11040-1747731600-1747746000@psalmfm.org
SUMMARY:Bloodmobile- Coleraine
DESCRIPTION:Tuesday\, May 20\, 2025 \n9:00 am – 1:00 pm \nGreenway High School\n308 Roosevelt Street\nColeraine\, MN 55722 \nPrimary Blood Drive Coordinator: \nMegan O’Toole\nEmail: motoole@isd316.org\nPhone: 218245-1287 ext. 26859 \nFor more information go to www.mbcherohub.club
URL:https://psalmfm.org/event/bloodmobile-coleraine-2/
END:VEVENT
BEGIN:VEVENT
DTSTART;TZID=UTC:20250522T183000
DTEND;TZID=UTC:20250522T203000
DTSTAMP:20260424T153059
CREATED:20240918T153914Z
LAST-MODIFIED:20250512T180141Z
UID:9908-1747938600-1747945800@psalmfm.org
SUMMARY:Men's Conversation Group
DESCRIPTION:Between September and May\, join the Men’s Conversation Group every other Thursday from 6:30 to 8:30pm at the Bass Brook Community Center (105 NW 5th Street\, Cohasset) attached to Cohasset Elementary School\, for community and conversation. This event is open to all men 13 years and older.  Snacks and beverages provided. \nMen’s Conversation Group is brought to you by West Cohasset Chapel\, located at 24650 Hwy 6 in Cohasset. Go to westcohassetchapel.com to find out what more they have to offer. \nSeptember 12 & 26 \nOctober 10 & 24 \nNovember 7 & 21 \nDecember 5 & 19 \nJanuary 2\, 16 & 30 \nFebruary 13 & 27 \nMarch 13 & 27 \nApril 10 & 24 \nMay 8 & 22
URL:https://psalmfm.org/event/mens-conversation-group-2/
END:VEVENT
BEGIN:VEVENT
DTSTART;TZID=UTC:20250523T100000
DTEND;TZID=UTC:20250523T140000
DTSTAMP:20260424T153059
CREATED:20250429T163923Z
LAST-MODIFIED:20250429T163923Z
UID:11046-1747994400-1748008800@psalmfm.org
SUMMARY:Bloodmobile- Aurora
DESCRIPTION:Friday\, May 23\, 2025 \n10:00 am – 2:00 pm \nMesabi East High School \n601 North First Street West\nAurora\, MN 55705 \nPrimary Blood Drive Coordinator \nShara Jarvela\nEmail: sjarvela@isd2711.org\nPhone: 218-229-3321 ext. 286 \nFor more information go to www.mbcherohub.club
URL:https://psalmfm.org/event/bloodmobile-aurora-9/
END:VEVENT
BEGIN:VEVENT
DTSTART;TZID=UTC:20250528T110000
DTEND;TZID=UTC:20250528T170000
DTSTAMP:20260424T153059
CREATED:20250429T143731Z
LAST-MODIFIED:20250521T150235Z
UID:11022-1748430000-1748451600@psalmfm.org
SUMMARY:Mani's Angel Mission Diaper Drive
DESCRIPTION:This May\, North Region Pregnancy Care Center is hosting a diaper drive\, sponsored by the family of Mani Starren\, who passed away in 2023 due to domestic violence. Join them in their mission to raise awareness and support local families by donating diapers\, wipes\, and baby essentials at their location at the Roseau Business Plaza. And\, if you or someone you love find yourself affected by domestic violence\, reach out to our partners at the Violence Intervention Project\, 1-218-681-5557 or 1-800-660-6667.They will be accepting donations for the entirety of May and look forward to helping families and individuals in need\, with your support.
URL:https://psalmfm.org/event/manis-angel-mission-diaper-drive/
END:VEVENT
BEGIN:VEVENT
DTSTART;TZID=UTC:20250528T130000
DTEND;TZID=UTC:20250528T140000
DTSTAMP:20260424T153059
CREATED:20241218T171929Z
LAST-MODIFIED:20250605T171016Z
UID:10447-1748437200-1748440800@psalmfm.org
SUMMARY:Connect Group @ Northern Options
DESCRIPTION:Wee Ones and Women Group meets weekly in the Group Room at Northern Options \n\nAll are Welcome\nEvery Wednesday 1-2\nPlaytime\nParenting Interactions\nSharing\, Caring\, Fun!\nBabies\, Toddlers\, Preschoolers\n\n\n\n\n\nNorthern Options is located at 923 5th Street in Int’l Falls \nFor more information call 218-285-7673
URL:https://psalmfm.org/event/wee-ones-and-women-group/
END:VEVENT
END:VCALENDAR