BEGIN:VCALENDAR
VERSION:2.0
PRODID:-//PsalmFM - ECPv6.15.20//NONSGML v1.0//EN
CALSCALE:GREGORIAN
METHOD:PUBLISH
X-ORIGINAL-URL:https://psalmfm.org
X-WR-CALDESC:Events for PsalmFM
REFRESH-INTERVAL;VALUE=DURATION:PT1H
X-Robots-Tag:noindex
X-PUBLISHED-TTL:PT1H
BEGIN:VTIMEZONE
TZID:UTC
BEGIN:STANDARD
TZOFFSETFROM:+0000
TZOFFSETTO:+0000
TZNAME:UTC
DTSTART:20250101T000000
END:STANDARD
END:VTIMEZONE
BEGIN:VEVENT
DTSTART;TZID=UTC:20260511T093000
DTEND;TZID=UTC:20260511T110000
DTSTAMP:20260424T002337
CREATED:20230303T182929Z
LAST-MODIFIED:20260413T174605Z
UID:7073-1778491800-1778497200@psalmfm.org
SUMMARY:Grandparents for Life
DESCRIPTION:Join Grandparents for Life at Restaurant 71 in Blackduck to talk about pro-life topics and pray for children and pro-life issues every second Monday of the month from 9:30-11. All ages and denominations are welcome.
URL:https://psalmfm.org/event/grandparents-for-life/
END:VEVENT
BEGIN:VEVENT
DTSTART;TZID=UTC:20260511T103000
DTEND;TZID=UTC:20260511T180000
DTSTAMP:20260424T002337
CREATED:20260423T165505Z
LAST-MODIFIED:20260423T170450Z
UID:12770-1778495400-1778522400@psalmfm.org
SUMMARY:Bloodmobile- Grand Rapids
DESCRIPTION:Monday\, May 11\, 2026\n10:30 am – 6:00 pm \nGrand Itasca Clinic and Hospital\n1601 Golf Course Road\nGrand Rapids\, MN 55744 \nPrimary Blood Drive Coordinator: Hannah Chesness\nEmail: hchesne1@Fairview.org\nPhone: 218-999-1016 \nContact the Blood Drive Coordinator or visit www.mbcherohub.club for more information and to register.
URL:https://psalmfm.org/event/bloodmobile-grand-rapids-59/
END:VEVENT
BEGIN:VEVENT
DTSTART;TZID=UTC:20260511T123000
DTEND;TZID=UTC:20260511T133000
DTSTAMP:20260424T002337
CREATED:20240404T173040Z
LAST-MODIFIED:20260414T141536Z
UID:9023-1778502600-1778506200@psalmfm.org
SUMMARY:Caregiver Support Group- Hibbing
DESCRIPTION:• Caregiver Support\nSecond Monday of each month\n12:30-1:30\nHibbing Christian Assembly\n2201 2nd Ave. W Hibbing\, MN 55746 \nFor questions or registration\,\ncall Danielle at\n218-999-9233\, ext. 282\ndanielle@eldercircle.org \nFor caregivers of any age who is caring for an ailing parent\, child\, spouse\, or other individuals of any age\, near or far. \nFaced with a variety of responsibilities\, many of which are unfamiliar or intimidating\, caregivers can easily become overwhelmed and alone. This group is a safe place to discuss issues\, concerns\, success stories and answer questions.
URL:https://psalmfm.org/event/caregiver-support-group-grand-rapids/
END:VEVENT
BEGIN:VEVENT
DTSTART;TZID=UTC:20260511T190000
DTEND;TZID=UTC:20260511T203000
DTSTAMP:20260424T002337
CREATED:20260414T152922Z
LAST-MODIFIED:20260414T152922Z
UID:12723-1778526000-1778531400@psalmfm.org
SUMMARY:Officer Gomez Community Event- Ifalls
DESCRIPTION:You are invited to a free community event on May 11th for an enlightening community presentation led by Officer Gomez on the pressing issues of social media dangers\, sextortion\, and substance abuse trends affecting our youth today. \nOfficer Gomez is a nationally recognized school resource officer and youth safety expert. \nThis free presentation is for ages 10 and up and will be at the Backus Community Center in International Falls on Monday\, May 11th starting at 7pm. \nLearn more about Officer Gomez by going to officergomez.com
URL:https://psalmfm.org/event/officer-gomez-community-event-ifalls/
END:VEVENT
BEGIN:VEVENT
DTSTART;TZID=UTC:20260512T100000
DTEND;TZID=UTC:20260512T160000
DTSTAMP:20260424T002337
CREATED:20260423T164027Z
LAST-MODIFIED:20260423T170526Z
UID:12759-1778580000-1778601600@psalmfm.org
SUMMARY:Bloodmobile- Grand Rapids
DESCRIPTION:Tuesday\, May 12\, 2026\n10:00 am – 4:00 pm \nGrand Rapids Essentia Clinic\n1542 Golf Course Road\nParking Lot\nGrand Rapids\, MN 55744 \nPrimary Blood Drive Coordinator: Karrin Krall\nEmail: karrin.krall@essentiahealth.org\nPhone: 218-246-4518 \nContact the Blood Drive Coordinator or visit www.mbcherohub.club for more information and to register.
URL:https://psalmfm.org/event/blood-drive-grand-rapids/
END:VEVENT
BEGIN:VEVENT
DTSTART;TZID=UTC:20260512T163000
DTEND;TZID=UTC:20260512T173000
DTSTAMP:20260424T002337
CREATED:20240711T151517Z
LAST-MODIFIED:20260416T154440Z
UID:9545-1778603400-1778607000@psalmfm.org
SUMMARY:Baudette Monthly Grief Support Group
DESCRIPTION:Monthly Grief Support Group meets the 2nd Tuesday of each month from 4:30-5:30 at the New Moon Coffeehouse and Eatery in Baudette.
URL:https://psalmfm.org/event/baudette-monthly-grief-support-group/
END:VEVENT
BEGIN:VEVENT
DTSTART;TZID=UTC:20260513T090000
DTEND;TZID=UTC:20260513T130000
DTSTAMP:20260424T002337
CREATED:20260423T163435Z
LAST-MODIFIED:20260423T170649Z
UID:12755-1778662800-1778677200@psalmfm.org
SUMMARY:Bloodmobile- Cohasset
DESCRIPTION:Wednesday\, May 13\, 2026\n9:00 am – 1:00 pm\nBoswell Energy Center\n1210 NW 3rd St\nCohasset\, MN 55721 \nPrimary Blood Drive Coordinator: Melissa Adams\nEmail: madams@mnpower.com\nPhone: 218-313-4276 \nContact the Blood Drive Coordinator or visit www.mbcherohub.club for more information and to register.
URL:https://psalmfm.org/event/bloodmobile-cohasset-9/
END:VEVENT
BEGIN:VEVENT
DTSTART;TZID=UTC:20260513T140000
DTEND;TZID=UTC:20260513T150000
DTSTAMP:20260424T002337
CREATED:20240403T154224Z
LAST-MODIFIED:20260423T151658Z
UID:9005-1778680800-1778684400@psalmfm.org
SUMMARY:Vision Support Group
DESCRIPTION:The Vision Support Group is a relaxed and welcoming support group for individuals experiencing vison loss. Share experiences\, find encouragement\, and connect with others. Family members and friends are invited to participate. \nThe group meets at 2pm the 4th Wednesday of every month at the Colony Square Condominiums\, located at 1850 2nd Ave SE in Grand Rapids. For any questions\, please contact: Sue at 218-428-5723\, or Nancy at 218-259-5639.
URL:https://psalmfm.org/event/vision-support-group/
END:VEVENT
BEGIN:VEVENT
DTSTART;TZID=UTC:20260514T100000
DTEND;TZID=UTC:20260514T110000
DTSTAMP:20260424T002337
CREATED:20260122T183353Z
LAST-MODIFIED:20260410T155752Z
UID:12395-1778752800-1778756400@psalmfm.org
SUMMARY:Pop-Up Pantry- Ball Club
DESCRIPTION:There will be a mobile pop-up pantry at the Ball Club Center on the 2nd Thursday of Each Month at 10am. The Ball Club Center in located at 30995 Arctic Rd. \nSecond Harvest Northland’s Mobile Food Pantry Program provides a monthly supply of supplemental nutritious food to those who meet the income qualifications or are in crisis. They offer a safe and convenient drive-through service at all of the Mobile Food Pantry Program locations. For more information go to secondharvestnorthland.org.
URL:https://psalmfm.org/event/pop-up-pantry-ball-club/
END:VEVENT
BEGIN:VEVENT
DTSTART;TZID=UTC:20260514T123000
DTEND;TZID=UTC:20260514T133000
DTSTAMP:20260424T002337
CREATED:20240404T173622Z
LAST-MODIFIED:20260410T160614Z
UID:9029-1778761800-1778765400@psalmfm.org
SUMMARY:Caregiver Support Group- Hibbing
DESCRIPTION:• Caregiver Support\nSecond Thursday of each month\n12:30-1:30pm\nPizza Ranch\n2502 E Beltline\, Hibbing MN 55746 \nFor questions or registration\, call Danielle at 218-999-9233\, ext. 282 or email at danielle@eldercircle.org \nFor caregivers of any age who is caring for an ailing parent\, child\, spouse\, or other individuals of any age\, near or far. \nFaced with a variety of responsibilities\, many of which are unfamiliar or intimidating\, caregivers can easily become overwhelmed and alone.  This group is a safe place to discuss issues\, concerns\, success stories and answer questions.
URL:https://psalmfm.org/event/caregiver-support-group-hibbing/
END:VEVENT
BEGIN:VEVENT
DTSTART;TZID=UTC:20260514T130000
DTEND;TZID=UTC:20260514T140000
DTSTAMP:20260424T002337
CREATED:20240404T173239Z
LAST-MODIFIED:20260410T160636Z
UID:9026-1778763600-1778767200@psalmfm.org
SUMMARY:Memory Support Group- Grand Rapids
DESCRIPTION:• Memory Support\nSecond Thursday of each month\n1:00-2:00pm\nMajestic Pines Senior Living\, Private\nDining Room\, 1614 Golf Course Rd \nFor questions or registration\, call Danielle at 218-999-9233\, ext. 282  or email at danielle@eldercircle.org \nFor caregivers of any age who is caring for an ailing parent\, child\, spouse\, or other individuals of any age\, near or far. \nFaced with a variety of responsibilities\, many of which are unfamiliar or intimidating\, caregivers can easily become overwhelmed and alone.  This group is a safe place to discuss issues\, concerns\, success stories and answer questions.
URL:https://psalmfm.org/event/memory-support-group-grand-rapids/
END:VEVENT
BEGIN:VEVENT
DTSTART;TZID=UTC:20260518T120000
DTEND;TZID=UTC:20260518T160000
DTSTAMP:20260424T002337
CREATED:20260423T172404Z
LAST-MODIFIED:20260423T172404Z
UID:12789-1779105600-1779120000@psalmfm.org
SUMMARY:Bloodmobile- Iron
DESCRIPTION:Monday\, May 18\, 2026\n12:00 pm – 4:00 pm \nCherry School\n3943 Tamminen Road\nIron\, MN 55751 \nPrimary Blood Drive Coordinator: Chelsea Anderson\nEmail: ceanderson@isd2142.k12.mn.us\nPhone: 218-258-8991 \nContact the Blood Drive Coordinator or visit www.mbcherohub.club for more information and to register.
URL:https://psalmfm.org/event/bloodmobile-iron-5/
END:VEVENT
BEGIN:VEVENT
DTSTART;TZID=UTC:20260519T090000
DTEND;TZID=UTC:20260519T150000
DTSTAMP:20260424T002337
CREATED:20260423T165742Z
LAST-MODIFIED:20260423T170111Z
UID:12774-1779181200-1779202800@psalmfm.org
SUMMARY:Bloodmobile- Grand Rapids
DESCRIPTION:Tuesday\, May 19\, 2026\n09:00 am – 3:00 pm \nTerex\n840 Lily Ln\nGrand Rapids\, MN 55744 \nPrimary Blood Drive Coordinator: Aiyana Oman\nEmail: aiyana_oman@yanmar.com\nPhone: 218-322-4171 \nContact the Blood Drive Coordinator or visit www.mbcherohub.club for more information and to register.
URL:https://psalmfm.org/event/bloodmobile-grand-rapids-61/
END:VEVENT
BEGIN:VEVENT
DTSTART;TZID=UTC:20260520T120000
DTEND;TZID=UTC:20260520T130000
DTSTAMP:20260424T002337
CREATED:20240307T172202Z
LAST-MODIFIED:20260416T154925Z
UID:8776-1779278400-1779282000@psalmfm.org
SUMMARY:Pop-Up Pantry- Marble
DESCRIPTION:There will be a mobile pop-up pantry at the Marble City Garage (Ball Park) on the 3rd Wednesday of Each Month from 12-12:45. \nThe Mobile Food Pantry Program provides a monthly supply of supplemental nutritious food to those who meet the income qualifications or are in crisis. They offer a safe and convenient drive-through service at all of the Mobile Food Pantry Program locations. For more information go to secondharvestnorthland.org.
URL:https://psalmfm.org/event/pop-up-pantry-marble/
END:VEVENT
BEGIN:VEVENT
DTSTART;TZID=UTC:20260521T090000
DTEND;TZID=UTC:20260521T100000
DTSTAMP:20260424T002337
CREATED:20250128T161604Z
LAST-MODIFIED:20260416T155214Z
UID:10607-1779354000-1779357600@psalmfm.org
SUMMARY:Coffee\, Conversation and Cinnamon Rolls @ Good Sam
DESCRIPTION:Join the Good Samaritan Society in Int’l Falls for coffee\, conversation and cinnamon rolls every third Thursday of the month from 9-10am.\nFor more information\, call (218) 598-9289.
URL:https://psalmfm.org/event/coffee-conversation-and-cinnamon-rolls-good-sam/
END:VEVENT
BEGIN:VEVENT
DTSTART;TZID=UTC:20260521T103000
DTEND;TZID=UTC:20260521T140000
DTSTAMP:20260424T002337
CREATED:20240307T172725Z
LAST-MODIFIED:20260417T190359Z
UID:8778-1779359400-1779372000@psalmfm.org
SUMMARY:Pop-Up Pantries- Big Falls and Birchdale
DESCRIPTION:Mobile Pop-Up Pantries on the 3rd Thursday of each month \n-Front of the Big Falls City Garage at 1:00pm \n-Birchdale Area Community Building at 10:30 am \nThe Mobile Food Pantry Program provides a monthly supply of supplemental nutritious food to those who meet the income qualifications or are in crisis. They offer a safe and convenient drive-through service at all of the Mobile Food Pantry Program locations. For more information go to secondharvestnorthland.org.
URL:https://psalmfm.org/event/pop-up-pantries-big-falls-and-birchdale/
END:VEVENT
BEGIN:VEVENT
DTSTART;TZID=UTC:20260521T140000
DTEND;TZID=UTC:20260521T150000
DTSTAMP:20260424T002337
CREATED:20220727T163514Z
LAST-MODIFIED:20260417T190606Z
UID:6022-1779372000-1779375600@psalmfm.org
SUMMARY:Cancer Support Group
DESCRIPTION:A Cancer Support Group led by Grand Itasca’s Shannon Petroske\, Oncology NP meets every 3rd Thursday of the month at the Grand Itasca Clinic and Hospital- Grand Maple Conference Room from 2-3. For more information call Kelly Campbell at 218-999-1440.
URL:https://psalmfm.org/event/cancer-support-group/
END:VEVENT
BEGIN:VEVENT
DTSTART;TZID=UTC:20260526T090000
DTEND;TZID=UTC:20260526T150000
DTSTAMP:20260424T002337
CREATED:20260423T173238Z
LAST-MODIFIED:20260423T173238Z
UID:12791-1779786000-1779807600@psalmfm.org
SUMMARY:Bloodmobile- Virginia
DESCRIPTION:Tuesday\, May 26\, 2026\n09:00 am – 3:00 pm\n\nAspirus St. Luke’s Mountain Iron Clinic\n8373 Unity Drive\nVirginia\, MN 55792\n\nPrimary Blood Drive Coordinator: Brianne Olson\nEmail: brianne.olson@aspirus.org\nPhone: 218-748-7411\nContact the Blood Drive Coordinator or visit www.mbcherohub.club for more information and to register.
URL:https://psalmfm.org/event/bloodmobile-virginia-14/
END:VEVENT
BEGIN:VEVENT
DTSTART;TZID=UTC:20260526T100000
DTEND;TZID=UTC:20260526T140000
DTSTAMP:20260424T002337
CREATED:20260423T173548Z
LAST-MODIFIED:20260423T173958Z
UID:12795-1779789600-1779804000@psalmfm.org
SUMMARY:Bloodmobile- Tower
DESCRIPTION:Tuesday\, May 26\, 2026\n10:00 am – 2:00 pm \nFortune Bay Casino\n1430 Bois Forte Road\nTower\, MN 55790 \nPrimary Blood Drive Coordinator: Alex Sheehy\nEmail: alexsheehy@fortunebay.com\nPhone: 218-753-7832 \nContact the Blood Drive Coordinator or visit www.mbcherohub.club for more information and to register.
URL:https://psalmfm.org/event/bloodmobile-tower-4/
END:VEVENT
BEGIN:VEVENT
DTSTART;TZID=UTC:20260527T110000
DTEND;TZID=UTC:20260527T163000
DTSTAMP:20260424T002337
CREATED:20260423T163635Z
LAST-MODIFIED:20260423T170619Z
UID:12757-1779879600-1779899400@psalmfm.org
SUMMARY:Bloodmobile- Grand Rapids
DESCRIPTION:Wednesday\, May 27\, 2026\n11:00 am – 4:30 pm \nEvangelical Free Church\nCommunity Room\n34384 County Road 63\nGrand Rapids\, MN 55744 \nPrimary Blood Drive Coordinator: Bonnie Kangas\nEmail: kangashs@paulbunyan.net\nPhone: 218-326-8180 \nContact the Blood Drive Coordinator or visit www.mbcherohub.club for more information and to register.
URL:https://psalmfm.org/event/bloodmobile-grand-rapids-58/
END:VEVENT
BEGIN:VEVENT
DTSTART;TZID=UTC:20260528T123000
DTEND;TZID=UTC:20260528T160000
DTSTAMP:20260424T002337
CREATED:20260423T173723Z
LAST-MODIFIED:20260423T173723Z
UID:12798-1779971400-1779984000@psalmfm.org
SUMMARY:Bloodmobile- Bigfork
DESCRIPTION:Thursday\, May 28\, 2026\n12:30 pm – 4:00 pm \nBigfork Valley Hospital\n258 Pine Tree Drive\nBigfork\, MN 56628 \nPrimary Blood Drive Coordinator: Kyle Buckingham\nEmail: KBuckingham@bigforkvalley.org\nPhone: 218-743-4147 \nContact the Blood Drive Coordinator or visit www.mbcherohub.club for more information and to register.
URL:https://psalmfm.org/event/bloodmobile-bigfork-8/
END:VEVENT
BEGIN:VEVENT
DTSTART;TZID=UTC:20260529T080000
DTEND;TZID=UTC:20260529T150000
DTSTAMP:20260424T002337
CREATED:20260423T163247Z
LAST-MODIFIED:20260423T170800Z
UID:12753-1780041600-1780066800@psalmfm.org
SUMMARY:Bloodmobile- Bemidji
DESCRIPTION:Friday\, May 29\, 2026 \n8:00 am – 3:00 pm \nCalvary Lutheran Church \n2508 Washington Avenue SE \nBemidji\, MN 56601 \n\nPrimary Blood Drive Coordinator: Garrett Fultz\nEmail: gfultz@calvarybemidji.org\nPhone: 218-751-1893 \nContact the Blood Drive Coordinator or visit www.mbcherohub.club for more information and to register.
URL:https://psalmfm.org/event/bloodmobile-bemidji-16/
END:VEVENT
BEGIN:VEVENT
DTSTART;VALUE=DATE:20260618
DTEND;VALUE=DATE:20260621
DTSTAMP:20260424T002337
CREATED:20260402T154020Z
LAST-MODIFIED:20260402T154307Z
UID:12690-1781740800-1781999999@psalmfm.org
SUMMARY:Women's Breakaway (Bemidji)
DESCRIPTION:Women’s Breakaway at Oak Hills Christian College in Bemidji is a women’s retreat that will renew your mind\, restore your soul\, and create new memories. \nThe theme is “Hope in the Hard”\, Romans 15:13 \nGet details and register at https://www.oakhills.edu/church-ministries/conferences \n  \nhttps://www.oakhills.edu/church-ministries/conferences
URL:https://psalmfm.org/event/womens-breakaway-bemidji/
LOCATION:Oak Hills Christian College\, 1600 Oak Hills Road SW\, Bemidji\, MN\, 56601\, United States
END:VEVENT
BEGIN:VEVENT
DTSTART;TZID=UTC:20260627T140000
DTEND;TZID=UTC:20260627T200000
DTSTAMP:20260424T002337
CREATED:20260217T165757Z
LAST-MODIFIED:20260217T165806Z
UID:12484-1782568800-1782590400@psalmfm.org
SUMMARY:Bridge City Music Festival (Virginia)
DESCRIPTION:National and local music acts as well as comedy. Event is free but a free will offering will be taken to defray costs.\nScheduled to appear (exact times TBD)Old Man Down 2-230pmYADAH 245-315pmXena Alexandria 330-4pmBelle Modeen 415-445pmTru Serva 5-530pmTestimony 530-540pmPresence Music 6 – 630pmJoel Vaughn 645pm – close\n\nConcessions:The Other Guys BurgersLegacy Church Youth (candy\, pop\, etc.)\n\nBig thank you to our promoters and sponsors:Legacy ChurchPsalmFMGood Shepherd Lutheran Church
URL:https://psalmfm.org/event/bridge-city-music-festival-virginia/
LOCATION:Legacy Church\, 5467 Mountain Iron Dr\, Virginia\, MN\, 55792-3302
END:VEVENT
BEGIN:VEVENT
DTSTART;TZID=UTC:20260713T090000
DTEND;TZID=UTC:20260716T140000
DTSTAMP:20260424T002337
CREATED:20260304T181052Z
LAST-MODIFIED:20260304T182017Z
UID:12544-1783933200-1784210400@psalmfm.org
SUMMARY:One Hope Canada's- Northern Lights Day Camps
DESCRIPTION:A ministry of One Hope Canada is offering their Northern Lights Day Camps in Emo and Fort Frances this July. You can register by going to their Facebook page\, One Hope Canada- Rainy River District Ministries\, by emailing masts@bell.net or by calling 807-852-3202. Registrations due June 5th. \n\n\nEmo\, ON – July 13-16 (Christian Reformed Church)\nFort Frances\, ON – July 20-23 (Evangelical Fellowship Church)\n\n\n\n***They will also have programs in these places without a need to register:\n\n\n\nBaudette\, MN – June 1-4 (Lakeroad Chapel)\nWitch Lake\, MI – June 22-25 (First Baptist Church of Witch Lake)\nMorson\, ON – July 8-11 (Morson Community Bible Fellowship) \n 
URL:https://psalmfm.org/event/one-hope-canadas-northern-lights-day-camps/
END:VEVENT
END:VCALENDAR