BEGIN:VCALENDAR
VERSION:2.0
PRODID:-//PsalmFM - ECPv6.15.20//NONSGML v1.0//EN
CALSCALE:GREGORIAN
METHOD:PUBLISH
X-ORIGINAL-URL:https://psalmfm.org
X-WR-CALDESC:Events for PsalmFM
REFRESH-INTERVAL;VALUE=DURATION:PT1H
X-Robots-Tag:noindex
X-PUBLISHED-TTL:PT1H
BEGIN:VTIMEZONE
TZID:UTC
BEGIN:STANDARD
TZOFFSETFROM:+0000
TZOFFSETTO:+0000
TZNAME:UTC
DTSTART:20230101T000000
END:STANDARD
END:VTIMEZONE
BEGIN:VEVENT
DTSTART;TZID=UTC:20241110T130000
DTEND;TZID=UTC:20241110T160000
DTSTAMP:20260425T105918
CREATED:20241014T183728Z
LAST-MODIFIED:20241014T183728Z
UID:10049-1731243600-1731254400@psalmfm.org
SUMMARY:Harvest Moon Greenhouse Winter Gnome Tree\, Kissing Balls and Porch Pots Workshops
DESCRIPTION:Harvest Moon Greenhouse invites you to make your own Winter Gnome Trees\, Winter Hanging Baskets\, Kissing Balls and Winter Porch Pots every Sunday – Funday from 1:00- 4:00 in the month of November. Starting with November 10th. There will be tables setup for each of them every weekend\, so if you want to do one or all of them\, the option is yours.They will continue in December with an indoor living Grinch Tree and Fresh Greenery Christmas Centerpieces\, those will be held the first\, second and third Sunday in December from 1:00- 4:00\nPrices: $35.00 each and it includes all of the razzle-dazzles you will need to make it your own!\nPlease R.S.V.P Bobbie at 507-456-7611\nHarvest Moon is located at 12337 Town Rd 425 in Northome.
URL:https://psalmfm.org/event/harvest-moon-greenhouse-winter-gnome-tree-kissing-balls-and-porch-pots-workshops/
END:VEVENT
BEGIN:VEVENT
DTSTART;TZID=UTC:20241110T150000
DTEND;TZID=UTC:20241110T170000
DTSTAMP:20260425T105918
CREATED:20241021T194934Z
LAST-MODIFIED:20241021T194934Z
UID:10138-1731250800-1731258000@psalmfm.org
SUMMARY:Bemidji Chorale and Festival Orchestra
DESCRIPTION:The Bemidji Chorale and Festival Orchestra will present Franz Schubert’s\, “Mass in G” and Mack Wilberg’s\, “American Folk Songs”\, Sunday\, Nov. 10\, at 3pm. The concert will be held in Thompson Recital Hall\, (BSU campus). There will also be a pie auction and reception. Admission is free and open to the public. A treat for body\, mind and spirit!
URL:https://psalmfm.org/event/bemidji-chorale-and-festival-orchestra/
END:VEVENT
BEGIN:VEVENT
DTSTART;TZID=UTC:20241111T080000
DTEND;TZID=UTC:20241111T103000
DTSTAMP:20260425T105918
CREATED:20241104T192547Z
LAST-MODIFIED:20241107T193202Z
UID:10204-1731312000-1731321000@psalmfm.org
SUMMARY:Elks Veterans Breakfast
DESCRIPTION:Monday\, November 11th from 8-10:30 the Elks Club in Int’l Falls will be having an Elks Veterans Breakfast. Veterans eat for free\, all others are $10. French Toast\, sausage\, scrambled eggs\, coffee and juice. Proceeds go to local veterans’ programs.
URL:https://psalmfm.org/event/elks-veterans-breakfast/
END:VEVENT
BEGIN:VEVENT
DTSTART;TZID=UTC:20241111T080000
DTEND;TZID=UTC:20241111T170000
DTSTAMP:20260425T105918
CREATED:20241107T193505Z
LAST-MODIFIED:20241107T193505Z
UID:10210-1731312000-1731344400@psalmfm.org
SUMMARY:Free Lotzza Motzza Pizza for Veterans
DESCRIPTION:Super one Foods and Brew Pub Pizza have come together to offer all Veterans a free 12-inch Brew Pub Pizza on Monday\, November 11th. Veterans can show their military ID at check out on Veterans Day at any Super One Foods location to claim this offer. Thank you for your service!
URL:https://psalmfm.org/event/free-lotzza-motzza-pizza-for-veterans/
END:VEVENT
BEGIN:VEVENT
DTSTART;TZID=UTC:20241115T153000
DTEND;TZID=UTC:20241115T173000
DTSTAMP:20260425T105918
CREATED:20241023T142645Z
LAST-MODIFIED:20241023T142645Z
UID:10140-1731684600-1731691800@psalmfm.org
SUMMARY:Operation Christmas Child Packing Party- Northome
DESCRIPTION:Everyone is welcome to come help Bible Buddies pack shoe boxes for Samaritan’s Purse and Operation Christmas Child at the Northome Community Church on Friday\, November 15th from 3:30-5:30. You’ll have a snack\, watch a short video\, get some instructions and head off with your partner to begin packing. They have lots of donations so far but can always use more. You can call Kathy at 218-556-8640 with questions\, or donations. They are also collecting $$ to ship the boxes.
URL:https://psalmfm.org/event/operation-christmas-child-packing-party-northome/
END:VEVENT
BEGIN:VEVENT
DTSTART;TZID=UTC:20241115T190000
DTEND;TZID=UTC:20241115T203000
DTSTAMP:20260425T105918
CREATED:20241111T191641Z
LAST-MODIFIED:20241111T191641Z
UID:10225-1731697200-1731702600@psalmfm.org
SUMMARY:Range of Voices- Fireside Stories
DESCRIPTION:Please come out and support this community event! You will enjoy story and poetry through song\, plus refreshments after the concert! \nFriday\, November 15th 7pm \nChisholm Baptist Church \n& \nSunday\, November 17th 2pm \nGethsemane Lutheran Church in Virginia \nAdmission: $5 adults\, children 6 and under\, free.
URL:https://psalmfm.org/event/range-of-voices-fireside-stories/
END:VEVENT
BEGIN:VEVENT
DTSTART;TZID=UTC:20241116T090000
DTEND;TZID=UTC:20241116T140000
DTSTAMP:20260425T105918
CREATED:20241029T170234Z
LAST-MODIFIED:20241029T170234Z
UID:10188-1731747600-1731765600@psalmfm.org
SUMMARY:Big Falls Holiday Craft Sale
DESCRIPTION:Saturday\, November 16th from 9-2 at the Big Falls Community Building. \nHuge variety of crafts\, baked goods and more. \nPlease call Marie at 218-410-6607 to register for a table
URL:https://psalmfm.org/event/big-falls-holiday-craft-sale/
END:VEVENT
BEGIN:VEVENT
DTSTART;TZID=UTC:20241116T173000
DTEND;TZID=UTC:20241116T200000
DTSTAMP:20260425T105918
CREATED:20241111T191204Z
LAST-MODIFIED:20241111T191204Z
UID:10223-1731778200-1731787200@psalmfm.org
SUMMARY:United States Marine Corps 249th Birthday- Chisholm
DESCRIPTION:249th USMC Birthday \nNovember 16th \nValentini’s in Chisholm \n1730 Social Hour \n1830 Dinner \nwith Program to follow \nRSVP is required \n218-969-7137 or email magnussonc@yahoo.com
URL:https://psalmfm.org/event/united-states-marine-corps-249th-birthday-chisholm/
END:VEVENT
BEGIN:VEVENT
DTSTART;TZID=UTC:20241118T080000
DTEND;TZID=UTC:20241118T170000
DTSTAMP:20260425T105918
CREATED:20240716T170526Z
LAST-MODIFIED:20241118T165120Z
UID:9579-1731916800-1731949200@psalmfm.org
SUMMARY:Voice Lessons at Backus
DESCRIPTION:Voice Lessons with Elsa Swanson at the Backus Community Center. $15/half hour \nContact Backus at events@backusab.org or 218-285-7225 to set up a lesson.
URL:https://psalmfm.org/event/voice-lessons-at-backus/
END:VEVENT
BEGIN:VEVENT
DTSTART;TZID=UTC:20241118T080000
DTEND;TZID=UTC:20241122T170000
DTSTAMP:20260425T105918
CREATED:20241111T192904Z
LAST-MODIFIED:20241111T192904Z
UID:10229-1731916800-1732294800@psalmfm.org
SUMMARY:Senior Food Distribution Event- Eveleth
DESCRIPTION:Senior Food Distribution Event from November 18-22\n\nThis event is open to those aged 60 and older\, providing 400 boxes of shelf-stable food.\n\n\n Details:\n Location: Lundgren Motors\, 900 Old Hwy 53\, Eveleth\, MN 55734\n Time: 8 AM – 5 PM daily November 18-22\n Enjoy coffee\, cookies\, and popcorn while you’re there!
URL:https://psalmfm.org/event/senior-food-distribution-event-eveleth/
END:VEVENT
BEGIN:VEVENT
DTSTART;TZID=UTC:20241119T160000
DTEND;TZID=UTC:20241119T173000
DTSTAMP:20260425T105918
CREATED:20241111T200514Z
LAST-MODIFIED:20241111T200514Z
UID:10241-1732032000-1732037400@psalmfm.org
SUMMARY:Taco in a Bag Tuesday Fundraiser- Backus Community Center
DESCRIPTION:November 19th \nLimited quantities available\, pick up between 4-5:30 \nBeef taco in a bag\, papas ala Mexicana and fresh black bean salsa \n$12 per meal \nPlease call the Backus office at 218-285-7225 to request a meal by November 17th
URL:https://psalmfm.org/event/taco-in-a-bag-tuesday-fundraiser-backus-community-center/
END:VEVENT
BEGIN:VEVENT
DTSTART;TZID=UTC:20241121T120000
DTEND;TZID=UTC:20241121T180000
DTSTAMP:20260425T105918
CREATED:20241119T173246Z
LAST-MODIFIED:20241119T173246Z
UID:10269-1732190400-1732212000@psalmfm.org
SUMMARY:Bloodmobile- Deer River
DESCRIPTION:Thursday\, November 21 from 12:00 pm – 06:00 pm \nEssentia Clinic-Deer River \n115 10th Avenue NE\nBloodmobile\nDeer River\, MN 56636 \nPrimary Blood Drive Coordinator: \nAlesha Shadrick\nEmail: Alesha.Shadrick@EssentiaHealth.org\nPhone: 218-246-4518
URL:https://psalmfm.org/event/bloodmobile-deer-river-2/
END:VEVENT
BEGIN:VEVENT
DTSTART;TZID=UTC:20241122T090000
DTEND;TZID=UTC:20241122T130000
DTSTAMP:20260425T105918
CREATED:20241113T185433Z
LAST-MODIFIED:20241113T185433Z
UID:10256-1732266000-1732280400@psalmfm.org
SUMMARY:Defensive Driving Refresher Course- Grand Rapids
DESCRIPTION:Itasca County Courthouse Board Room \nFriday\, November 22\, 2024 \n9:00am-1:00pm \n$20 per person \nPre-Registration Required \nCall or text Andrea Beckman \n218-591-9640 \nabeckman218@gmail.com
URL:https://psalmfm.org/event/defensive-driving-refresher-course-grand-rapids/
END:VEVENT
BEGIN:VEVENT
DTSTART;TZID=UTC:20241122T090000
DTEND;TZID=UTC:20241122T130000
DTSTAMP:20260425T105918
CREATED:20241119T173403Z
LAST-MODIFIED:20241119T173403Z
UID:10273-1732266000-1732280400@psalmfm.org
SUMMARY:Bloodmobile- Nashwauk
DESCRIPTION:Friday\, November 22 from 9:00 am – 1:00 pm \nNashwauk Keewatin High School \n400 2nd ST\nBloodmobile\nNashwauk\, MN 55769 \nPrimary Blood Drive Coordinator: \nCarly Anderson\nEmail: canderson@isd319.org\nPhone: 218-885-1280
URL:https://psalmfm.org/event/bloodmobile-nashwauk/
END:VEVENT
BEGIN:VEVENT
DTSTART;TZID=UTC:20241122T130000
DTEND;TZID=UTC:20241122T150000
DTSTAMP:20260425T105918
CREATED:20240819T170300Z
LAST-MODIFIED:20241104T190502Z
UID:9771-1732280400-1732287600@psalmfm.org
SUMMARY:ElderCircle's Parkinson's Community Education Event
DESCRIPTION:November 22nd\n1:00pm-3:00pm\nALC Classroom at the YMCA Campus 400 River Road in Grand Rapids. \nIf you or someone you know\nlives with Parkinson’s Disease\,\nplease join our Support Group.\n• Free resources for\nfamilies and individuals\ncaring for a loved one of any\nage with Parkinson’s\nDisease\n• Share success stories\, and\ndiscuss challenges and\nconcerns associated with\nParkinson’s Disease.\n• Open to the Public\n• No cost!\n• Refreshments Served\n• Registration Required\nPlease contact Danielle\nto learn more!\n218-999-9233 ext.282\nor email danielle@eldercircle.org
URL:https://psalmfm.org/event/eldercircles-parkinsons-community-education-event/
END:VEVENT
BEGIN:VEVENT
DTSTART;TZID=UTC:20241122T163000
DTEND;TZID=UTC:20241122T193000
DTSTAMP:20260425T105918
CREATED:20241111T185749Z
LAST-MODIFIED:20241111T185749Z
UID:10221-1732293000-1732303800@psalmfm.org
SUMMARY:Christmas Toy Drive & Cakewalk -Hibbing
DESCRIPTION:Christmas Toy Drive and Cake Walk \nNovember 22d from 4:30-7:30 at the Hibbing Memorial Building Dining Room \nAdmission- 2 and under free; children 2-12 $3; 13+ $5 \nPasta bar dinner\, coffee\, hot chocolate and coffee cake provided \nLow-income families may sign up to receive Christmas gifts. \n40% proceeds go to Girl Scout Troop 60% proceeds go to purchase toys \nMake your own Christmas ornament\, Thanksgiving coloring contest\, face painting\, cupcakes and more.
URL:https://psalmfm.org/event/christmas-toy-drive-cakewalk-hibbing/
END:VEVENT
BEGIN:VEVENT
DTSTART;TZID=UTC:20241122T180000
DTEND;TZID=UTC:20241122T210000
DTSTAMP:20260425T105918
CREATED:20241107T193826Z
LAST-MODIFIED:20241107T193826Z
UID:10212-1732298400-1732309200@psalmfm.org
SUMMARY:Laser Tag Party @ First Baptist Church in Int'l Falls
DESCRIPTION:Friday\, November 22nd from 6-9 for grades 6-12 \nSaturday\, November 23rd from 11-2 for grades 1-5 \nEvent is packed with pizza\, games\, laser tag and more! \nFirst Baptist is located at 1631 1st Ave \nRegister Online at firstbaptistchurchifalls.org
URL:https://psalmfm.org/event/laser-tag-party-first-baptist-church-in-intl-falls/
END:VEVENT
BEGIN:VEVENT
DTSTART;TZID=UTC:20241123T100000
DTEND;TZID=UTC:20241123T150000
DTSTAMP:20260425T105918
CREATED:20241014T194708Z
LAST-MODIFIED:20241014T194708Z
UID:10072-1732356000-1732374000@psalmfm.org
SUMMARY:Littlefork Annual Craft Sale
DESCRIPTION:Littlefork Annual Craft Fair is coming soon!\n Saturday\, November 23rd\n 10am-3pm\nLittlefork-Big Falls School | Old Gym\n\n\n\nIf you would like to be a vendor or host lunch\, please reach out to Tiffany/CERC Director at cerc@littleforkmn.gov or 218-278-4422.\n\n\n\nIf you were a previous vendor\, your registration form is being mailed\, but this does not mean you’re automatically in. All registration forms need to be filled out\, turned in and paid to secure your vendor spot.
URL:https://psalmfm.org/event/littlefork-annual-craft-sale/
END:VEVENT
BEGIN:VEVENT
DTSTART;TZID=UTC:20241123T170000
DTEND;TZID=UTC:20241123T183000
DTSTAMP:20260425T105918
CREATED:20241029T170731Z
LAST-MODIFIED:20241029T170731Z
UID:10190-1732381200-1732386600@psalmfm.org
SUMMARY:Community Harvest Dinner- Goodland
DESCRIPTION:You are invited to a free Community Harvest Dinner on Saturday\, November 23rd from 5-6:30 at the Goodland Community Center.\n\nBring your family and friends and come and join our community as we show the power of gratitude for God and our local region.\nIf you want to bring a side dish to share and donate that is always welcomed. However\, is not mandatory. If you do bring a side dish let it be your favorite Thanksgiving side dish.\n\nThe Community Church – Goodland & Pengilly are the sponsors of this regional event. They will be providing Turkey’s and the trimmings.\nThe Community Church is a ministry that works to connect with the communities of – Goodland\, Warba\, Jacobson\, Mcegrgor\, Wawina\, Silica\, Pengilly\, Nashwauk\, Keewatin\, Taconite\, Coleraine and the surrounding areas.\nThe Community Church has two services – Goodland Sundays at 10am & Pengilly Sundays at 4pm.
URL:https://psalmfm.org/event/community-harvest-dinner-goodland/
END:VEVENT
BEGIN:VEVENT
DTSTART;TZID=UTC:20241125T080000
DTEND;TZID=UTC:20241201T170000
DTSTAMP:20260425T105918
CREATED:20241104T190918Z
LAST-MODIFIED:20241125T163256Z
UID:10202-1732521600-1733072400@psalmfm.org
SUMMARY:Free Winter Coats at Kootasca County Social Services
DESCRIPTION:Free Winter Coats have arrived at Koochiching County Social Services. Sizes 4T-Adult XXL. If you are in need of a jacket\, please stop by their office located at 1000 5th street in Int’l Falls.
URL:https://psalmfm.org/event/free-winter-coats-at-kootasca-county-social-services/
END:VEVENT
BEGIN:VEVENT
DTSTART;TZID=UTC:20241125T090000
DTEND;TZID=UTC:20241125T153000
DTSTAMP:20260425T105918
CREATED:20241119T173448Z
LAST-MODIFIED:20241119T173448Z
UID:10275-1732525200-1732548600@psalmfm.org
SUMMARY:Bloodmobile- Aurora
DESCRIPTION:Monday\, November 25\, 2024 \n09:00 am – 03:30 pm \nMesabi East High School \n601 North First Street West\nBloodmobile\nAurora\, MN 55705 \nPrimary Blood Drive Coordinator: \nShara Jarvela\nEmail: sjarvela@isd2711.org\nPhone: 218-229-3321 ext 286
URL:https://psalmfm.org/event/bloodmobile-aurora-4/
END:VEVENT
BEGIN:VEVENT
DTSTART;TZID=UTC:20241125T100000
DTEND;TZID=UTC:20241125T153000
DTSTAMP:20260425T105918
CREATED:20241119T173212Z
LAST-MODIFIED:20241119T173212Z
UID:10267-1732528800-1732548600@psalmfm.org
SUMMARY:Bloodmobile- Aurora
DESCRIPTION:Monday\, November 25 from 10:00 am – 3:30 pm \nWhite Community Hospital Foundation \n15 W. 1st Street N.\nCommunity Center\nAurora\, MN 55705 \nPrimary Blood Drive Coordinator: \nBob Rutka\nEmail: robertrutka@hotmail.com\nPhone: 218-368-1249
URL:https://psalmfm.org/event/bloodmobile-aurora-2/
END:VEVENT
BEGIN:VEVENT
DTSTART;TZID=UTC:20241127T093000
DTEND;TZID=UTC:20241127T160000
DTSTAMP:20260425T105918
CREATED:20241119T173316Z
LAST-MODIFIED:20241119T173316Z
UID:10271-1732699800-1732723200@psalmfm.org
SUMMARY:Bloodmobile- Grand Rapids
DESCRIPTION:Wednesday\, November 27 from 9:30 am – 4:00 pm \nGrand Rapids High School \n800 Conifer Drive\nBloodmobile\nGrand Rapids\, MN 55744 \nPrimary Blood Drive Coordinator: \nKatie Thunshelle\nEmail: kthunshelle@isd318.org\nPhone: 218-327-5760 ext 41521
URL:https://psalmfm.org/event/bloodmobile-grand-rapids-15/
END:VEVENT
BEGIN:VEVENT
DTSTART;TZID=UTC:20241127T160000
DTEND;TZID=UTC:20241127T180000
DTSTAMP:20260425T105918
CREATED:20241111T192146Z
LAST-MODIFIED:20241111T192146Z
UID:10227-1732723200-1732730400@psalmfm.org
SUMMARY:Free Thanksgiving Dinner- Hibbing Salvation Army
DESCRIPTION:Free Thanksgiving Dinner Meal (the day before Thanksgiving; Wednesday\, November 27th) at The Salvation Army in Hibbing from 4-6. All are welcome!\n\n\n\nThey are also currently needing more volunteers to help serve (or prep) the food. If you are interested\, please message them on Facebook or call in.
URL:https://psalmfm.org/event/free-thanksgiving-dinner-hibbing-salvation-army/
END:VEVENT
BEGIN:VEVENT
DTSTART;TZID=UTC:20241128T090000
DTEND;TZID=UTC:20241128T110000
DTSTAMP:20260425T105918
CREATED:20241111T193907Z
LAST-MODIFIED:20241111T193907Z
UID:10233-1732784400-1732791600@psalmfm.org
SUMMARY:Thanksgiving Day Turkey Trot 5K- Ifalls
DESCRIPTION:Starting at 9am at Snap Fitness (10 Shorewood Drive) \nNo registration required. Race will not be timed. All participants are asked to please bring at least one item to donate to the food shelf. \nT-shirts are available for $15. Please email linchadbel@yahoo.com by November 20th with size and quantity needed. All profits will benefit food shelf.
URL:https://psalmfm.org/event/thanksgiving-day-turkey-trot-5k-ifalls/
END:VEVENT
BEGIN:VEVENT
DTSTART;TZID=UTC:20241128T110000
DTEND;TZID=UTC:20241128T130000
DTSTAMP:20260425T105918
CREATED:20241111T195815Z
LAST-MODIFIED:20241111T195815Z
UID:10239-1732791600-1732798800@psalmfm.org
SUMMARY:Thanksgiving Community Dinner @ Cornerstone Assembly of God Church
DESCRIPTION:Come and enjoy a free Thanksgiving Community Dinner at Cornerstone Assembly of God Church\, located at 403 Main Street SW in Baudette. \nThursday\, November 28th from 11-1. \nDelivery will be by 11:30 \nCall Chris to RSVP for delivery at 218-290-7181
URL:https://psalmfm.org/event/thanksgiving-community-dinner-cornerstone-assembly-of-god-church/
END:VEVENT
BEGIN:VEVENT
DTSTART;TZID=UTC:20241128T110000
DTEND;TZID=UTC:20241128T130000
DTSTAMP:20260425T105918
CREATED:20241111T201752Z
LAST-MODIFIED:20241111T201752Z
UID:10245-1732791600-1732798800@psalmfm.org
SUMMARY:Free Thanksgiving Dinner- St Joseph's Catholic Community Church
DESCRIPTION:In-person dining Thursday\, November 28th 11-1 at St Joseph Catholic Community Church\, located at 315 SW 21st Street in Grand Rapids \nCan’t get out? Order Delivery by placing an order by Tuesday\, November 26th by calling ElderCircle at 218-999-9233 or emailing ecircle@eldercircle.org. Please provide the name\, address and phone number. \nDeliveries will start at 10:30am \nNo pick-up meals available
URL:https://psalmfm.org/event/free-thanksgiving-dinner-st-josephs-catholic-community-church/
END:VEVENT
BEGIN:VEVENT
DTSTART;TZID=UTC:20241128T120000
DTEND;TZID=UTC:20241128T140000
DTSTAMP:20260425T105918
CREATED:20241111T193451Z
LAST-MODIFIED:20241119T173954Z
UID:10231-1732795200-1732802400@psalmfm.org
SUMMARY:Thanksgiving Dinner- Ifalls Elks
DESCRIPTION:THANKSGIVING DINNER AT THE ELKS!!! Please join them for a wonderful meal and fellowship\, open to the public\, come one… come all! (Do NOT call Elks with questions please)\n\nThursday November 28 from 12:00 – 2:00 at the Elks Lodge located at 215 Third Street in International Falls.\n\nMeals will be Dine-in. If you would like your meal to go- pick up inside. Meal deliveries will be offered to shut ins – those who are unable to leave their home due to illness\, disability or have no transportation.\n\nMeals: Call Joanne 218-283-2229 for meal delivery ON OR BEFORE November 27th\, leave a message if she doesn’t answer. We WILL NOT be answering the phone the day of Thanksgiving.\n\nVolunteers or questions please call Ronna MacKay at 218-340-9368
URL:https://psalmfm.org/event/thanksgiving-dinner-ifalls-elks/
END:VEVENT
BEGIN:VEVENT
DTSTART;TZID=UTC:20241129T160000
DTEND;TZID=UTC:20241129T180000
DTSTAMP:20260425T105918
CREATED:20241127T183236Z
LAST-MODIFIED:20241127T183246Z
UID:10339-1732896000-1732903200@psalmfm.org
SUMMARY:Holiday Cookie Party- Memorial Union Hall
DESCRIPTION:The Memorial Union Hall\, located at 509 3rd Street in Int’l Falls\, will be having a Holiday Cookie Party before the Christmas Parade on November 29th from 4-6. \nFun night of free hot chocolate and cookies\, cookie decorating\, face painting and other goodies.
URL:https://psalmfm.org/event/holiday-cookie-party-memorial-union-hall/
END:VEVENT
BEGIN:VEVENT
DTSTART;TZID=UTC:20241129T160000
DTEND;TZID=UTC:20241129T200000
DTSTAMP:20260425T105918
CREATED:20241119T182346Z
LAST-MODIFIED:20241119T183854Z
UID:10291-1732896000-1732910400@psalmfm.org
SUMMARY:Home for the Holidays Parade- Ifalls
DESCRIPTION:Join International Falls for their 30th annual celebration of the Home for the Holidays Community Christmas Parade on Friday\, Nov. 29 at Smokey Bear Park.\n 4 p.m.: Food vendors along with complimentary hot chocolate & treats in Smokey Bear Park 5 p.m.: Lighting of the trees by Smokey Bear 6 p.m.: Parade begins on Second Street and runs east along Third Street (same route as last year’s Christmas parade) Following the parade: Fireworks on Third Street
URL:https://psalmfm.org/event/home-for-the-holidays-parade-ifalls/
END:VEVENT
END:VCALENDAR