BEGIN:VCALENDAR
VERSION:2.0
PRODID:-//PsalmFM - ECPv6.15.20//NONSGML v1.0//EN
CALSCALE:GREGORIAN
METHOD:PUBLISH
X-ORIGINAL-URL:https://psalmfm.org
X-WR-CALDESC:Events for PsalmFM
REFRESH-INTERVAL;VALUE=DURATION:PT1H
X-Robots-Tag:noindex
X-PUBLISHED-TTL:PT1H
BEGIN:VTIMEZONE
TZID:UTC
BEGIN:STANDARD
TZOFFSETFROM:+0000
TZOFFSETTO:+0000
TZNAME:UTC
DTSTART:20240101T000000
END:STANDARD
END:VTIMEZONE
BEGIN:VEVENT
DTSTART;TZID=UTC:20250121T100000
DTEND;TZID=UTC:20250121T150000
DTSTAMP:20260425T131720
CREATED:20250106T173543Z
LAST-MODIFIED:20250106T173543Z
UID:10492-1737453600-1737471600@psalmfm.org
SUMMARY:Bloodmobile- Aurora
DESCRIPTION:Tuesday\, January 21\, 2025 \n10:00 am – 03:00 pm \nAurora Community Center \nAurora Community Center\n15 W 1st St N\nAurora\, MN 55705 \nPrimary Blood Drive Coordinator \nBob Rutka\nEmail: robertrutka@hotmail.com\nPhone: 218-368-1249
URL:https://psalmfm.org/event/bloodmobile-aurora-6/
END:VEVENT
BEGIN:VEVENT
DTSTART;TZID=UTC:20250121T113000
DTEND;TZID=UTC:20250121T130000
DTSTAMP:20260425T131720
CREATED:20250108T155737Z
LAST-MODIFIED:20250108T155737Z
UID:10511-1737459000-1737464400@psalmfm.org
SUMMARY:Parenting Class @ Family Life Center- Virginia
DESCRIPTION:A Parenting Class will be held on Tuesday\, January 21st at 11:30am at the Virginia Family Life Center. \nOn Facebook at Family Life Center or online at familylifecenterrange.org
URL:https://psalmfm.org/event/parenting-class-family-life-center-virginia/
END:VEVENT
BEGIN:VEVENT
DTSTART;TZID=UTC:20250122T090000
DTEND;TZID=UTC:20250122T150000
DTSTAMP:20260425T131720
CREATED:20250106T173305Z
LAST-MODIFIED:20250106T173305Z
UID:10484-1737536400-1737558000@psalmfm.org
SUMMARY:Bloodmobile- Chisholm
DESCRIPTION:Wednesday\, January 22\, 2025 \n09:00 am – 03:00 pm \nChisholm High School \n301 SW 4th Street\nChisholm\, MN 55719 \nPrimary Blood Drive Coordinator \nLynette Purdy\nEmail: lpurdy@chisholm.k12.mn.us\nPhone: 218-343-6331
URL:https://psalmfm.org/event/bloodmobile-chisholm/
END:VEVENT
BEGIN:VEVENT
DTSTART;TZID=UTC:20250122T110000
DTEND;TZID=UTC:20250122T120000
DTSTAMP:20260425T131720
CREATED:20250108T155911Z
LAST-MODIFIED:20250108T155911Z
UID:10513-1737543600-1737547200@psalmfm.org
SUMMARY:Parenting Connection @ Family Life Center- Hibbing
DESCRIPTION:Parenting Connection will be Wednesday\, January 22nd at 11am at the Hibbing Family Life Center. Everyone is invited to attend. \nOn Facebook at Family Life Center or online at familylifecenterrange.org
URL:https://psalmfm.org/event/parenting-connection-family-life-center-hibbing/
END:VEVENT
BEGIN:VEVENT
DTSTART;TZID=UTC:20250123T173000
DTEND;TZID=UTC:20250123T203000
DTSTAMP:20260425T131720
CREATED:20250108T161130Z
LAST-MODIFIED:20250108T161130Z
UID:10515-1737653400-1737664200@psalmfm.org
SUMMARY:Puzzle Palooza
DESCRIPTION:The New Beginnings Pregnancy and Family Support Center will be having their 6th annual Team Jigsaw Puzzle Competition on Thursday\, January 23rd at Grace Bible Chapel. \n5:30-6:30 Registration\, Soup\, and Social6:30 Puzzle Competition\nWork on a 500-piece puzzle in teams as fast as possible or at your own pace. Ticket-to-Win-It table and prizes for best-dressed team.\nRegister at newbeginningspregnancy.com/eventscall 218-326-0404 or email events@newbeginningspregnancy.com by January 11\, 2024.\nTeams of four $80Individuals $20\nIf not registering with a team\, then they will be glad to place you on one.
URL:https://psalmfm.org/event/puzzle-palooza/
END:VEVENT
BEGIN:VEVENT
DTSTART;TZID=UTC:20250124T080000
DTEND;TZID=UTC:20250126T170000
DTSTAMP:20260425T131720
CREATED:20241204T161812Z
LAST-MODIFIED:20241204T161812Z
UID:10367-1737705600-1737910800@psalmfm.org
SUMMARY:Man Up North Conference & Expo
DESCRIPTION:Man Up North Conference & Expo \nJanuary 24-26\, 2025 \nThe Sanford Center\, Bemidji\, MN \n  \nYou won’t want to miss this unique men’s conference held at the Sanford Center on January 24-26 with some of the best speakers and music artists in the nation\, including Governor Mike Huckabee\, Kevin Sorbo\, Zach Fowler and many more! \n  \nLearn more at ManUpNorth.com
URL:https://psalmfm.org/event/man-up-north-conference-expo/
END:VEVENT
BEGIN:VEVENT
DTSTART;TZID=UTC:20250125T080000
DTEND;TZID=UTC:20250125T113000
DTSTAMP:20260425T131720
CREATED:20250107T174259Z
LAST-MODIFIED:20250107T174259Z
UID:10501-1737792000-1737804600@psalmfm.org
SUMMARY:Pancake Breakfast @ Backus Community Center
DESCRIPTION:The Falls Education Foundation and Purple Pride invite you to their annual Pancake Breakfast on Saturday\, January 25 from 8-11:30 at the Backus Community Center in International Falls. Free will offering.
URL:https://psalmfm.org/event/pancake-breakfast-backus-community-center/
END:VEVENT
BEGIN:VEVENT
DTSTART;TZID=UTC:20250125T100000
DTEND;TZID=UTC:20250125T140000
DTSTAMP:20260425T131720
CREATED:20250122T175245Z
LAST-MODIFIED:20250122T175245Z
UID:10577-1737799200-1737813600@psalmfm.org
SUMMARY:Mini Winter Wellness Expo- Cook Community Center
DESCRIPTION:All are invited to come and meet a variety of health and wellness experts from the area at the Mini Winter Wellness Expo on Saturday\, January 25th from 10-2 at the Cook Community Center. \nCheck out the Cook Community Center Facebook Page for additional details\, to register as a vendor and to view all upcoming events.
URL:https://psalmfm.org/event/mini-winter-wellness-expo-cook-community-center/
END:VEVENT
BEGIN:VEVENT
DTSTART;TZID=UTC:20250128T100000
DTEND;TZID=UTC:20250128T160000
DTSTAMP:20260425T131720
CREATED:20250106T172746Z
LAST-MODIFIED:20250106T172746Z
UID:10476-1738058400-1738080000@psalmfm.org
SUMMARY:Bloodmobile- Deer River
DESCRIPTION:Tuesday\, January 28\, 2025 \n10:00 am – 04:00 pm \nEssentia Clinic-Deer River \n115 10th Avenue NE\nDeer River\, MN 56636 \nPrimary Blood Drive Coordinator \nMathias Salmela\nEmail: msalmela75@gmail.com\nPhone: 218-398-7293
URL:https://psalmfm.org/event/bloodmobile-deer-river-3/
END:VEVENT
BEGIN:VEVENT
DTSTART;TZID=UTC:20250129T100000
DTEND;TZID=UTC:20250129T143000
DTSTAMP:20260425T131720
CREATED:20250106T172711Z
LAST-MODIFIED:20250106T172711Z
UID:10474-1738144800-1738161000@psalmfm.org
SUMMARY:Bloodmobile- Bigfork
DESCRIPTION:Wednesday\, January 29\, 2025 \n10:00 am – 02:30 pm\nBigfork Valley Hospital \n258 Pine Tree Drive\nBigfork\, MN 56628 \nPrimary Blood Drive Coordinator \nKyle Buckingham\nEmail: KBuckingham@bigforkvalley.org\nPhone: 218-743-4147
URL:https://psalmfm.org/event/bloodmobile-bigfork-3/
END:VEVENT
BEGIN:VEVENT
DTSTART;TZID=UTC:20250130T090000
DTEND;TZID=UTC:20250130T130000
DTSTAMP:20260425T131720
CREATED:20250106T173441Z
LAST-MODIFIED:20250106T173441Z
UID:10488-1738227600-1738242000@psalmfm.org
SUMMARY:Bloodmobile- Virginia
DESCRIPTION:Thursday\, January 30\, 2025 \n09:00 am – 01:00 pm \nRock Ridge High School \n1403 Progress Pkwy\nParking Lot\nVirginia\, MN 55792 \nPrimary Blood Drive Coordinator \nJill Clennon\nEmail: jclennon@vmps.org\nPhone: 218-248-5014
URL:https://psalmfm.org/event/bloodmobile-virginia-4/
END:VEVENT
BEGIN:VEVENT
DTSTART;TZID=UTC:20250131T080000
DTEND;TZID=UTC:20250131T170000
DTSTAMP:20260425T131720
CREATED:20250108T161429Z
LAST-MODIFIED:20250116T155056Z
UID:10517-1738310400-1738342800@psalmfm.org
SUMMARY:USDA Rural Development Loan
DESCRIPTION:USDA Rural Development is accepting applications for low-income individuals and families seeking to purchase or repair a home in a rural area. Contact them at usdahousingmn@usda.gov for more information.
URL:https://psalmfm.org/event/usda-rural-development-loan/
END:VEVENT
BEGIN:VEVENT
DTSTART;TZID=UTC:20250131T090000
DTEND;TZID=UTC:20250131T130000
DTSTAMP:20260425T131720
CREATED:20250106T173405Z
LAST-MODIFIED:20250106T173405Z
UID:10486-1738314000-1738328400@psalmfm.org
SUMMARY:Bloodmobile- Mountain Iron
DESCRIPTION:Friday\, January 31\, 2025 \n09:00 am – 01:00 pm \nMountain Iron Buhl High School \n5529 Emerald Ave.\nMountain Iron\, MN 55768 \nPrimary Blood Drive Coordinator \nShay Busch\nEmail: 25BusSha@isd712.org\nPhone: 218-735-8216
URL:https://psalmfm.org/event/bloodmobile-mountain-iron/
END:VEVENT
BEGIN:VEVENT
DTSTART;TZID=UTC:20250201T080000
DTEND;TZID=UTC:20250201T130000
DTSTAMP:20260425T131720
CREATED:20250110T153949Z
LAST-MODIFIED:20250110T153949Z
UID:10522-1738396800-1738414800@psalmfm.org
SUMMARY:No Regrets Men's Conference- Grand Rapids
DESCRIPTION:Join area men with the livestream of the 2025 No Regrets men’s conference at the Grand Rapids E Free Church on Saturday\, February 1st from 8-1.\nConference session content addresses young men through retirees.\nLive praise music opens followed by world class speakers.\nTickets are $5 and are available online at grefc.org/events or at the door.\nBreakfast will be served prior to the livestream event.\nAdditional conference content is available at www.noregretsconference.org.
URL:https://psalmfm.org/event/no-regrets-mens-conference-grand-rapids/
END:VEVENT
BEGIN:VEVENT
DTSTART;TZID=UTC:20250201T080000
DTEND;TZID=UTC:20250201T130000
DTSTAMP:20260425T131720
CREATED:20250128T164041Z
LAST-MODIFIED:20250128T164041Z
UID:10615-1738396800-1738414800@psalmfm.org
SUMMARY:No Regrets Men’s Conference
DESCRIPTION:Grand Rapids Evangelical Free Church is serving as a host site for the 2025 No Regrets Men’s Conference. They invite all men in northern Minnesota to attend this impactful live-streamed event on February 1st from 8am-1pm. In addition to the amazing world-class speakers\, there will also be three breakout sessions\, each with four options to choose from. Visit grefc.org/events and read about the breakout sessions that will be available.\nTickets to this event are $5 in advance or $8 at the door. Ticket price includes a light breakfast\, coffee bar\, snacks throughout the event and bottled water. Tickets can be purchased at grefc.org/events/ (do not register on the No Regrets Conference website.)\nTheme: Rescued- Colossians 1:13-14
URL:https://psalmfm.org/event/no-regrets-mens-conference/
END:VEVENT
BEGIN:VEVENT
DTSTART;TZID=UTC:20250202T173000
DTEND;TZID=UTC:20250202T190000
DTSTAMP:20260425T131720
CREATED:20250115T184154Z
LAST-MODIFIED:20250115T184154Z
UID:10544-1738517400-1738522800@psalmfm.org
SUMMARY:MN Adult and Teen Challenge Choir Concert
DESCRIPTION:All are invited to a Free MN Adult and Teen Challenge Choir Concert held at the Northeast Range Babbitt School Auditorium. 30 South Drive in Babbitt on Sunday February 2nd at 5:30 pm. Come and hear powerful songs of Worship and Freedom and hear testimonies of addicts being set free. This event is sponsored by the Babbitt Embarrass Churches. Contact Pastor Ben Morgan at Babbitt Assembly of God for any questions.
URL:https://psalmfm.org/event/mn-adult-and-teen-challenge-choir-concert/
END:VEVENT
BEGIN:VEVENT
DTSTART;TZID=UTC:20250203T080000
DTEND;TZID=UTC:20250411T170000
DTSTAMP:20260425T131720
CREATED:20250116T153055Z
LAST-MODIFIED:20250116T153055Z
UID:10546-1738569600-1744390800@psalmfm.org
SUMMARY:Free Tax Preparation- Itasca County
DESCRIPTION:Free Tax Preparation for families and individuals of all ages and backgrounds \nFebruary 3rd-April 11th \nFor more information and appointments call 218-245-9202 \n-by appointment only-walk in service is not available \n-Tax-Aide Volunteers are IRS trained and certified every year \n  \nSponsored by AARP Foundation Tax-Aide and ElderCircle \n  \n 
URL:https://psalmfm.org/event/free-tax-preparation-itasca-county/
END:VEVENT
BEGIN:VEVENT
DTSTART;TZID=UTC:20250204T080000
DTEND;TZID=UTC:20250224T170000
DTSTAMP:20260425T131720
CREATED:20250204T160143Z
LAST-MODIFIED:20250204T160143Z
UID:10695-1738656000-1740416400@psalmfm.org
SUMMARY:Northern Options Diaper Drive
DESCRIPTION:Northern Options Annual Diaper Drive will run from February 4th-25th. Purchase a pack or two of diapers and place them in the decorated cart at Family Dollar. Larger sizes are needed most.
URL:https://psalmfm.org/event/northern-options-diaper-drive/
END:VEVENT
BEGIN:VEVENT
DTSTART;TZID=UTC:20250204T090000
DTEND;TZID=UTC:20250204T143000
DTSTAMP:20260425T131720
CREATED:20250130T173700Z
LAST-MODIFIED:20250130T173700Z
UID:10663-1738659600-1738679400@psalmfm.org
SUMMARY:Bloodmobile- Bemidji
DESCRIPTION:Tuesday\, February 04\, 2025 \n09:00 am – 02:30 pm \nBemidji State University \n1420 Birchmont Drive NE\nBeaux Arts Ballroom\nBemidji\, MN 56601 \nPrimary Blood Drive Coordinator \nMegan Oien\nEmail: megan.oien@live.bemidjistate.edu\nPhone: 218-234-4270
URL:https://psalmfm.org/event/bloodmobile-bemidji-7/
END:VEVENT
BEGIN:VEVENT
DTSTART;TZID=UTC:20250206T090000
DTEND;TZID=UTC:20250206T150000
DTSTAMP:20260425T131720
CREATED:20250130T174454Z
LAST-MODIFIED:20250130T174454Z
UID:10673-1738832400-1738854000@psalmfm.org
SUMMARY:Bloodmobile-Coleraine
DESCRIPTION:Thursday\, February 06\, 2025 \n09:00 am – 03:00 pm \nGreenway High School\n308 Roosevelt Street\nColeraine\, MN 55722 \nPrimary Blood Drive Coordinator \nMegan O’Toole\nEmail: motoole@isd316.org\nPhone: 218-245-1287  26859
URL:https://psalmfm.org/event/bloodmobile-coleraine/
END:VEVENT
BEGIN:VEVENT
DTSTART;TZID=UTC:20250207T083000
DTEND;TZID=UTC:20250207T143000
DTSTAMP:20260425T131720
CREATED:20250130T174820Z
LAST-MODIFIED:20250130T174820Z
UID:10675-1738917000-1738938600@psalmfm.org
SUMMARY:Bloodmobile- Nashwauk
DESCRIPTION:Friday\, February 07\, 2025 \n08:30 am – 02:30 pm \nNashwauk Keewatin High School \n400 2nd ST\nNashwauk\, MN 55769 \nPrimary Blood Drive Coordinator \nCarly Anderson\nEmail: canderson@isd319.org\nPhone: 218-885-1280
URL:https://psalmfm.org/event/bloodmobile-nashwauk-2/
END:VEVENT
BEGIN:VEVENT
DTSTART;TZID=UTC:20250207T180000
DTEND;TZID=UTC:20250208T200000
DTSTAMP:20260425T131720
CREATED:20241206T151719Z
LAST-MODIFIED:20241216T161619Z
UID:10394-1738951200-1739044800@psalmfm.org
SUMMARY:Hibbing Alliance Father Daughter Ball
DESCRIPTION:Hibbing Alliance Church will be having their annual Father Daughter Ball at the Family Life Center on Friday\, February 7th and Saturday\, February 8th from 6-8pm.\nAll girls and their father figures 0-99 yrs are welcome! Tickets are available for sale for $20 at Casey Drug in Chisholm and both Baron’s Pharmacy locations in Hibbing.
URL:https://psalmfm.org/event/hibbing-alliance-father-daughter-ball/
END:VEVENT
BEGIN:VEVENT
DTSTART;TZID=UTC:20250208T110000
DTEND;TZID=UTC:20250208T160000
DTSTAMP:20260425T131720
CREATED:20250128T162530Z
LAST-MODIFIED:20250128T162530Z
UID:10611-1739012400-1739030400@psalmfm.org
SUMMARY:Myrtle Lake Resort Ice Fishing Contest
DESCRIPTION:Myrtle Lake Resort’s 3rd annual Ice Fishing Contest will be Saturday\, February 8th. Registration opens at 11am. Contest runs from 12-3. $30 entry fee.
URL:https://psalmfm.org/event/myrtle-lake-resort-ice-fishing-contest/
END:VEVENT
BEGIN:VEVENT
DTSTART;TZID=UTC:20250208T120000
DTEND;TZID=UTC:20250208T140000
DTSTAMP:20260425T131720
CREATED:20250122T172322Z
LAST-MODIFIED:20250122T172322Z
UID:10575-1739016000-1739023200@psalmfm.org
SUMMARY:Senior Fish Fry- Birchdale
DESCRIPTION:There will be a Senior Citizen Fish Fry on Saturday\, February 8th starting at noon at the Birchdale Community Hall. \nOn the menu is fish\, beans\, buns\, and salad. Fish donated by the Minnesota DNR.
URL:https://psalmfm.org/event/senior-fish-fry-birchdale/
END:VEVENT
BEGIN:VEVENT
DTSTART;TZID=UTC:20250208T130000
DTEND;TZID=UTC:20250208T160000
DTSTAMP:20260425T131720
CREATED:20250128T163131Z
LAST-MODIFIED:20250128T163131Z
UID:10613-1739019600-1739030400@psalmfm.org
SUMMARY:Make & Take Valentine's Event-Cook
DESCRIPTION:There will be a Make & Take Valentine’s Event at the Cook Community Center on Saturday\, February 8th from 1-4 \nJoin them for a fun filled and family friendly event. They’ll be making a variety of Valentine’s crafts with all the supplies provided. \nCook Community Center is located at 510 Gopher Drive. \nCheck out their Facebook page Cook Community Center for details and upcoming events.
URL:https://psalmfm.org/event/make-take-valentines-event-cook/
END:VEVENT
BEGIN:VEVENT
DTSTART;TZID=UTC:20250209T123000
DTEND;TZID=UTC:20250209T153000
DTSTAMP:20260425T131720
CREATED:20250205T162911Z
LAST-MODIFIED:20250205T162911Z
UID:10702-1739104200-1739115000@psalmfm.org
SUMMARY:St Mary's Parish Youth Group Cookie Event
DESCRIPTION:St Mary’s Parish Youth Group program is hosting a cookie baking event for grades 6-8 in the St Mary’s Parish basement on Sunday\, February 9th from 12:30-3:30. St Mary’s Parish is located at 209 Victoria Ave in Fort Frances. For more information call 807-274-5233.
URL:https://psalmfm.org/event/st-marys-parish-youth-group-cookie-event/
END:VEVENT
BEGIN:VEVENT
DTSTART;TZID=UTC:20250210T080000
DTEND;TZID=UTC:20250222T170000
DTSTAMP:20260425T131720
CREATED:20250204T155618Z
LAST-MODIFIED:20250211T162326Z
UID:10693-1739174400-1740243600@psalmfm.org
SUMMARY:Brush Burning in Ifalls
DESCRIPTION:Koochiching County Environmental Services will be burning the brush piles at the Transfer Station Complex in Int’l Falls. The burning will begin February 10th as the weather permits. They hope to have it completed by the end of February. They will do their best to keep the smoke to a minimum but if you encounter smoke while driving through the area\, please use caution. They apologize for any inconvenience this may cause.
URL:https://psalmfm.org/event/brush-burning-in-ifalls/
END:VEVENT
BEGIN:VEVENT
DTSTART;TZID=UTC:20250211T180000
DTEND;TZID=UTC:20250211T193000
DTSTAMP:20260425T131720
CREATED:20250129T193340Z
LAST-MODIFIED:20250129T193340Z
UID:10658-1739296800-1739302200@psalmfm.org
SUMMARY:Sourdough Class- Backus Community Center
DESCRIPTION:Join Leah Workman in making your own dough to bring home and bake. You will bring home a starter as well. \nTuesday\, February 11th 6-7:30pm \n$45 per person- please bring your own mixing bowl and tea towel. \nTo sign up please call the Backus Office at 218-285-7225
URL:https://psalmfm.org/event/sourdough-class-backus-community-center/
END:VEVENT
BEGIN:VEVENT
DTSTART;TZID=UTC:20250213T100000
DTEND;TZID=UTC:20250213T160000
DTSTAMP:20260425T131720
CREATED:20250130T173942Z
LAST-MODIFIED:20250130T173942Z
UID:10671-1739440800-1739462400@psalmfm.org
SUMMARY:Bloodmobile- Grand Rapids
DESCRIPTION:Thursday\, February 13\, 2025 \n10:00 am – 04:00 pm \nDeerwood Bank \n2950 US-169\nGrand Rapids\, MN 55744 \nPrimary Blood Drive Coordinator \nShona Arnold\nEmail: shona.humphrey@deerwoodbank.com\nPhone: 218-327-4833
URL:https://psalmfm.org/event/bloodmobile-grand-rapids-23/
END:VEVENT
BEGIN:VEVENT
DTSTART;TZID=UTC:20250214T093000
DTEND;TZID=UTC:20250214T160000
DTSTAMP:20260425T131720
CREATED:20250130T173741Z
LAST-MODIFIED:20250130T173741Z
UID:10665-1739525400-1739548800@psalmfm.org
SUMMARY:Bloodmobile- Grand Rapids
DESCRIPTION:Friday\, February 14\, 2025 \n09:30 am – 04:00 pm \nGrand Rapids High School \n800 Conifer Drive\nGrand Rapids\, MN 55744 \nPrimary Blood Drive Coordinator \nKatie Thunshelle\nEmail: kthunshelle@isd318.org\nPhone: 218-327-5760  41521
URL:https://psalmfm.org/event/bloodmobile-grand-rapids-20/
END:VEVENT
END:VCALENDAR