BEGIN:VCALENDAR
VERSION:2.0
PRODID:-//PsalmFM - ECPv6.15.20//NONSGML v1.0//EN
CALSCALE:GREGORIAN
METHOD:PUBLISH
X-WR-CALNAME:PsalmFM
X-ORIGINAL-URL:https://psalmfm.org
X-WR-CALDESC:Events for PsalmFM
REFRESH-INTERVAL;VALUE=DURATION:PT1H
X-Robots-Tag:noindex
X-PUBLISHED-TTL:PT1H
BEGIN:VTIMEZONE
TZID:UTC
BEGIN:STANDARD
TZOFFSETFROM:+0000
TZOFFSETTO:+0000
TZNAME:UTC
DTSTART:20240101T000000
END:STANDARD
END:VTIMEZONE
BEGIN:VEVENT
DTSTART;TZID=UTC:20250902T160000
DTEND;TZID=UTC:20250902T190000
DTSTAMP:20260424T001608
CREATED:20250825T154411Z
LAST-MODIFIED:20250825T154411Z
UID:11463-1756828800-1756839600@psalmfm.org
SUMMARY:Victory Christian Academy Back to School Expo & Community Open House
DESCRIPTION:Victory Christian Academy will be having a Back-to-School Expo and Community Open House on September 2nd from 4-7pm. This is a FREE EVENT! They will have face painting\, bouncy house\, and food trucks available for purchase\, as well as a bake sale for the Volleyball Team. Please spread the word at church and to your friends and family who may be interested in checking out the school! Anyone that comes for a tour is entered in to Win a $1\,000 Scholarship! Come meet your teacher\, drop off supplies\, sign up for homeschool electives or just come check out all they have to offer! \nVictory Christian Academy is located at 206 E 39th street in Hibbing. For more information call 218-262-6550 or visit their website at vcahibbing.com \n 
URL:https://psalmfm.org/event/victory-christian-academy-back-to-school-expo-community-open-house/
END:VEVENT
BEGIN:VEVENT
DTSTART;TZID=UTC:20250905T080000
DTEND;TZID=UTC:20250907T170000
DTSTAMP:20260424T001608
CREATED:20250828T190325Z
LAST-MODIFIED:20250828T190325Z
UID:11481-1757059200-1757264400@psalmfm.org
SUMMARY:FALL KICK-OFF Weekend at Grace Bible Chapel
DESCRIPTION:Friday\, September 5th \nApproximately 8-10pm \nOutdoor showing of the movie Ordinary Angels  \nPopcorn provided! \nORDINARY ANGELS is the remarkable true story of a struggling hairdresser who single-handedly rallies an entire community to help a widowed father save the life of his critically ill young daughter. What unfolds is the inspiring tale of faith\, everyday miracles\, and ordinary angels. \nSaturday\, September 6 \n11:00 AM – 7:30 PM \nGrace Bible Chapel – 2452 Co Rd 76 \nJoin them for a family-friendly outdoor concert series as they celebrate the start of fall together with music\, food\, and community! \nHeadlining: Presence Music – bringing their heartfelt acoustic worship to the stage alongside other talented regional artists including Blood like Wine\, Brenden Brooks\, Grace Jaywalkers\, and Mercy Wildfire. \nMultiple performances throughout the day \nFood and drink available for purchase \nFun for all ages \nAdmission is FREE! \nBring a blanket or lawn chair\, invite your friends and neighbors\, and come enjoy a full day of uplifting music and fellowship at Grace! \nSunday\, September 7 \n8:15 AM – 3:00 PM \n8:15 & 11:00 AM worship services \n12:30 PM pulled pork lunch & potluck with bounce house and games available for the kids! \n“Grand Grace Open” disc golf tournament to follow. $40 to play. Click the link for more info and to register. \nApple: https://apps.apple.com/us/app/udisc-disc-golf/id1072228953 \nAndroid: https://play.google.com/store/search?q=udisc&c=apps&utm_source=na_Med \n 
URL:https://psalmfm.org/event/fall-kick-off-weekend-at-grace-bible-chapel/
END:VEVENT
BEGIN:VEVENT
DTSTART;TZID=UTC:20250905T183000
DTEND;TZID=UTC:20250907T200000
DTSTAMP:20260424T001608
CREATED:20250828T184402Z
LAST-MODIFIED:20250828T184402Z
UID:11479-1757097000-1757275200@psalmfm.org
SUMMARY:Evangelist Glenn Meldrum- Gateway Assembly Church
DESCRIPTION:Evangelist Glenn Meldrum will be at Gateway Assembly Church September 5th through the 7th. Come for a powerful bible teaching that is sure to ignite your faith and grow your depth of understanding. Each session is unique and builds off previous meetings. Come with great expectations! \nFriday and Saturday -6:30pm \nSunday at 10:30am and 6:30pm
URL:https://psalmfm.org/event/evangelist-glenn-meldrum-gateway-assembly-church/
END:VEVENT
BEGIN:VEVENT
DTSTART;TZID=UTC:20250906T123000
DTEND;TZID=UTC:20250906T143000
DTSTAMP:20260424T001608
CREATED:20250327T175329Z
LAST-MODIFIED:20250804T163619Z
UID:10925-1757161800-1757169000@psalmfm.org
SUMMARY:Teen Talk
DESCRIPTION:Teen Talk is a monthly support group for biological and adopted teens in foster or kinship families. Through engaging discussions and fun activities\, we create a space where teens can connect with peers who share similar experiences. This group is not for teens currently in foster care but is designed to support those navigating the unique role of being a foster sibling. By sharing and learning together\, teens leave feeling heard\, understood\, and empowered in their journey. \nThis group meets on the 1st Saturday of each month from 12:30-2:30. Location varies. RSVP is required for each date. Please go to fostertogethermn.org/schedule. \n \nThis is a hybrid event\, offering in-person and virtual options! \n \nApril Gathering Details: \n\n\nLocation: Vendella Coffee in Eden\, MN or Virtually on Microsoft Teams \n\n\nMicrosoft Teams link will be included in your confirmation email. Be sure to check your junk/spam folder! \n\n\n\n\nTheme: Communication and Boundaries
URL:https://psalmfm.org/event/teen-talk/
END:VEVENT
BEGIN:VEVENT
DTSTART;TZID=UTC:20250908T100000
DTEND;TZID=UTC:20250908T140000
DTSTAMP:20260424T001608
CREATED:20250905T191008Z
LAST-MODIFIED:20250905T191008Z
UID:11520-1757325600-1757340000@psalmfm.org
SUMMARY:Bloodmobile- Cohasset
DESCRIPTION:Monday\, September 08\, 2025 \n10:00 am – 02:00 pm \nBoswell Energy Center \n1210 NW 3rd St\nCohasset\, MN 55721 \nPrimary Blood Drive Coordinator: \nMelissa Adams\nEmail: madams@mnpower.com\nPhone: 218-313-4276
URL:https://psalmfm.org/event/bloodmobile-cohasset-2/
END:VEVENT
BEGIN:VEVENT
DTSTART;TZID=UTC:20250910T093000
DTEND;TZID=UTC:20250910T140000
DTSTAMP:20260424T001608
CREATED:20250905T191153Z
LAST-MODIFIED:20250905T191153Z
UID:11524-1757496600-1757512800@psalmfm.org
SUMMARY:Bloodmobile- Cook
DESCRIPTION:Wednesday\, September 10\, 2025 \n09:30 am – 02:00 pm \nCook Hospital \n10 Southeast 5th Street\nCook\, MN 55723 \nPrimary Blood Drive Coordinator: \nJulia Miller\nEmail: JMiller@cookhospital.org\nPhone: 218-666-6229
URL:https://psalmfm.org/event/bloodmobile-cook-7/
END:VEVENT
BEGIN:VEVENT
DTSTART;TZID=UTC:20250911T090000
DTEND;TZID=UTC:20250911T150000
DTSTAMP:20260424T001608
CREATED:20250905T191322Z
LAST-MODIFIED:20250905T191322Z
UID:11528-1757581200-1757602800@psalmfm.org
SUMMARY:Bloodmobile- Virginia
DESCRIPTION:Thursday\, September 11\, 2025 \n09:00 am – 03:00 pm \nVirginia GSC \nGovernment Services Center (GSC) Virginia\n201 3rd Ave. West\nVirginia\, MN 55792 \nPrimary Blood Drive Coordinator: \nJayde Kaeter\nEmail: kaeterj@stlouiscountymn.gov\nPhone: 218-471-7127
URL:https://psalmfm.org/event/bloodmobile-virginia-8/
END:VEVENT
BEGIN:VEVENT
DTSTART;TZID=UTC:20250911T180000
DTEND;TZID=UTC:20250911T200000
DTSTAMP:20260424T001608
CREATED:20250829T153030Z
LAST-MODIFIED:20250829T153030Z
UID:11500-1757613600-1757620800@psalmfm.org
SUMMARY:Koochiching County-Wide Forum-Backus Community Center
DESCRIPTION:There will be a Koochiching County-Wide Forum at the Backus Community Center on September 11th from 6-8pm. \nFeatures a short presentation from University of MN Extension highlighting the priority areas from the recent county needs assessment–such as housing\, economic development\, community infrastructure\, employment–followed by an activity where everyone will be invited to explore the action items suggested by the survey and to set the direction for taking action. \nCall 218-434-0276 to RSVP\, leaving a text or voice message along with your name. Citizens from around the county are invited to attend!
URL:https://psalmfm.org/event/koochiching-county-wide-forum-backus-community-center/
END:VEVENT
BEGIN:VEVENT
DTSTART;TZID=UTC:20250912T190000
DTEND;TZID=UTC:20250912T210000
DTSTAMP:20260424T001608
CREATED:20250902T212607Z
LAST-MODIFIED:20250902T212607Z
UID:11509-1757703600-1757710800@psalmfm.org
SUMMARY:Creation Ministries International @ Barwick Community Church
DESCRIPTION:Barwick Community Church is hosting guest speaker Matt Bondy from Creation Ministries International on Friday\, September 12\, 7:00pm.  \n Matt will give an engaging message on “Scientific and Biblical Defense of Creation.” \nFor more information\, go to the CMI website at:  \nhttps://creation.com/en/events/d0e01118-3552-4b2f-a50b-72fb561db5d6 \nYou can also call Ernest & Darla Georgeson at: (807)482-1415 \nAttendance is free and all are welcome.  Creation resources will be available.  A love offering for CMI will be received.  Refreshments will be served following the presentation.
URL:https://psalmfm.org/event/creation-ministries-international-barwick-community-church/
END:VEVENT
BEGIN:VEVENT
DTSTART;TZID=UTC:20250913T110000
DTEND;TZID=UTC:20250913T130000
DTSTAMP:20260424T001608
CREATED:20250811T152034Z
LAST-MODIFIED:20250811T152034Z
UID:11441-1757761200-1757768400@psalmfm.org
SUMMARY:National Day of Remembrance for Aborted Children
DESCRIPTION:There will be a National Day of Remembrance for Aborted Children Service at Calvary Cemetery\, located at 1120 9th Street North in Virginia on Saturday\, September 13th at 11am. \nSpeakers include Pastor Joel Kallberg\, Christine Sinnot\, and Helen Aubol. \nMusic by Pastor Esther Kallberg. \nLuncheon following ceremony at Lion’s Building in Olcott Park.
URL:https://psalmfm.org/event/national-day-of-remembrance-for-aborted-children/
END:VEVENT
BEGIN:VEVENT
DTSTART;TZID=UTC:20250915T120000
DTEND;TZID=UTC:20250915T153000
DTSTAMP:20260424T001608
CREATED:20250905T191459Z
LAST-MODIFIED:20250905T191459Z
UID:11532-1757937600-1757950200@psalmfm.org
SUMMARY:Bloodmobile- Aurora
DESCRIPTION:Monday\, September 15\, 2025 \n12:00 pm – 03:30 pm \nMesabi East High School \n601 North First Street West\nAurora\, MN 55705 \nPrimary Blood Drive Coordinator: \nShara Jarvela\nEmail: sjarvela@isd2711.org\nPhone: 218-229-3321 ext 286
URL:https://psalmfm.org/event/bloodmobile-aurora-12/
END:VEVENT
BEGIN:VEVENT
DTSTART;TZID=UTC:20250916T110000
DTEND;TZID=UTC:20250916T120000
DTSTAMP:20260424T001608
CREATED:20250505T151732Z
LAST-MODIFIED:20250821T153930Z
UID:11075-1758020400-1758024000@psalmfm.org
SUMMARY:Foster Together Monthly Parent Support Group
DESCRIPTION:Join Foster Together for a monthly online support group created for foster\, kinship\, and adoptive parents!  \nOpen to everyone\, this inclusive group offers a safe and welcoming space to connect with others who understand the unique joys and challenges of your journey.  \nEach session is designed to provide encouragement\, valuable insights\, and meaningful support\, empowering you as you care for the children in your life. Be part of a compassionate community that uplifts\, inspires\, and walks alongside you every step of the way!  \nThey meet the 3rd Tuesday of each month at 11:00am.  \n A Zoom meeting link will be emailed in registration confirmation.  \nPlease go to fostertogethermn.org/schedule to RSVP.
URL:https://psalmfm.org/event/foster-together-monthly-parent-support-group/
END:VEVENT
BEGIN:VEVENT
DTSTART;TZID=UTC:20250917T130000
DTEND;TZID=UTC:20250917T170000
DTSTAMP:20260424T001608
CREATED:20250829T152429Z
LAST-MODIFIED:20250829T152429Z
UID:11496-1758114000-1758128400@psalmfm.org
SUMMARY:Dying- The Last New Thing You'll Ever Do- Backus Community Center
DESCRIPTION:Let’s talk about the tough stuff with Gale Gagnier\, RN\, Death Doula \nBackus Community Center Room 101/102 \nWednesday\, September 17th from 1-5 \nOR \nSaturday\, September 20th from 9-1 \n$50 per person \nCall 218-285-7225 to sign up \n 
URL:https://psalmfm.org/event/dying-the-last-new-thing-youll-ever-do-backus-community-center/
END:VEVENT
BEGIN:VEVENT
DTSTART;TZID=UTC:20250917T180000
DTEND;TZID=UTC:20250917T200000
DTSTAMP:20260424T001608
CREATED:20250917T113044Z
LAST-MODIFIED:20250917T113044Z
UID:11584-1758132000-1758139200@psalmfm.org
SUMMARY:Teens and Youth (Aurora\, MN)
DESCRIPTION:First Baptist Church of Aurora invites all teens and youth to the kickoff event Wednesday\, Sept. 17\, at 6:00 p.m. It starts with a potluck dinner\, so bring a dish to share and come on out!
URL:https://psalmfm.org/event/teens-and-youth-aurora-mn/
LOCATION:Aurora First Baptist Church\, 5491 Poplar Street\, Aurora\, MN
END:VEVENT
BEGIN:VEVENT
DTSTART;TZID=UTC:20250918T110000
DTEND;TZID=UTC:20250918T150000
DTSTAMP:20260424T001608
CREATED:20250911T184420Z
LAST-MODIFIED:20250911T184420Z
UID:11565-1758193200-1758207600@psalmfm.org
SUMMARY:Itasca Community Connect
DESCRIPTION:A gathering of service providers from the Itasca County area. For your convenience\, all in one location\, all in one day. \nThursday\, September 18th from 11-3 at the Yanmar Areana in Grand Rapids (1401 NW 3rd Ave). \nServices like: employment Assistance\, housing assistance\, mental health information\, veteran services and much more. \nFree transportation in the Arrowhead Transit service area. Call 1-800-862-0175. \n  \nFor more information\, contact First Call at 211 or 218-326-8565 \n 
URL:https://psalmfm.org/event/itasca-community-connect/
END:VEVENT
BEGIN:VEVENT
DTSTART;TZID=UTC:20250920T110000
DTEND;TZID=UTC:20250920T160000
DTSTAMP:20260424T001608
CREATED:20250908T185328Z
LAST-MODIFIED:20250908T185328Z
UID:11543-1758366000-1758384000@psalmfm.org
SUMMARY:Barwick Community Church Fall Festival
DESCRIPTION:Barwick Community Church is once again hosting a Fall Festival \nThis annual event is a great opportunity to bring out the whole family for carnival games\, FUN and great food too! \nEvery year it get bigger and better and everyone is welcome! \nThis year\, the Fall Festival will be on Saturday\, September 20\, 11:00am-4:00pm at the home of Iain & Chelsea McMillan\, 1480 Whiddon Rd in Devlin \nAdmission is free! All proceeds from concession sales\, pie auction and donations will go to Guatemala Outreach. \nFor more information\, call (807)486-1867
URL:https://psalmfm.org/event/barwick-community-church-fall-festival/
END:VEVENT
BEGIN:VEVENT
DTSTART;TZID=UTC:20250920T190000
DTEND;TZID=UTC:20250920T203000
DTSTAMP:20260424T001608
CREATED:20250902T212334Z
LAST-MODIFIED:20250902T212334Z
UID:11507-1758394800-1758400200@psalmfm.org
SUMMARY:Adult & Teen Challenge @ New Beginnings Fellowship
DESCRIPTION:Adult and Teen Challenge will be featured at New Beginnings Fellowship in Fort Frances on Saturday\, Sept. 20\, at 7 p.m. Please join them to hear powerful stories of freedom from addiction.
URL:https://psalmfm.org/event/adult-teen-challenge-new-beginnings-fellowship/
END:VEVENT
BEGIN:VEVENT
DTSTART;TZID=UTC:20250922T090000
DTEND;TZID=UTC:20250922T130000
DTSTAMP:20260424T001608
CREATED:20250905T191411Z
LAST-MODIFIED:20250905T191411Z
UID:11530-1758531600-1758546000@psalmfm.org
SUMMARY:Bloodmobile- Virginia
DESCRIPTION:Monday\, September 22\, 2025 \n09:00 am – 01:00 pm \nRock Ridge High School \n1403 Progress Pkwy\nParking Lot\nVirginia\, MN 55792 \nPrimary Blood Drive Coordinator: \nMary Rantala\nEmail: mary.rantala@rrps.org\nPhone: 218-735-3500
URL:https://psalmfm.org/event/bloodmobile-virginia-9/
END:VEVENT
BEGIN:VEVENT
DTSTART;TZID=UTC:20250925T120000
DTEND;TZID=UTC:20250925T140000
DTSTAMP:20260424T001608
CREATED:20250911T184911Z
LAST-MODIFIED:20250911T184911Z
UID:11567-1758801600-1758808800@psalmfm.org
SUMMARY:Dementia Lunch and Learn- The Pillars of Grand Rapids
DESCRIPTION:You’re invited to a no-cost educational program designed to empower and support people living with dementia and their caregivers. \nThursday\, September 25th from noon-2 at The Pillars of Grand Rapids\, located at 2060 SW 8th Street. \n  \nPlease contact Danielle at 218-999-9233 ext 282 to register for the event and virtual tour. Attending the tour is not required for participation in the class.
URL:https://psalmfm.org/event/dementia-lunch-and-learn-the-pillars-of-grand-rapids/
END:VEVENT
BEGIN:VEVENT
DTSTART;TZID=UTC:20250927T080000
DTEND;TZID=UTC:20250927T170000
DTSTAMP:20260424T001608
CREATED:20250821T152632Z
LAST-MODIFIED:20250821T152632Z
UID:11460-1758960000-1758992400@psalmfm.org
SUMMARY:Joel Vaughn & Presence Music Concert- Chisholm Assembly of God
DESCRIPTION:Joel Vaughn & Presence Music\, along with Brad and Bethani Monson will host a night of worship at Chisholm Assembly of God on Saturday\, September 27th at 6:30 PM. \nGo to presencemusicband.com/tour for more details.
URL:https://psalmfm.org/event/joel-vaughn-presence-music-concert-chisholm-assembly-of-god/
END:VEVENT
BEGIN:VEVENT
DTSTART;TZID=UTC:20250927T080000
DTEND;TZID=UTC:20250927T170000
DTSTAMP:20260424T001608
CREATED:20250902T212738Z
LAST-MODIFIED:20250902T212738Z
UID:11511-1758960000-1758992400@psalmfm.org
SUMMARY:Oak Hills Christian College Homecoming 2025
DESCRIPTION:Join Oak Hills Christian College for Homecoming 2025 on Saturday\, September 27th! Come spend a meaningful day on their beautiful campus—bring your family\, friends\, or come solo. Enjoy outdoor games and activities for all ages\, plus indoor workshops and panels including a Bible class with Dr. Struthers\, engaging discussions with the college president and current students\, hands-on crafts for every interest\, and much more. It’s a day of fellowship\, worship\, and discovery as they celebrate what God is doing in the lives of our students and the ongoing ministry of Oak Hills.
URL:https://psalmfm.org/event/oak-hills-christian-college-homecoming-2025/
END:VEVENT
BEGIN:VEVENT
DTSTART;TZID=UTC:20250927T090000
DTEND;TZID=UTC:20250927T120000
DTSTAMP:20260424T001608
CREATED:20250902T213013Z
LAST-MODIFIED:20250902T213013Z
UID:11513-1758963600-1758974400@psalmfm.org
SUMMARY:Oak Hills Christian College 5K Run/Walk
DESCRIPTION:Lace up your shoes and join Oak Hills Christian College for a scenic\, enjoyable and safe 5K run/walk on their beautiful campus in Bemidji on Saturday\, September 27th! Your participation helps provide scholarships for OHCC students—making a difference with every step. Register now at oakhills.edu/5k and take advantage of early bird discounts available through September 24th!
URL:https://psalmfm.org/event/oak-hills-christian-college-5k-run-walk/
END:VEVENT
BEGIN:VEVENT
DTSTART;TZID=UTC:20250927T183000
DTEND;TZID=UTC:20250927T203000
DTSTAMP:20260424T001608
CREATED:20250828T190705Z
LAST-MODIFIED:20250828T190705Z
UID:11483-1758997800-1759005000@psalmfm.org
SUMMARY:Night of Worship and Hope Concert- Chisholm Assembly
DESCRIPTION:There will be a Free Night of Worship and Hope Concert featuring Presence Music\, Joel Vaughn and Brad & Bethani Monson at Chisholm Assembly of God on Friday\, September 27th from 6:30-8:30.
URL:https://psalmfm.org/event/night-of-worship-and-hope-concert-chisholm-assembly/
END:VEVENT
BEGIN:VEVENT
DTSTART;TZID=UTC:20250928T183000
DTEND;TZID=UTC:20250928T203000
DTSTAMP:20260424T001608
CREATED:20250908T181355Z
LAST-MODIFIED:20250908T181355Z
UID:11541-1759084200-1759091400@psalmfm.org
SUMMARY:Joel Vaughn & Presence Music Concert- Ely
DESCRIPTION:Joel Vaughn & Presence Music will be hosting a free concert at the Historic State Theater in Ely on Saturday\, September 28 from 6:30-8:30 PM \nExperience two acclaimed artists on one remarkable stage in one of Minnesota’s most beautiful historic theaters. Go to presencemusicband.com for more information.
URL:https://psalmfm.org/event/joel-vaughn-presence-music-concert-ely/
END:VEVENT
BEGIN:VEVENT
DTSTART;TZID=UTC:20250929T100000
DTEND;TZID=UTC:20250929T163000
DTSTAMP:20260424T001608
CREATED:20250905T191236Z
LAST-MODIFIED:20250905T191236Z
UID:11526-1759140000-1759163400@psalmfm.org
SUMMARY:Bloodmobile- Aurora
DESCRIPTION:Monday\, September 29\, 2025 \n10:00 am – 04:30 pm \nWhite Community Hospital Foundation \n15 W. 1st Street N.\nCommunity Center\nAurora\, MN 55705 \nPrimary Blood Drive Coordinator: \nBob Rutka\nEmail: robertrutka@hotmail.com\nPhone: 218-368-1249
URL:https://psalmfm.org/event/bloodmobile-aurora-11/
END:VEVENT
BEGIN:VEVENT
DTSTART;TZID=UTC:20250930T093000
DTEND;TZID=UTC:20250930T160000
DTSTAMP:20260424T001608
CREATED:20250905T191056Z
LAST-MODIFIED:20250905T191056Z
UID:11522-1759224600-1759248000@psalmfm.org
SUMMARY:Bloodmobile- Grand Rapids
DESCRIPTION:Tuesday\, September 30\, 2025 \n09:30 am – 04:00 pm \nGrand Rapids High School \n800 Conifer Drive\nGrand Rapids\, MN 55744 \nPrimary Blood Drive Coordinator: \nKatie Thunshelle\nEmail: kthunshelle@isd318.org\nPhone: 218-327–5760 ext. 41521
URL:https://psalmfm.org/event/bloodmobile-grand-rapids-41/
END:VEVENT
END:VCALENDAR