BEGIN:VCALENDAR
VERSION:2.0
PRODID:-//PsalmFM - ECPv6.15.20//NONSGML v1.0//EN
CALSCALE:GREGORIAN
METHOD:PUBLISH
X-WR-CALNAME:PsalmFM
X-ORIGINAL-URL:https://psalmfm.org
X-WR-CALDESC:Events for PsalmFM
REFRESH-INTERVAL;VALUE=DURATION:PT1H
X-Robots-Tag:noindex
X-PUBLISHED-TTL:PT1H
BEGIN:VTIMEZONE
TZID:UTC
BEGIN:STANDARD
TZOFFSETFROM:+0000
TZOFFSETTO:+0000
TZNAME:UTC
DTSTART:20250101T000000
END:STANDARD
END:VTIMEZONE
BEGIN:VEVENT
DTSTART;TZID=UTC:20260112T090000
DTEND;TZID=UTC:20260112T163000
DTSTAMP:20260423T184152
CREATED:20260108T183228Z
LAST-MODIFIED:20260108T183228Z
UID:12367-1768208400-1768235400@psalmfm.org
SUMMARY:Bloodmobile- Grand Rapids
DESCRIPTION:Monday\, January 12\, 2026 \n09:00 am – 04:30 pm \nSt. Joseph’s Catholic Church \n315 SW 21st St\nGrand Rapids\, MN 55744 \nPrimary Blood Drive Coordinator: \nLaurie Lloyd\nEmail: dolloyd2@msn.com\nPhone: 218-360-4664
URL:https://psalmfm.org/event/bloodmobile-grand-rapids-47/
END:VEVENT
BEGIN:VEVENT
DTSTART;TZID=UTC:20260113T083000
DTEND;TZID=UTC:20260113T160000
DTSTAMP:20260423T184152
CREATED:20260108T183332Z
LAST-MODIFIED:20260108T183332Z
UID:12369-1768293000-1768320000@psalmfm.org
SUMMARY:Bloodmobile- Grand Rapids
DESCRIPTION:Tuesday\, January 13\, 2026 \n08:30 am – 04:00 pm \nYMCA \n400 River Rd\nGrand Rapids\, MN 55744 \nPrimary Blood Drive Coordinator: \nLori Whitted\nEmail: lori@eldercircle.org\nPhone: 218-999-9233 ext 278
URL:https://psalmfm.org/event/bloodmobile-grand-rapids-48/
END:VEVENT
BEGIN:VEVENT
DTSTART;TZID=UTC:20260115T090000
DTEND;TZID=UTC:20260115T130000
DTSTAMP:20260423T184152
CREATED:20260108T183402Z
LAST-MODIFIED:20260108T183402Z
UID:12371-1768467600-1768482000@psalmfm.org
SUMMARY:Bloodmobile- Grand Rapids
DESCRIPTION:Thursday\, January 15\, 2026 \n09:00 am – 01:00 pm \nKiesler Wellness Center \n3130 SE 2nd Avenue\nGrand Rapids\, MN 55744 \nPrimary Blood Drive Coordinator: \nHeidi Larson\nEmail: heidi.larson@northlandcounseling.org\nPhone: 218-812-8603
URL:https://psalmfm.org/event/bloodmobile-grand-rapids-49/
END:VEVENT
BEGIN:VEVENT
DTSTART;TZID=UTC:20260116T090000
DTEND;TZID=UTC:20260116T150000
DTSTAMP:20260423T184152
CREATED:20260108T183446Z
LAST-MODIFIED:20260108T183446Z
UID:12373-1768554000-1768575600@psalmfm.org
SUMMARY:Bloodmobile- Hibbing
DESCRIPTION:Friday\, January 16\, 2026 \n09:00 am – 03:00 pm \nHibbing High School \n800 East 21st Street\nHibbing\, MN 55746 \nPrimary Blood Drive Coordinator: \nEmily Erickson\nEmail: emileric@hibbing.k12.mn.us\nPhone: 218-208-0848
URL:https://psalmfm.org/event/bloodmobile-hibbing-6/
END:VEVENT
BEGIN:VEVENT
DTSTART;TZID=UTC:20260122T183000
DTEND;TZID=UTC:20260122T200000
DTSTAMP:20260423T184152
CREATED:20260109T192152Z
LAST-MODIFIED:20260109T192152Z
UID:12379-1769106600-1769112000@psalmfm.org
SUMMARY:Night of Worship Service- First Baptist Church of Cook
DESCRIPTION:Iron Range Renewal invites you to a Night of Worship on Thursday\, January 22nd from 6:30-8:00pm at the First Baptist Church in Cook\, located at 210 1st Ave NE. \nThe evening will be a meaningful time of worship through music and testimony as they gather to glorify God and encourage one another. \nPartnering with Celebrate Recovery \nThere will be dessert and fellowship following the service.
URL:https://psalmfm.org/event/night-of-worship-service-first-baptist-church-of-cook/
END:VEVENT
BEGIN:VEVENT
DTSTART;TZID=UTC:20260127T100000
DTEND;TZID=UTC:20260127T160000
DTSTAMP:20260423T184152
CREATED:20260108T183057Z
LAST-MODIFIED:20260108T183057Z
UID:12365-1769508000-1769529600@psalmfm.org
SUMMARY:Bloodmobile- Deer River
DESCRIPTION:Tuesday\, January 27\, 2026 \n10:00 am – 04:00 pm \nEssentia Clinic-Deer River \n115 10th Avenue NE\nDeer River\, MN 56636 \nPrimary Blood Drive Coordinator: \nMathias Salmela\nEmail: msalmela75@gmail.com\nPhone: 218-398-7293
URL:https://psalmfm.org/event/bloodmobile-deer-river-8/
END:VEVENT
BEGIN:VEVENT
DTSTART;TZID=UTC:20260128T100000
DTEND;TZID=UTC:20260128T143000
DTSTAMP:20260423T184152
CREATED:20260108T183024Z
LAST-MODIFIED:20260108T183024Z
UID:12363-1769594400-1769610600@psalmfm.org
SUMMARY:Bloodmobile- Bigfork
DESCRIPTION:Wednesday\, January 28\, 2026 \n10:00 am – 02:30 pm \nBigfork Valley Hospital \n258 Pine Tree Drive\nBigfork\, MN 56628 \nPrimary Blood Drive Coordinator: \nKyle Buckingham\nEmail: KBuckingham@bigforkvalley.org\nPhone: 218-743-4147
URL:https://psalmfm.org/event/bloodmobile-bigfork-2/
END:VEVENT
BEGIN:VEVENT
DTSTART;TZID=UTC:20260129T080000
DTEND;TZID=UTC:20260129T170000
DTSTAMP:20260423T184152
CREATED:20260122T181808Z
LAST-MODIFIED:20260129T172900Z
UID:12389-1769673600-1769706000@psalmfm.org
SUMMARY:Annual Point In Time Homeless Count- Koochiching County
DESCRIPTION:The Annual Point In Time (PIT) homeless count provides a snapshot of how many people are un-housed on a particular night in MN\, and we need your help to spread the word! \nResults from this count will help bring funds and services to our communities for our neighbors experiencing homelessness. These surveys also help them better understand the needs of our neighbors without stable housing so they can better educate our communities and provide services.The PIT Survey is for those who stay in one of the following places on the night of Wednesday\, January 28th Outdoors Couch hopping Car/vehicle Abandoned building/house without utilities An RV or camper without utilities Fish house\, storage\, or barn \nGo to one of the following locations in person to connect to resources and complete a survey: Koochiching County survey/resource locations – KOOTASCA\, 900 5th Street\, Suite 304 (Backus) and Servants of Shelter\, 1602 2nd Ave West\, both in International FallsYou can also contact them by email\, phone\, or text: email: crisishousing@kootasca.org Koochiching: Beth 218-244-3401 (call/text)
URL:https://psalmfm.org/event/annual-point-in-time-homeless-count-koochiching-county/
END:VEVENT
BEGIN:VEVENT
DTSTART;TZID=UTC:20260129T090000
DTEND;TZID=UTC:20260129T130000
DTSTAMP:20260423T184152
CREATED:20260108T183741Z
LAST-MODIFIED:20260108T183741Z
UID:12375-1769677200-1769691600@psalmfm.org
SUMMARY:Bloodmobile- Mt Iron
DESCRIPTION:Thursday\, January 29\, 2026 \n09:00 am – 01:00 pm \nMountain Iron Buhl High School \n5529 Emerald Ave.\nMountain Iron\, MN 55768 \nPrimary Blood Drive Coordinator: \nMaddy Johnson\nEmail: 26JohMad@isd712.org\nPhone: 218-735-8216
URL:https://psalmfm.org/event/bloodmobile-mt-iron-3/
END:VEVENT
BEGIN:VEVENT
DTSTART;TZID=UTC:20260130T090000
DTEND;TZID=UTC:20260130T140000
DTSTAMP:20260423T184152
CREATED:20260108T183815Z
LAST-MODIFIED:20260108T183815Z
UID:12377-1769763600-1769781600@psalmfm.org
SUMMARY:Bloodmobile- Aurora
DESCRIPTION:Friday\, January 30\, 2026 \n09:00 am – 02:00 pm \nAurora Community Center \n15 W. 1st Street N.\nAurora\, MN 55705 \nPrimary Blood Drive Coordinator: \nBob Rutka\nEmail: robertrutka@hotmail.com\nPhone: 218-368-1249
URL:https://psalmfm.org/event/bloodmobile-aurora-14/
END:VEVENT
BEGIN:VEVENT
DTSTART;TZID=UTC:20260130T090000
DTEND;TZID=UTC:20260201T210000
DTSTAMP:20260423T184152
CREATED:20260108T180044Z
LAST-MODIFIED:20260108T180044Z
UID:12360-1769763600-1769979600@psalmfm.org
SUMMARY:Prepared for the New Era- Equipping Kingdom Warriors- Atikokan
DESCRIPTION:Where: Atikokan Community Fellowship\, 410 Front Street\, Atikokan ON \nWhen: Friday thru Sunday January 30th-February 1st \nTimes: Friday Session- 7pm \nSaturday Sessions- 10am\, 2pm\, 7pm \nSunday Session- 10am \n  \nConference Speakers: Darlene Smith\, Sandra Jacobson\, Mary Lee Gens \nConference Worship leader: Gary Smith \n  \nContinental Breakfast served Saturday and Sunday at 9am \nLunch Served following morning sessions on Saturday and Sunday \n  \nFor more information contact Brad and Marilyn Ricci at 807-597-6469 or 807-598-0546 or email at bradacf@gmail.com \n 
URL:https://psalmfm.org/event/prepared-for-the-new-era-equipping-kingdom-warriors-atikokan/
END:VEVENT
END:VCALENDAR