BEGIN:VCALENDAR
VERSION:2.0
PRODID:-//PsalmFM - ECPv6.15.20//NONSGML v1.0//EN
CALSCALE:GREGORIAN
METHOD:PUBLISH
X-WR-CALNAME:PsalmFM
X-ORIGINAL-URL:https://psalmfm.org
X-WR-CALDESC:Events for PsalmFM
REFRESH-INTERVAL;VALUE=DURATION:PT1H
X-Robots-Tag:noindex
X-PUBLISHED-TTL:PT1H
BEGIN:VTIMEZONE
TZID:UTC
BEGIN:STANDARD
TZOFFSETFROM:+0000
TZOFFSETTO:+0000
TZNAME:UTC
DTSTART:20240101T000000
END:STANDARD
END:VTIMEZONE
BEGIN:VEVENT
DTSTART;TZID=UTC:20250605T103000
DTEND;TZID=UTC:20250605T163000
DTSTAMP:20260424T154936
CREATED:20250604T160739Z
LAST-MODIFIED:20250604T160739Z
UID:11141-1749119400-1749141000@psalmfm.org
SUMMARY:Bloodmobile-Deer River
DESCRIPTION:Thursday\, June 05\, 2025 \n10:30 am – 04:30 pm \nEssentia Clinic-Deer River \n115 10th Avenue NE\nDeer River\, MN 56636 \nPrimary Blood Drive Coordinator: \nMathias Salmela\nEmail: msalmela75@gmail.com\nPhone: 218-398-7293
URL:https://psalmfm.org/event/bloodmobile-deer-river-5/
END:VEVENT
END:VCALENDAR